Back to Multiple platform build/check report for BioC 3.14
A[B]CDEFGHIJKLMNOPQRSTUVWXYZ

This page was generated on 2021-10-25 14:05:33 -0400 (Mon, 25 Oct 2021).

BUILD results for biomaRt on nebbiolo2

To the developers/maintainers of the biomaRt package:
- Please allow up to 24 hours (and sometimes 48 hours) for your latest push to git@git.bioconductor.org:packages/biomaRt.git to
reflect on this report. See How and When does the builder pull? When will my changes propagate? here for more information.
- Make sure to use the following settings in order to reproduce any error or warning you see on this page.

raw results

Package 182/2083HostnameOS / ArchINSTALLBUILDCHECKBUILD BIN
biomaRt 2.49.7  (landing page)
Mike Smith
Snapshot Date: 2021-10-24 14:50:04 -0400 (Sun, 24 Oct 2021)
git_url: https://git.bioconductor.org/packages/biomaRt
git_branch: master
git_last_commit: e0b0a39
git_last_commit_date: 2021-10-19 08:54:33 -0400 (Tue, 19 Oct 2021)
nebbiolo2Linux (Ubuntu 20.04.2 LTS) / x86_64  OK    OK    OK  UNNEEDED, same version is already published
riesling1Windows Server 2019 Standard / x64  OK    OK    OK    OK  UNNEEDED, same version is already published
merida1macOS 10.14.6 Mojave / x86_64  OK    OK    OK    OK  UNNEEDED, same version is already published
machv2macOS 10.14.6 Mojave / x86_64  OK    OK    OK    OK  

Summary

Package: biomaRt
Version: 2.49.7
Command: /home/biocbuild/bbs-3.14-bioc/R/bin/R CMD build --keep-empty-dirs --no-resave-data biomaRt
StartedAt: 2021-10-24 16:49:52 -0400 (Sun, 24 Oct 2021)
EndedAt: 2021-10-24 16:55:13 -0400 (Sun, 24 Oct 2021)
EllapsedTime: 321.2 seconds
RetCode: 0
Status:   OK  
PackageFile: biomaRt_2.49.7.tar.gz
PackageFileSize: 649.9 KiB

Command output

##############################################################################
##############################################################################
###
### Running command:
###
###   /home/biocbuild/bbs-3.14-bioc/R/bin/R CMD build --keep-empty-dirs --no-resave-data biomaRt
###
##############################################################################
##############################################################################


* checking for file ‘biomaRt/DESCRIPTION’ ... OK
* preparing ‘biomaRt’:
* checking DESCRIPTION meta-information ... OK
* installing the package to build vignettes
* creating vignettes ... OK
* checking for LF line-endings in source and make files and shell scripts
* checking for empty or unneeded directories
* building ‘biomaRt_2.49.7.tar.gz’