Back to Multiple platform build/check report for BioC 3.14
A[B]CDEFGHIJKLMNOPQRSTUVWXYZ

This page was generated on 2021-12-03 13:05:40 -0500 (Fri, 03 Dec 2021).

BUILD BIN results for biomaRt on machv2

To the developers/maintainers of the biomaRt package:
- Please allow up to 24 hours (and sometimes 48 hours) for your latest push to git@git.bioconductor.org:packages/biomaRt.git to
reflect on this report. See How and When does the builder pull? When will my changes propagate? here for more information.
- Make sure to use the following settings in order to reproduce any error or warning you see on this page.

raw results

Package 182/2083HostnameOS / ArchINSTALLBUILDCHECKBUILD BIN
biomaRt 2.50.1  (landing page)
Mike Smith
Snapshot Date: 2021-12-02 01:55:06 -0500 (Thu, 02 Dec 2021)
git_url: https://git.bioconductor.org/packages/biomaRt
git_branch: RELEASE_3_14
git_last_commit: d0de544
git_last_commit_date: 2021-11-19 02:30:11 -0500 (Fri, 19 Nov 2021)
nebbiolo2Linux (Ubuntu 20.04.3 LTS) / x86_64  OK    OK    OK  UNNEEDED, same version is already published
tokay2Windows Server 2012 R2 Standard / x64  OK    OK    OK    OK  UNNEEDED, same version is already published
machv2macOS 10.14.6 Mojave / x86_64  OK    OK    OK    OK  UNNEEDED, same version is already published

Summary

Package: biomaRt
Version: 2.50.1
Command: rm -rf biomaRt.buildbin-libdir && mkdir biomaRt.buildbin-libdir && /Users/biocbuild/BBS/utils/build-universal.sh biomaRt_2.50.1.tar.gz /Library/Frameworks/R.framework/Resources/bin/R biomaRt.buildbin-libdir
StartedAt: 2021-12-02 21:20:50 -0500 (Thu, 02 Dec 2021)
EndedAt: 2021-12-02 21:22:05 -0500 (Thu, 02 Dec 2021)
EllapsedTime: 74.7 seconds
RetCode: 0
Status:   OK  
PackageFile: biomaRt_2.50.1.tgz
PackageFileSize: 912 KiB

Command output

##############################################################################
##############################################################################
###
### Running command:
###
###   rm -rf biomaRt.buildbin-libdir && mkdir biomaRt.buildbin-libdir && /Users/biocbuild/BBS/utils/build-universal.sh biomaRt_2.50.1.tar.gz /Library/Frameworks/R.framework/Resources/bin/R biomaRt.buildbin-libdir
###
##############################################################################
##############################################################################


>>>>>>> 
>>>>>>> INSTALLATION WITH 'R CMD INSTALL --preclean --no-multiarch --library=biomaRt.buildbin-libdir biomaRt_2.50.1.tar.gz'
>>>>>>> 

* installing *source* package ‘biomaRt’ ...
** using staged installation
** R
** inst
** byte-compile and prepare package for lazy loading
** help
*** installing help indices
** building package indices
** installing vignettes
** testing if installed package can be loaded from temporary location
** testing if installed package can be loaded from final location
** testing if installed package keeps a record of temporary installation path
* DONE (biomaRt)