Back to Multiple platform build/check report for BioC 3.14
A[B]CDEFGHIJKLMNOPQRSTUVWXYZ

This page was generated on 2022-01-17 13:04:51 -0500 (Mon, 17 Jan 2022).

HostnameOSArch (*)R versionInstalled pkgs
nebbiolo2Linux (Ubuntu 20.04.4 LTS)x86_644.1.2 (2021-11-01) -- "Bird Hippie" 4328
tokay2Windows Server 2012 R2 Standardx644.1.2 (2021-11-01) -- "Bird Hippie" 4077
machv2macOS 10.14.6 Mojavex86_644.1.2 (2021-11-01) -- "Bird Hippie" 4138
Click on any hostname to see more info about the system (e.g. compilers)      (*) as reported by 'uname -p', except on Windows and Mac OS X

BUILD results for biodbLipidmaps on nebbiolo2


To the developers/maintainers of the biodbLipidmaps package:
- Please allow up to 24 hours (and sometimes 48 hours) for your latest push to git@git.bioconductor.org:packages/biodbLipidmaps.git to
reflect on this report. See How and When does the builder pull? When will my changes propagate? here for more information.
- Make sure to use the following settings in order to reproduce any error or warning you see on this page.

raw results

Package 179/2083HostnameOS / ArchINSTALLBUILDCHECKBUILD BIN
biodbLipidmaps 1.0.1  (landing page)
Pierrick Roger
Snapshot Date: 2022-01-16 01:55:05 -0500 (Sun, 16 Jan 2022)
git_url: https://git.bioconductor.org/packages/biodbLipidmaps
git_branch: RELEASE_3_14
git_last_commit: bda9e29
git_last_commit_date: 2021-10-27 16:13:11 -0500 (Wed, 27 Oct 2021)
nebbiolo2Linux (Ubuntu 20.04.4 LTS) / x86_64  OK    OK    OK  UNNEEDED, same version is already published
tokay2Windows Server 2012 R2 Standard / x64  OK    OK    OK    OK  UNNEEDED, same version is already published
machv2macOS 10.14.6 Mojave / x86_64  OK    OK    OK    OK  UNNEEDED, same version is already published

Summary

Package: biodbLipidmaps
Version: 1.0.1
Command: /home/biocbuild/bbs-3.14-bioc/R/bin/R CMD build --keep-empty-dirs --no-resave-data biodbLipidmaps
StartedAt: 2022-01-16 04:08:45 -0500 (Sun, 16 Jan 2022)
EndedAt: 2022-01-16 04:09:17 -0500 (Sun, 16 Jan 2022)
EllapsedTime: 31.6 seconds
RetCode: 0
Status:   OK  
PackageFile: biodbLipidmaps_1.0.1.tar.gz
PackageFileSize: 289.3 KiB

Command output

##############################################################################
##############################################################################
###
### Running command:
###
###   /home/biocbuild/bbs-3.14-bioc/R/bin/R CMD build --keep-empty-dirs --no-resave-data biodbLipidmaps
###
##############################################################################
##############################################################################


* checking for file ‘biodbLipidmaps/DESCRIPTION’ ... OK
* preparing ‘biodbLipidmaps’:
* checking DESCRIPTION meta-information ... OK
* installing the package to build vignettes
* creating vignettes ... OK
* checking for LF line-endings in source and make files and shell scripts
* checking for empty or unneeded directories
* building ‘biodbLipidmaps_1.0.1.tar.gz’