Back to Multiple platform build/check report for BioC 3.14
A[B]CDEFGHIJKLMNOPQRSTUVWXYZ

This page was generated on 2021-10-26 14:06:53 -0400 (Tue, 26 Oct 2021).

CHECK results for biodb on riesling1

To the developers/maintainers of the biodb package:
- Please allow up to 24 hours (and sometimes 48 hours) for your latest push to git@git.bioconductor.org:packages/biodb.git to
reflect on this report. See How and When does the builder pull? When will my changes propagate? here for more information.
- Make sure to use the following settings in order to reproduce any error or warning you see on this page.

raw results

Package 175/2083HostnameOS / ArchINSTALLBUILDCHECKBUILD BIN
biodb 1.1.16  (landing page)
Pierrick Roger
Snapshot Date: 2021-10-25 14:50:11 -0400 (Mon, 25 Oct 2021)
git_url: https://git.bioconductor.org/packages/biodb
git_branch: master
git_last_commit: c231763
git_last_commit_date: 2021-10-19 06:21:44 -0400 (Tue, 19 Oct 2021)
nebbiolo2Linux (Ubuntu 20.04.2 LTS) / x86_64  OK    OK    OK  UNNEEDED, same version is already published
riesling1Windows Server 2019 Standard / x64  OK    OK    OK    OK  UNNEEDED, same version is already published
merida1macOS 10.14.6 Mojave / x86_64  OK    OK    OK    OK  UNNEEDED, same version is already published
machv2macOS 10.14.6 Mojave / x86_64  OK    OK    OK    OK  

Summary

Package: biodb
Version: 1.1.16
Command: D:\biocbuild\bbs-3.14-bioc\R\bin\R.exe CMD check --force-multiarch --install=check:biodb.install-out.txt --library=D:\biocbuild\bbs-3.14-bioc\R\library --no-vignettes --timings biodb_1.1.16.tar.gz
StartedAt: 2021-10-26 00:32:36 -0400 (Tue, 26 Oct 2021)
EndedAt: 2021-10-26 00:39:21 -0400 (Tue, 26 Oct 2021)
EllapsedTime: 405.0 seconds
RetCode: 0
Status:   OK  
CheckDir: biodb.Rcheck
Warnings: 0

Command output

##############################################################################
##############################################################################
###
### Running command:
###
###   D:\biocbuild\bbs-3.14-bioc\R\bin\R.exe CMD check --force-multiarch --install=check:biodb.install-out.txt --library=D:\biocbuild\bbs-3.14-bioc\R\library --no-vignettes --timings biodb_1.1.16.tar.gz
###
##############################################################################
##############################################################################


* using log directory 'D:/biocbuild/bbs-3.14-bioc/meat/biodb.Rcheck'
* using R version 4.1.1 (2021-08-10)
* using platform: x86_64-w64-mingw32 (64-bit)
* using session charset: ISO8859-1
* using option '--no-vignettes'
* checking for file 'biodb/DESCRIPTION' ... OK
* this is package 'biodb' version '1.1.16'
* package encoding: UTF-8
* checking package namespace information ... OK
* checking package dependencies ... OK
* checking if this is a source package ... OK
* checking if there is a namespace ... OK
* checking for hidden files and directories ... OK
* checking for portable file names ... OK
* checking whether package 'biodb' can be installed ... OK
* checking installed package size ... NOTE
  installed size is  7.3Mb
  sub-directories of 1Mb or more:
    R      2.1Mb
    libs   2.7Mb
* checking package directory ... OK
* checking DESCRIPTION meta-information ... OK
* checking top-level files ... OK
* checking for left-over files ... OK
* checking index information ... OK
* checking package subdirectories ... OK
* checking R files for non-ASCII characters ... OK
* checking R files for syntax errors ... OK
* loading checks for arch 'i386'
** checking whether the package can be loaded ... OK
** checking whether the package can be loaded with stated dependencies ... OK
** checking whether the package can be unloaded cleanly ... OK
** checking whether the namespace can be loaded with stated dependencies ... OK
** checking whether the namespace can be unloaded cleanly ... OK
* loading checks for arch 'x64'
** checking whether the package can be loaded ... OK
** checking whether the package can be loaded with stated dependencies ... OK
** checking whether the package can be unloaded cleanly ... OK
** checking whether the namespace can be loaded with stated dependencies ... OK
** checking whether the namespace can be unloaded cleanly ... OK
* checking dependencies in R code ... OK
* checking S3 generic/method consistency ... OK
* checking replacement functions ... OK
* checking foreign function calls ... OK
* checking R code for possible problems ... OK
* checking Rd files ... OK
* checking Rd metadata ... OK
* checking Rd cross-references ... OK
* checking for missing documentation entries ... OK
* checking for code/documentation mismatches ... OK
* checking Rd \usage sections ... OK
* checking Rd contents ... OK
* checking for unstated dependencies in examples ... OK
* checking line endings in C/C++/Fortran sources/headers ... OK
* checking compiled code ... NOTE
Note: information on .o files for i386 is not available
Note: information on .o files for x64 is not available
File 'D:/biocbuild/bbs-3.14-bioc/R/library/biodb/libs/i386/biodb.dll':
  Found 'abort', possibly from 'abort' (C), 'runtime' (Fortran)
  Found 'exit', possibly from 'exit' (C), 'stop' (Fortran)
  Found 'printf', possibly from 'printf' (C)
File 'D:/biocbuild/bbs-3.14-bioc/R/library/biodb/libs/x64/biodb.dll':
  Found 'abort', possibly from 'abort' (C), 'runtime' (Fortran)
  Found 'exit', possibly from 'exit' (C), 'stop' (Fortran)
  Found 'printf', possibly from 'printf' (C)

Compiled code should not call entry points which might terminate R nor
write to stdout/stderr instead of to the console, nor use Fortran I/O
nor system RNGs. The detected symbols are linked into the code but
might come from libraries and not actually be called.

See 'Writing portable packages' in the 'Writing R Extensions' manual.
* checking files in 'vignettes' ... OK
* checking examples ...
** running examples for arch 'i386' ... OK
** running examples for arch 'x64' ... OK
* checking for unstated dependencies in 'tests' ... OK
* checking tests ...
** running tests for arch 'i386' ...
  Running 'testthat.R'
 OK
** running tests for arch 'x64' ...
  Running 'testthat.R'
 OK
* checking for unstated dependencies in vignettes ... OK
* checking package vignettes in 'inst/doc' ... OK
* checking running R code from vignettes ... SKIPPED
* checking re-building of vignette outputs ... SKIPPED
* checking PDF version of manual ... OK
* DONE

Status: 2 NOTEs
See
  'D:/biocbuild/bbs-3.14-bioc/meat/biodb.Rcheck/00check.log'
for details.



Installation output

biodb.Rcheck/00install.out

##############################################################################
##############################################################################
###
### Running command:
###
###   C:\cygwin\bin\curl.exe -O http://155.52.207.166/BBS/3.14/bioc/src/contrib/biodb_1.1.16.tar.gz && rm -rf biodb.buildbin-libdir && mkdir biodb.buildbin-libdir && D:\biocbuild\bbs-3.14-bioc\R\bin\R.exe CMD INSTALL --merge-multiarch --build --library=biodb.buildbin-libdir biodb_1.1.16.tar.gz && D:\biocbuild\bbs-3.14-bioc\R\bin\R.exe CMD INSTALL biodb_1.1.16.zip && rm biodb_1.1.16.tar.gz biodb_1.1.16.zip
###
##############################################################################
##############################################################################


  % Total    % Received % Xferd  Average Speed   Time    Time     Time  Current
                                 Dload  Upload   Total   Spent    Left  Speed

  0     0    0     0    0     0      0      0 --:--:-- --:--:-- --:--:--     0
100 2665k  100 2665k    0     0  3290k      0 --:--:-- --:--:-- --:--:-- 3290k

install for i386

* installing *source* package 'biodb' ...
** using staged installation
** libs
"C:/rtools40/mingw32/bin/"g++ -std=gnu++11  -I"D:/biocbuild/bbs-3.14-bioc/R/include" -DNDEBUG  -I'D:/biocbuild/bbs-3.14-bioc/R/library/Rcpp/include' -I'D:/biocbuild/bbs-3.14-bioc/R/library/testthat/include'   -I"C:/extsoft/include"     -O2 -Wall  -mfpmath=sse -msse2 -mstackrealign  -c RcppExports.cpp -o RcppExports.o
"C:/rtools40/mingw32/bin/"g++ -std=gnu++11  -I"D:/biocbuild/bbs-3.14-bioc/R/include" -DNDEBUG  -I'D:/biocbuild/bbs-3.14-bioc/R/library/Rcpp/include' -I'D:/biocbuild/bbs-3.14-bioc/R/library/testthat/include'   -I"C:/extsoft/include"     -O2 -Wall  -mfpmath=sse -msse2 -mstackrealign  -c closeMatchPpm.cpp -o closeMatchPpm.o
"C:/rtools40/mingw32/bin/"g++ -std=gnu++11  -I"D:/biocbuild/bbs-3.14-bioc/R/include" -DNDEBUG  -I'D:/biocbuild/bbs-3.14-bioc/R/library/Rcpp/include' -I'D:/biocbuild/bbs-3.14-bioc/R/library/testthat/include'   -I"C:/extsoft/include"     -O2 -Wall  -mfpmath=sse -msse2 -mstackrealign  -c test-100-ms_matching.cpp -o test-100-ms_matching.o
"C:/rtools40/mingw32/bin/"g++ -std=gnu++11  -I"D:/biocbuild/bbs-3.14-bioc/R/include" -DNDEBUG  -I'D:/biocbuild/bbs-3.14-bioc/R/library/Rcpp/include' -I'D:/biocbuild/bbs-3.14-bioc/R/library/testthat/include'   -I"C:/extsoft/include"     -O2 -Wall  -mfpmath=sse -msse2 -mstackrealign  -c test-runner.cpp -o test-runner.o
In file included from D:/biocbuild/bbs-3.14-bioc/R/library/testthat/include/testthat.h:1,
                 from test-runner.cpp:7:
D:/biocbuild/bbs-3.14-bioc/R/library/testthat/include/testthat/testthat.h: In function 'std::ostream& Catch::cout()':
D:/biocbuild/bbs-3.14-bioc/R/library/testthat/include/testthat/testthat.h:145:1: warning: visibility attribute not supported in this configuration; ignored [-Wattributes]
 }
 ^
D:/biocbuild/bbs-3.14-bioc/R/library/testthat/include/testthat/testthat.h: In function 'std::ostream& Catch::cerr()':
D:/biocbuild/bbs-3.14-bioc/R/library/testthat/include/testthat/testthat.h:152:1: warning: visibility attribute not supported in this configuration; ignored [-Wattributes]
 }
 ^
C:/rtools40/mingw32/bin/g++ -std=gnu++11 -shared -s -static-libgcc -o biodb.dll tmp.def RcppExports.o closeMatchPpm.o test-100-ms_matching.o test-runner.o -LC:/extsoft/lib/i386 -LC:/extsoft/lib -LD:/biocbuild/bbs-3.14-bioc/R/bin/i386 -lR
installing to D:/biocbuild/bbs-3.14-bioc/meat/biodb.buildbin-libdir/00LOCK-biodb/00new/biodb/libs/i386
** R
** inst
** byte-compile and prepare package for lazy loading
** help
*** installing help indices
  converting help for package 'biodb'
    finding HTML links ... done
    BiodbBiocPersistentCache                html  
    BiodbConfig                             html  
    BiodbConn                               html  
    BiodbConnBase                           html  
    BiodbCsvEntry                           html  
    BiodbCustomPersistentCache              html  
    BiodbDbInfo                             html  
    BiodbDbsInfo                            html  
    BiodbEntry                              html  
    BiodbEntryField                         html  
    BiodbEntryFields                        html  
    BiodbFactory                            html  
    BiodbHtmlEntry                          html  
    BiodbJsonEntry                          html  
    BiodbListEntry                          html  
    BiodbMain                               html  
    BiodbPersistentCache                    html  
    BiodbRequest                            html  
    BiodbRequestScheduler                   html  
    BiodbRequestSchedulerRule               html  
    BiodbSdfEntry                           html  
    BiodbSqlBinaryOp                        html  
    BiodbSqlExpr                            html  
    BiodbSqlField                           html  
    BiodbSqlList                            html  
    BiodbSqlLogicalOp                       html  
    BiodbSqlQuery                           html  
    BiodbSqlValue                           html  
    BiodbTestMsgAck                         html  
    BiodbTxtEntry                           html  
    BiodbUrl                                html  
    BiodbXmlEntry                           html  
    CompCsvFileConn                         html  
    CompCsvFileEntry                        html  
    CompSqliteConn                          html  
    CompSqliteEntry                         html  
    CsvFileConn                             html  
    ExtConnClass                            html  
    ExtCpp                                  html  
    ExtDefinitions                          html  
    ExtDescriptionFile                      html  
    ExtEntryClass                           html  
    ExtFileGenerator                        html  
    ExtGenerator                            html  
    ExtGitignore                            html  
    ExtLicense                              html  
    ExtMakefile                             html  
    ExtPackage                              html  
    ExtPackageFile                          html  
    ExtRbuildignore                         html  
    ExtReadme                               html  
    ExtTests                                html  
    ExtTravisFile                           html  
    ExtVignette                             html  
    FileTemplate                            html  
    MassCsvFileConn                         html  
    MassCsvFileEntry                        html  
    MassSqliteConn                          html  
    MassSqliteEntry                         html  
    Progress                                html  
    Range                                   html  
    RequestResult                           html  
    SqliteConn                              html  
    TestRefEntries                          html  
    abstractClass                           html  
    abstractMethod                          html  
    biodb-package                           html  
    checkDeprecatedCacheFolders             html  
    closeMatchPpm                           html  
    connNameToClassPrefix                   html  
    createBiodbTestInstance                 html  
    df2str                                  html  
    doesRCurlRequestUrlExist                html  
    error                                   html  
    error0                                  html  
    genNewExtPkg                            html  
    getBaseUrlContent                       html  
    getBaseUrlRequestResult                 html  
    getConnClassName                        html  
    getConnTypes                            html  
    getDefaultCacheDir                      html  
    getEntryClassName                       html  
    getEntryTypes                           html  
    getLicenses                             html  
    getLogger                               html  
    getPkgName                              html  
    getRCurlContent                         html  
    getRCurlRequestResult                   html  
    getReposName                            html  
    getTestOutputDir                        html  
    getUrlContent                           html  
    getUrlRequestResult                     html  
    listTestRefEntries                      html  
    loadFileContents                        html  
    logDebug                                html  
    logDebug0                               html  
    logInfo                                 html  
    logInfo0                                html  
    logTrace                                html  
    logTrace0                               html  
    lst2str                                 html  
    makeRCurlOptions                        html  
    newInst                                 html  
    prepareFileContents                     html  
    runGenericTests                         html  
    saveContentsToFiles                     html  
    testContext                             html  
    testThat                                html  
    upgradeExtPkg                           html  
    warn                                    html  
    warn0                                   html  
** building package indices
** installing vignettes
** testing if installed package can be loaded from temporary location
** testing if installed package can be loaded from final location
** testing if installed package keeps a record of temporary installation path

install for x64

* installing *source* package 'biodb' ...
** libs
"C:/rtools40/mingw64/bin/"g++ -std=gnu++11  -I"D:/biocbuild/bbs-3.14-bioc/R/include" -DNDEBUG  -I'D:/biocbuild/bbs-3.14-bioc/R/library/Rcpp/include' -I'D:/biocbuild/bbs-3.14-bioc/R/library/testthat/include'   -I"C:/extsoft/include"     -O2 -Wall  -mfpmath=sse -msse2 -mstackrealign  -c RcppExports.cpp -o RcppExports.o
"C:/rtools40/mingw64/bin/"g++ -std=gnu++11  -I"D:/biocbuild/bbs-3.14-bioc/R/include" -DNDEBUG  -I'D:/biocbuild/bbs-3.14-bioc/R/library/Rcpp/include' -I'D:/biocbuild/bbs-3.14-bioc/R/library/testthat/include'   -I"C:/extsoft/include"     -O2 -Wall  -mfpmath=sse -msse2 -mstackrealign  -c closeMatchPpm.cpp -o closeMatchPpm.o
"C:/rtools40/mingw64/bin/"g++ -std=gnu++11  -I"D:/biocbuild/bbs-3.14-bioc/R/include" -DNDEBUG  -I'D:/biocbuild/bbs-3.14-bioc/R/library/Rcpp/include' -I'D:/biocbuild/bbs-3.14-bioc/R/library/testthat/include'   -I"C:/extsoft/include"     -O2 -Wall  -mfpmath=sse -msse2 -mstackrealign  -c test-100-ms_matching.cpp -o test-100-ms_matching.o
"C:/rtools40/mingw64/bin/"g++ -std=gnu++11  -I"D:/biocbuild/bbs-3.14-bioc/R/include" -DNDEBUG  -I'D:/biocbuild/bbs-3.14-bioc/R/library/Rcpp/include' -I'D:/biocbuild/bbs-3.14-bioc/R/library/testthat/include'   -I"C:/extsoft/include"     -O2 -Wall  -mfpmath=sse -msse2 -mstackrealign  -c test-runner.cpp -o test-runner.o
In file included from D:/biocbuild/bbs-3.14-bioc/R/library/testthat/include/testthat.h:1,
                 from test-runner.cpp:7:
D:/biocbuild/bbs-3.14-bioc/R/library/testthat/include/testthat/testthat.h: In function 'std::ostream& Catch::cout()':
D:/biocbuild/bbs-3.14-bioc/R/library/testthat/include/testthat/testthat.h:145:1: warning: visibility attribute not supported in this configuration; ignored [-Wattributes]
 }
 ^
D:/biocbuild/bbs-3.14-bioc/R/library/testthat/include/testthat/testthat.h: In function 'std::ostream& Catch::cerr()':
D:/biocbuild/bbs-3.14-bioc/R/library/testthat/include/testthat/testthat.h:152:1: warning: visibility attribute not supported in this configuration; ignored [-Wattributes]
 }
 ^
C:/rtools40/mingw64/bin/g++ -std=gnu++11 -shared -s -static-libgcc -o biodb.dll tmp.def RcppExports.o closeMatchPpm.o test-100-ms_matching.o test-runner.o -LC:/extsoft/lib/x64 -LC:/extsoft/lib -LD:/biocbuild/bbs-3.14-bioc/R/bin/x64 -lR
installing to D:/biocbuild/bbs-3.14-bioc/meat/biodb.buildbin-libdir/biodb/libs/x64
** testing if installed package can be loaded
* MD5 sums
packaged installation of 'biodb' as biodb_1.1.16.zip
* DONE (biodb)
* installing to library 'D:/biocbuild/bbs-3.14-bioc/R/library'
package 'biodb' successfully unpacked and MD5 sums checked

Tests output

biodb.Rcheck/tests_i386/testthat.Rout


R version 4.1.1 (2021-08-10) -- "Kick Things"
Copyright (C) 2021 The R Foundation for Statistical Computing
Platform: i386-w64-mingw32/i386 (32-bit)

R is free software and comes with ABSOLUTELY NO WARRANTY.
You are welcome to redistribute it under certain conditions.
Type 'license()' or 'licence()' for distribution details.

R is a collaborative project with many contributors.
Type 'contributors()' for more information and
'citation()' on how to cite R or R packages in publications.

Type 'demo()' for some demos, 'help()' for on-line help, or
'help.start()' for an HTML browser interface to help.
Type 'q()' to quit R.

> # vi: fdm=marker
> # Script needed to run testthat automatically from ‘R CMD check’. See
> # testthat::test_dir documentation.
> library(testthat)
> library(biodb)
> Sys.setenv(TESTTHAT_REPORTER="summary")
> test_check("biodb")
[ FAIL 0 | WARN 0 | SKIP 0 | PASS 1493 ]
> 
> proc.time()
   user  system elapsed 
  86.07    6.89  109.18 

biodb.Rcheck/tests_x64/testthat.Rout


R version 4.1.1 (2021-08-10) -- "Kick Things"
Copyright (C) 2021 The R Foundation for Statistical Computing
Platform: x86_64-w64-mingw32/x64 (64-bit)

R is free software and comes with ABSOLUTELY NO WARRANTY.
You are welcome to redistribute it under certain conditions.
Type 'license()' or 'licence()' for distribution details.

R is a collaborative project with many contributors.
Type 'contributors()' for more information and
'citation()' on how to cite R or R packages in publications.

Type 'demo()' for some demos, 'help()' for on-line help, or
'help.start()' for an HTML browser interface to help.
Type 'q()' to quit R.

> # vi: fdm=marker
> # Script needed to run testthat automatically from ‘R CMD check’. See
> # testthat::test_dir documentation.
> library(testthat)
> library(biodb)
> Sys.setenv(TESTTHAT_REPORTER="summary")
> test_check("biodb")
[ FAIL 0 | WARN 0 | SKIP 0 | PASS 1493 ]
> 
> proc.time()
   user  system elapsed 
  91.48    7.39  117.31 

Example timings

biodb.Rcheck/examples_i386/biodb-Ex.timings

nameusersystemelapsed
BiodbConfig1.640.812.45
BiodbConn0.340.020.36
BiodbConnBase0.270.000.26
BiodbCsvEntry000
BiodbDbInfo0.280.000.28
BiodbDbsInfo0.280.000.28
BiodbEntry0.530.030.56
BiodbEntryField0.270.020.28
BiodbEntryFields0.260.000.27
BiodbFactory0.340.020.36
BiodbHtmlEntry000
BiodbJsonEntry000
BiodbListEntry000
BiodbMain0.330.000.33
BiodbPersistentCache1.110.001.17
BiodbRequest0.830.071.87
BiodbRequestScheduler0.450.001.47
BiodbSdfEntry000
BiodbTestMsgAck0.250.020.27
BiodbTxtEntry000
BiodbUrl0.020.000.01
BiodbXmlEntry000
CompCsvFileConn0.420.000.43
CompCsvFileEntry0.330.000.32
CompSqliteConn0.340.000.35
CompSqliteEntry0.350.000.34
CsvFileConn0.420.000.42
ExtConnClass0.140.010.16
ExtCpp0.250.000.25
ExtDefinitions0.060.020.08
ExtDescriptionFile0.030.000.03
ExtEntryClass0.070.000.08
ExtFileGenerator0.040.000.04
ExtGenerator1.380.001.44
ExtGitignore0.030.000.03
ExtLicense0.100.020.11
ExtMakefile0.110.010.12
ExtPackage1.420.021.44
ExtPackageFile0.050.000.05
ExtRbuildignore0.040.010.11
ExtReadme0.050.000.04
ExtTests0.480.020.53
ExtTravisFile0.050.000.05
ExtVignette0.050.000.05
MassCsvFileConn0.540.000.55
MassCsvFileEntry0.50.00.5
MassSqliteConn0.270.010.28
MassSqliteEntry0.300.000.29
Progress000
Range0.030.000.03
SqliteConn0.30.00.3
TestRefEntries0.010.000.02
checkDeprecatedCacheFolders000
createBiodbTestInstance0.110.000.11
df2str000
error000
error0000
genNewExtPkg1.310.021.33
getConnClassName000
getConnTypes000
getDefaultCacheDir000
getEntryClassName000
getEntryTypes000
getLicenses000
getLogger000
getPkgName000
getReposName000
getTestOutputDir000
listTestRefEntries0.020.000.02
logDebug000
logDebug0000
logInfo000
logInfo0000
logTrace000
logTrace0000
lst2str000
newInst0.260.000.26
runGenericTests0.130.000.13
testContext0.330.010.34
testThat0.180.000.19
upgradeExtPkg1.360.021.37
warn000
warn0000

biodb.Rcheck/examples_x64/biodb-Ex.timings

nameusersystemelapsed
BiodbConfig1.410.782.19
BiodbConn0.360.000.36
BiodbConnBase0.250.000.25
BiodbCsvEntry0.020.000.02
BiodbDbInfo0.280.000.28
BiodbDbsInfo0.260.000.26
BiodbEntry0.530.000.53
BiodbEntryField0.270.000.27
BiodbEntryFields0.270.000.27
BiodbFactory0.340.000.34
BiodbHtmlEntry000
BiodbJsonEntry000
BiodbListEntry000
BiodbMain0.260.000.26
BiodbPersistentCache0.970.000.97
BiodbRequest0.510.201.84
BiodbRequestScheduler0.360.031.38
BiodbSdfEntry000
BiodbTestMsgAck0.160.000.15
BiodbTxtEntry000
BiodbUrl000
BiodbXmlEntry000
CompCsvFileConn0.310.000.32
CompCsvFileEntry0.300.020.31
CompSqliteConn0.330.000.33
CompSqliteEntry0.330.000.33
CsvFileConn0.370.000.37
ExtConnClass0.110.010.12
ExtCpp0.230.000.24
ExtDefinitions0.060.000.06
ExtDescriptionFile0.050.000.04
ExtEntryClass0.060.000.07
ExtFileGenerator0.050.000.04
ExtGenerator1.160.021.21
ExtGitignore0.040.000.04
ExtLicense0.080.000.08
ExtMakefile0.110.000.11
ExtPackage1.370.061.44
ExtPackageFile0.040.020.05
ExtRbuildignore0.040.000.04
ExtReadme0.030.000.03
ExtTests0.440.010.46
ExtTravisFile0.050.000.04
ExtVignette0.030.000.04
MassCsvFileConn0.400.000.41
MassCsvFileEntry0.420.000.42
MassSqliteConn0.280.000.28
MassSqliteEntry0.270.000.27
Progress000
Range0.030.000.03
SqliteConn0.280.000.28
TestRefEntries0.020.000.01
checkDeprecatedCacheFolders000
createBiodbTestInstance0.090.020.11
df2str000
error000
error0000
genNewExtPkg1.110.041.18
getConnClassName000
getConnTypes000
getDefaultCacheDir000
getEntryClassName000
getEntryTypes000
getLicenses000
getLogger000
getPkgName000
getReposName000
getTestOutputDir000
listTestRefEntries0.010.000.02
logDebug000
logDebug0000
logInfo000
logInfo0000
logTrace000
logTrace0000
lst2str000
newInst0.240.020.25
runGenericTests0.120.000.12
testContext0.350.000.35
testThat0.180.000.18
upgradeExtPkg1.280.091.38
warn000
warn0000