Back to Multiple platform build/check report for BioC 3.14
A[B]CDEFGHIJKLMNOPQRSTUVWXYZ

This page was generated on 2021-10-23 14:06:53 -0400 (Sat, 23 Oct 2021).

BUILD results for biodb on merida1

To the developers/maintainers of the biodb package:
- Please allow up to 24 hours (and sometimes 48 hours) for your latest push to git@git.bioconductor.org:packages/biodb.git to
reflect on this report. See How and When does the builder pull? When will my changes propagate? here for more information.
- Make sure to use the following settings in order to reproduce any error or warning you see on this page.

raw results

Package 175/2083HostnameOS / ArchINSTALLBUILDCHECKBUILD BIN
biodb 1.1.16  (landing page)
Pierrick Roger
Snapshot Date: 2021-10-22 14:50:11 -0400 (Fri, 22 Oct 2021)
git_url: https://git.bioconductor.org/packages/biodb
git_branch: master
git_last_commit: c231763
git_last_commit_date: 2021-10-19 06:21:44 -0400 (Tue, 19 Oct 2021)
nebbiolo2Linux (Ubuntu 20.04.2 LTS) / x86_64  OK    OK    OK  UNNEEDED, same version is already published
riesling1Windows Server 2019 Standard / x64  OK    OK    OK    OK  UNNEEDED, same version is already published
merida1macOS 10.14.6 Mojave / x86_64  OK    OK    OK    OK  UNNEEDED, same version is already published

Summary

Package: biodb
Version: 1.1.16
Command: /Library/Frameworks/R.framework/Resources/bin/R CMD build --keep-empty-dirs --no-resave-data biodb
StartedAt: 2021-10-22 18:46:08 -0400 (Fri, 22 Oct 2021)
EndedAt: 2021-10-22 18:48:16 -0400 (Fri, 22 Oct 2021)
EllapsedTime: 128.6 seconds
RetCode: 0
Status:   OK  
PackageFile: biodb_1.1.16.tar.gz
PackageFileSize: 1.731 MiB

Command output

##############################################################################
##############################################################################
###
### Running command:
###
###   /Library/Frameworks/R.framework/Resources/bin/R CMD build --keep-empty-dirs --no-resave-data biodb
###
##############################################################################
##############################################################################


* checking for file ‘biodb/DESCRIPTION’ ... OK
* preparing ‘biodb’:
* checking DESCRIPTION meta-information ... OK
* cleaning src
* installing the package to build vignettes
* creating vignettes ... OK
* cleaning src
* checking for LF line-endings in source and make files and shell scripts
* checking for empty or unneeded directories
* building ‘biodb_1.1.16.tar.gz’