Back to Multiple platform build/check report for BioC 3.14
A[B]CDEFGHIJKLMNOPQRSTUVWXYZ

This page was generated on 2022-01-19 13:06:16 -0500 (Wed, 19 Jan 2022).

HostnameOSArch (*)R versionInstalled pkgs
nebbiolo2Linux (Ubuntu 20.04.4 LTS)x86_644.1.2 (2021-11-01) -- "Bird Hippie" 4328
tokay2Windows Server 2012 R2 Standardx644.1.2 (2021-11-01) -- "Bird Hippie" 4077
machv2macOS 10.14.6 Mojavex86_644.1.2 (2021-11-01) -- "Bird Hippie" 4138
Click on any hostname to see more info about the system (e.g. compilers)      (*) as reported by 'uname -p', except on Windows and Mac OS X

CHECK results for biocthis on tokay2


To the developers/maintainers of the biocthis package:
- Please allow up to 24 hours (and sometimes 48 hours) for your latest push to git@git.bioconductor.org:packages/biocthis.git to
reflect on this report. See How and When does the builder pull? When will my changes propagate? here for more information.
- Make sure to use the following settings in order to reproduce any error or warning you see on this page.

raw results

Package 171/2083HostnameOS / ArchINSTALLBUILDCHECKBUILD BIN
biocthis 1.4.0  (landing page)
Leonardo Collado-Torres
Snapshot Date: 2022-01-18 01:55:07 -0500 (Tue, 18 Jan 2022)
git_url: https://git.bioconductor.org/packages/biocthis
git_branch: RELEASE_3_14
git_last_commit: 5cf52a9
git_last_commit_date: 2021-09-15 18:53:04 -0500 (Wed, 15 Sep 2021)
nebbiolo2Linux (Ubuntu 20.04.4 LTS) / x86_64  OK    OK    OK  UNNEEDED, same version is already published
tokay2Windows Server 2012 R2 Standard / x64  OK    OK    OK    OK  UNNEEDED, same version is already published
machv2macOS 10.14.6 Mojave / x86_64  OK    OK    OK    OK  UNNEEDED, same version is already published

Summary

Package: biocthis
Version: 1.4.0
Command: C:\Users\biocbuild\bbs-3.14-bioc\R\bin\R.exe CMD check --force-multiarch --install=check:biocthis.install-out.txt --library=C:\Users\biocbuild\bbs-3.14-bioc\R\library --no-vignettes --timings biocthis_1.4.0.tar.gz
StartedAt: 2022-01-18 16:12:38 -0500 (Tue, 18 Jan 2022)
EndedAt: 2022-01-18 16:14:23 -0500 (Tue, 18 Jan 2022)
EllapsedTime: 104.7 seconds
RetCode: 0
Status:   OK  
CheckDir: biocthis.Rcheck
Warnings: 0

Command output

##############################################################################
##############################################################################
###
### Running command:
###
###   C:\Users\biocbuild\bbs-3.14-bioc\R\bin\R.exe CMD check --force-multiarch --install=check:biocthis.install-out.txt --library=C:\Users\biocbuild\bbs-3.14-bioc\R\library --no-vignettes --timings biocthis_1.4.0.tar.gz
###
##############################################################################
##############################################################################


* using log directory 'C:/Users/biocbuild/bbs-3.14-bioc/meat/biocthis.Rcheck'
* using R version 4.1.2 (2021-11-01)
* using platform: x86_64-w64-mingw32 (64-bit)
* using session charset: ISO8859-1
* using option '--no-vignettes'
* checking for file 'biocthis/DESCRIPTION' ... OK
* this is package 'biocthis' version '1.4.0'
* package encoding: UTF-8
* checking package namespace information ... OK
* checking package dependencies ... OK
* checking if this is a source package ... OK
* checking if there is a namespace ... OK
* checking for hidden files and directories ... OK
* checking for portable file names ... OK
* checking whether package 'biocthis' can be installed ... OK
* checking installed package size ... OK
* checking package directory ... OK
* checking 'build' directory ... OK
* checking DESCRIPTION meta-information ... OK
* checking top-level files ... OK
* checking for left-over files ... OK
* checking index information ... OK
* checking package subdirectories ... OK
* checking R files for non-ASCII characters ... OK
* checking R files for syntax errors ... OK
* loading checks for arch 'i386'
** checking whether the package can be loaded ... OK
** checking whether the package can be loaded with stated dependencies ... OK
** checking whether the package can be unloaded cleanly ... OK
** checking whether the namespace can be loaded with stated dependencies ... OK
** checking whether the namespace can be unloaded cleanly ... OK
* loading checks for arch 'x64'
** checking whether the package can be loaded ... OK
** checking whether the package can be loaded with stated dependencies ... OK
** checking whether the package can be unloaded cleanly ... OK
** checking whether the namespace can be loaded with stated dependencies ... OK
** checking whether the namespace can be unloaded cleanly ... OK
* checking dependencies in R code ... NOTE
Unexported objects imported by ':::' calls:
  'BiocManager:::.version_map_get_online' 'BiocManager:::isDevel'
  'usethis:::asciify' 'usethis:::check_installed'
  'usethis:::check_vignette_name' 'usethis:::create_directory'
  'usethis:::is_package' 'usethis:::package_data'
  'usethis:::project_name' 'usethis:::render_template'
  'usethis:::target_repo_spec' 'usethis:::use_description_field'
  'usethis:::use_dot_github' 'usethis:::uses_git'
  See the note in ?`:::` about the use of this operator.
* checking S3 generic/method consistency ... OK
* checking replacement functions ... OK
* checking foreign function calls ... OK
* checking R code for possible problems ... OK
* checking Rd files ... OK
* checking Rd metadata ... OK
* checking Rd cross-references ... OK
* checking for missing documentation entries ... OK
* checking for code/documentation mismatches ... OK
* checking Rd \usage sections ... OK
* checking Rd contents ... OK
* checking for unstated dependencies in examples ... OK
* checking files in 'vignettes' ... OK
* checking examples ...
** running examples for arch 'i386' ... OK
Examples with CPU (user + system) or elapsed time > 5s
                  user system elapsed
use_bioc_citation 0.25   0.07    8.28
** running examples for arch 'x64' ... OK
Examples with CPU (user + system) or elapsed time > 5s
                  user system elapsed
use_bioc_citation 0.29   0.02    10.2
* checking for unstated dependencies in 'tests' ... OK
* checking tests ...
** running tests for arch 'i386' ...
  Running 'testthat.R'
 OK
** running tests for arch 'x64' ...
  Running 'testthat.R'
 OK
* checking for unstated dependencies in vignettes ... OK
* checking package vignettes in 'inst/doc' ... OK
* checking running R code from vignettes ... SKIPPED
* checking re-building of vignette outputs ... SKIPPED
* checking PDF version of manual ... OK
* DONE

Status: 1 NOTE
See
  'C:/Users/biocbuild/bbs-3.14-bioc/meat/biocthis.Rcheck/00check.log'
for details.



Installation output

biocthis.Rcheck/00install.out

##############################################################################
##############################################################################
###
### Running command:
###
###   C:\cygwin\bin\curl.exe -O http://155.52.207.166/BBS/3.14/bioc/src/contrib/biocthis_1.4.0.tar.gz && rm -rf biocthis.buildbin-libdir && mkdir biocthis.buildbin-libdir && C:\Users\biocbuild\bbs-3.14-bioc\R\bin\R.exe CMD INSTALL --merge-multiarch --build --library=biocthis.buildbin-libdir biocthis_1.4.0.tar.gz && C:\Users\biocbuild\bbs-3.14-bioc\R\bin\R.exe CMD INSTALL biocthis_1.4.0.zip && rm biocthis_1.4.0.tar.gz biocthis_1.4.0.zip
###
##############################################################################
##############################################################################


  % Total    % Received % Xferd  Average Speed   Time    Time     Time  Current
                                 Dload  Upload   Total   Spent    Left  Speed

  0     0    0     0    0     0      0      0 --:--:-- --:--:-- --:--:--     0
100 46846  100 46846    0     0   418k      0 --:--:-- --:--:-- --:--:--  423k

install for i386

* installing *source* package 'biocthis' ...
** using staged installation
** R
** inst
** byte-compile and prepare package for lazy loading
** help
*** installing help indices
  converting help for package 'biocthis'
    finding HTML links ... done
    bioc_style                              html  
    biocthis_example_pkg                    html  
    use_bioc_citation                       html  
    use_bioc_coc                            html  
    use_bioc_description                    html  
    use_bioc_github_action                  html  
    use_bioc_issue_template                 html  
    use_bioc_news_md                        html  
    use_bioc_pkg_templates                  html  
    use_bioc_readme_rmd                     html  
    use_bioc_support                        html  
    use_bioc_vignette                       html  
** building package indices
** installing vignettes
** testing if installed package can be loaded from temporary location
** testing if installed package can be loaded from final location
** testing if installed package keeps a record of temporary installation path

install for x64

* installing *source* package 'biocthis' ...
** testing if installed package can be loaded
* MD5 sums
packaged installation of 'biocthis' as biocthis_1.4.0.zip
* DONE (biocthis)
* installing to library 'C:/Users/biocbuild/bbs-3.14-bioc/R/library'
package 'biocthis' successfully unpacked and MD5 sums checked

Tests output

biocthis.Rcheck/tests_i386/testthat.Rout


R version 4.1.2 (2021-11-01) -- "Bird Hippie"
Copyright (C) 2021 The R Foundation for Statistical Computing
Platform: i386-w64-mingw32/i386 (32-bit)

R is free software and comes with ABSOLUTELY NO WARRANTY.
You are welcome to redistribute it under certain conditions.
Type 'license()' or 'licence()' for distribution details.

R is a collaborative project with many contributors.
Type 'contributors()' for more information and
'citation()' on how to cite R or R packages in publications.

Type 'demo()' for some demos, 'help()' for on-line help, or
'help.start()' for an HTML browser interface to help.
Type 'q()' to quit R.

> library(testthat)
> library(biocthis)
> 
> test_check("biocthis")
[ FAIL 0 | WARN 0 | SKIP 0 | PASS 4 ]
> 
> proc.time()
   user  system elapsed 
   1.34    0.15    2.10 

biocthis.Rcheck/tests_x64/testthat.Rout


R version 4.1.2 (2021-11-01) -- "Bird Hippie"
Copyright (C) 2021 The R Foundation for Statistical Computing
Platform: x86_64-w64-mingw32/x64 (64-bit)

R is free software and comes with ABSOLUTELY NO WARRANTY.
You are welcome to redistribute it under certain conditions.
Type 'license()' or 'licence()' for distribution details.

R is a collaborative project with many contributors.
Type 'contributors()' for more information and
'citation()' on how to cite R or R packages in publications.

Type 'demo()' for some demos, 'help()' for on-line help, or
'help.start()' for an HTML browser interface to help.
Type 'q()' to quit R.

> library(testthat)
> library(biocthis)
> 
> test_check("biocthis")
[ FAIL 0 | WARN 0 | SKIP 0 | PASS 4 ]
> 
> proc.time()
   user  system elapsed 
   1.48    0.15    1.81 

Example timings

biocthis.Rcheck/examples_i386/biocthis-Ex.timings

nameusersystemelapsed
bioc_style0.440.100.77
biocthis_example_pkg0.080.000.09
use_bioc_citation0.250.078.28
use_bioc_coc0.220.020.39
use_bioc_description0.280.050.84
use_bioc_github_action000
use_bioc_issue_template0.160.010.19
use_bioc_news_md0.120.000.12
use_bioc_pkg_templates0.280.020.58
use_bioc_readme_rmd0.360.030.72
use_bioc_support0.220.000.39
use_bioc_vignette1.080.061.47

biocthis.Rcheck/examples_x64/biocthis-Ex.timings

nameusersystemelapsed
bioc_style0.660.081.93
biocthis_example_pkg0.090.000.14
use_bioc_citation 0.29 0.0210.20
use_bioc_coc0.250.030.68
use_bioc_description0.360.011.11
use_bioc_github_action000
use_bioc_issue_template0.170.020.21
use_bioc_news_md0.140.020.38
use_bioc_pkg_templates0.330.030.36
use_bioc_readme_rmd0.310.040.39
use_bioc_support0.150.020.17
use_bioc_vignette0.880.081.11