Back to Multiple platform build/check report for BioC 3.14
A[B]CDEFGHIJKLMNOPQRSTUVWXYZ

This page was generated on 2021-10-27 13:52:54 -0400 (Wed, 27 Oct 2021).

INSTALL results for biocthis on riesling1

To the developers/maintainers of the biocthis package:
- Please allow up to 24 hours (and sometimes 48 hours) for your latest push to git@git.bioconductor.org:packages/biocthis.git to
reflect on this report. See How and When does the builder pull? When will my changes propagate? here for more information.
- Make sure to use the following settings in order to reproduce any error or warning you see on this page.

raw results

Package 171/2083HostnameOS / ArchINSTALLBUILDCHECKBUILD BIN
biocthis 1.4.0  (landing page)
Leonardo Collado-Torres
Snapshot Date: 2021-10-26 14:50:08 -0400 (Tue, 26 Oct 2021)
git_url: https://git.bioconductor.org/packages/biocthis
git_branch: RELEASE_3_14
git_last_commit: 05b696a
git_last_commit_date: 2021-10-26 13:03:52 -0400 (Tue, 26 Oct 2021)
nebbiolo2Linux (Ubuntu 20.04.2 LTS) / x86_64  OK    OK    OK  YES
riesling1Windows Server 2019 Standard / x64  OK    OK    OK    OK  YES
merida1macOS 10.14.6 Mojave / x86_64  OK    OK    OK    OK  YES
machv2macOS 10.14.6 Mojave / x86_64  OK    OK    OK    OK  

Summary

Package: biocthis
Version: 1.4.0
Command: C:\cygwin\bin\curl.exe -O http://155.52.207.166/BBS/3.14/bioc/src/contrib/biocthis_1.4.0.tar.gz && rm -rf biocthis.buildbin-libdir && mkdir biocthis.buildbin-libdir && D:\biocbuild\bbs-3.14-bioc\R\bin\R.exe CMD INSTALL --merge-multiarch --build --library=biocthis.buildbin-libdir biocthis_1.4.0.tar.gz && D:\biocbuild\bbs-3.14-bioc\R\bin\R.exe CMD INSTALL biocthis_1.4.0.zip && rm biocthis_1.4.0.tar.gz biocthis_1.4.0.zip
StartedAt: 2021-10-26 18:08:17 -0400 (Tue, 26 Oct 2021)
EndedAt: 2021-10-26 18:11:40 -0400 (Tue, 26 Oct 2021)
EllapsedTime: 202.9 seconds
RetCode: 0
Status:   OK  

Command output

##############################################################################
##############################################################################
###
### Running command:
###
###   C:\cygwin\bin\curl.exe -O http://155.52.207.166/BBS/3.14/bioc/src/contrib/biocthis_1.4.0.tar.gz && rm -rf biocthis.buildbin-libdir && mkdir biocthis.buildbin-libdir && D:\biocbuild\bbs-3.14-bioc\R\bin\R.exe CMD INSTALL --merge-multiarch --build --library=biocthis.buildbin-libdir biocthis_1.4.0.tar.gz && D:\biocbuild\bbs-3.14-bioc\R\bin\R.exe CMD INSTALL biocthis_1.4.0.zip && rm biocthis_1.4.0.tar.gz biocthis_1.4.0.zip
###
##############################################################################
##############################################################################


  % Total    % Received % Xferd  Average Speed   Time    Time     Time  Current
                                 Dload  Upload   Total   Spent    Left  Speed

  0     0    0     0    0     0      0      0 --:--:-- --:--:-- --:--:--     0
100 46817  100 46817    0     0   105k      0 --:--:-- --:--:-- --:--:--  106k

install for i386

* installing *source* package 'biocthis' ...
** using staged installation
** R
** inst
** byte-compile and prepare package for lazy loading
** help
*** installing help indices
  converting help for package 'biocthis'
    finding HTML links ... done
    bioc_style                              html  
    biocthis_example_pkg                    html  
    use_bioc_citation                       html  
    use_bioc_coc                            html  
    use_bioc_description                    html  
    use_bioc_github_action                  html  
    use_bioc_issue_template                 html  
    use_bioc_news_md                        html  
    use_bioc_pkg_templates                  html  
    use_bioc_readme_rmd                     html  
    use_bioc_support                        html  
    use_bioc_vignette                       html  
** building package indices
** installing vignettes
** testing if installed package can be loaded from temporary location
** testing if installed package can be loaded from final location
** testing if installed package keeps a record of temporary installation path

install for x64

* installing *source* package 'biocthis' ...
** testing if installed package can be loaded
* MD5 sums
packaged installation of 'biocthis' as biocthis_1.4.0.zip
* DONE (biocthis)
* installing to library 'D:/biocbuild/bbs-3.14-bioc/R/library'
package 'biocthis' successfully unpacked and MD5 sums checked