Back to Multiple platform build/check report for BioC 3.14
A[B]CDEFGHIJKLMNOPQRSTUVWXYZ

This page was generated on 2021-10-22 12:04:19 -0400 (Fri, 22 Oct 2021).

BUILD BIN results for biocthis on riesling1

To the developers/maintainers of the biocthis package:
- Please allow up to 24 hours (and sometimes 48 hours) for your latest push to git@git.bioconductor.org:packages/biocthis.git to
reflect on this report. See How and When does the builder pull? When will my changes propagate? here for more information.
- Make sure to use the following settings in order to reproduce any error or warning you see on this page.

raw results

Package 171/2075HostnameOS / ArchINSTALLBUILDCHECKBUILD BIN
biocthis 1.3.8  (landing page)
Leonardo Collado-Torres
Snapshot Date: 2021-10-21 14:50:08 -0400 (Thu, 21 Oct 2021)
git_url: https://git.bioconductor.org/packages/biocthis
git_branch: master
git_last_commit: c06e66d
git_last_commit_date: 2021-08-10 01:55:46 -0400 (Tue, 10 Aug 2021)
nebbiolo2Linux (Ubuntu 20.04.2 LTS) / x86_64  OK    OK    OK  UNNEEDED, same version is already published
riesling1Windows Server 2019 Standard / x64  OK    OK    OK    OK  UNNEEDED, same version is already published
merida1macOS 10.14.6 Mojave / x86_64  OK    OK    OK    OK  UNNEEDED, same version is already published

Summary

Package: biocthis
Version: 1.3.8
Command: rm -rf biocthis.buildbin-libdir && mkdir biocthis.buildbin-libdir && D:\biocbuild\bbs-3.14-bioc\R\bin\R.exe CMD INSTALL --merge-multiarch --build --library=biocthis.buildbin-libdir biocthis_1.3.8.tar.gz
StartedAt: 2021-10-22 04:34:21 -0400 (Fri, 22 Oct 2021)
EndedAt: 2021-10-22 04:38:21 -0400 (Fri, 22 Oct 2021)
EllapsedTime: 240.2 seconds
RetCode: 0
Status:   OK  
PackageFile: biocthis_1.3.8.zip
PackageFileSize: 675.8 KiB

Command output

##############################################################################
##############################################################################
###
### Running command:
###
###   rm -rf biocthis.buildbin-libdir && mkdir biocthis.buildbin-libdir && D:\biocbuild\bbs-3.14-bioc\R\bin\R.exe CMD INSTALL --merge-multiarch --build --library=biocthis.buildbin-libdir biocthis_1.3.8.tar.gz
###
##############################################################################
##############################################################################



install for i386

* installing *source* package 'biocthis' ...
** using staged installation
** R
** inst
** byte-compile and prepare package for lazy loading
** help
*** installing help indices
  converting help for package 'biocthis'
    finding HTML links ... done
    bioc_style                              html  
    biocthis_example_pkg                    html  
    use_bioc_citation                       html  
    use_bioc_coc                            html  
    use_bioc_description                    html  
    use_bioc_github_action                  html  
    use_bioc_issue_template                 html  
    use_bioc_news_md                        html  
    use_bioc_pkg_templates                  html  
    use_bioc_readme_rmd                     html  
    use_bioc_support                        html  
    use_bioc_vignette                       html  
** building package indices
** installing vignettes
** testing if installed package can be loaded from temporary location
** testing if installed package can be loaded from final location
** testing if installed package keeps a record of temporary installation path

install for x64

* installing *source* package 'biocthis' ...
** testing if installed package can be loaded
* MD5 sums
packaged installation of 'biocthis' as biocthis_1.3.8.zip
* DONE (biocthis)