Back to Multiple platform build/check report for BioC 3.14
A[B]CDEFGHIJKLMNOPQRSTUVWXYZ

This page was generated on 2021-12-06 13:05:50 -0500 (Mon, 06 Dec 2021).

BUILD BIN results for biocViews on machv2

To the developers/maintainers of the biocViews package:
- Please allow up to 24 hours (and sometimes 48 hours) for your latest push to git@git.bioconductor.org:packages/biocViews.git to
reflect on this report. See How and When does the builder pull? When will my changes propagate? here for more information.
- Make sure to use the following settings in order to reproduce any error or warning you see on this page.

raw results

Package 173/2083HostnameOS / ArchINSTALLBUILDCHECKBUILD BIN
biocViews 1.62.1  (landing page)
Bioconductor Package Maintainer
Snapshot Date: 2021-12-05 01:55:05 -0500 (Sun, 05 Dec 2021)
git_url: https://git.bioconductor.org/packages/biocViews
git_branch: RELEASE_3_14
git_last_commit: b4b6834
git_last_commit_date: 2021-11-01 13:52:36 -0500 (Mon, 01 Nov 2021)
nebbiolo2Linux (Ubuntu 20.04.3 LTS) / x86_64  OK    OK    OK  UNNEEDED, same version is already published
tokay2Windows Server 2012 R2 Standard / x64  OK    OK    OK    OK  UNNEEDED, same version is already published
machv2macOS 10.14.6 Mojave / x86_64  OK    OK    OK    OK  UNNEEDED, same version is already published

Summary

Package: biocViews
Version: 1.62.1
Command: rm -rf biocViews.buildbin-libdir && mkdir biocViews.buildbin-libdir && /Users/biocbuild/BBS/utils/build-universal.sh biocViews_1.62.1.tar.gz /Library/Frameworks/R.framework/Resources/bin/R biocViews.buildbin-libdir
StartedAt: 2021-12-05 21:28:25 -0500 (Sun, 05 Dec 2021)
EndedAt: 2021-12-05 21:29:34 -0500 (Sun, 05 Dec 2021)
EllapsedTime: 69.7 seconds
RetCode: 0
Status:   OK  
PackageFile: biocViews_1.62.1.tgz
PackageFileSize: 648.8 KiB

Command output

##############################################################################
##############################################################################
###
### Running command:
###
###   rm -rf biocViews.buildbin-libdir && mkdir biocViews.buildbin-libdir && /Users/biocbuild/BBS/utils/build-universal.sh biocViews_1.62.1.tar.gz /Library/Frameworks/R.framework/Resources/bin/R biocViews.buildbin-libdir
###
##############################################################################
##############################################################################


>>>>>>> 
>>>>>>> INSTALLATION WITH 'R CMD INSTALL --preclean --no-multiarch --library=biocViews.buildbin-libdir biocViews_1.62.1.tar.gz'
>>>>>>> 

* installing *source* package ‘biocViews’ ...
** using staged installation
** R
** data
** inst
** byte-compile and prepare package for lazy loading
** help
*** installing help indices
** building package indices
** installing vignettes
** testing if installed package can be loaded from temporary location
** testing if installed package can be loaded from final location
** testing if installed package keeps a record of temporary installation path
* DONE (biocViews)