Back to Multiple platform build/check report for BioC 3.14
A[B]CDEFGHIJKLMNOPQRSTUVWXYZ

This page was generated on 2021-10-18 12:04:27 -0400 (Mon, 18 Oct 2021).

BUILD BIN results for biocGraph on merida1

To the developers/maintainers of the biocGraph package:
- Please allow up to 24 hours (and sometimes 48 hours) for your latest push to git@git.bioconductor.org:packages/biocGraph.git to
reflect on this report. See How and When does the builder pull? When will my changes propagate? here for more information.
- Make sure to use the following settings in order to reproduce any error or warning you see on this page.

raw results

Package 159/2060HostnameOS / ArchINSTALLBUILDCHECKBUILD BIN
biocGraph 1.55.0  (landing page)
Florian Hahne
Snapshot Date: 2021-10-17 14:50:03 -0400 (Sun, 17 Oct 2021)
git_url: https://git.bioconductor.org/packages/biocGraph
git_branch: master
git_last_commit: b612c58
git_last_commit_date: 2021-05-19 11:39:20 -0400 (Wed, 19 May 2021)
nebbiolo2Linux (Ubuntu 20.04.2 LTS) / x86_64  OK    OK    OK  UNNEEDED, same version is already published
riesling1Windows Server 2019 Standard / x64  OK    OK    OK    OK  UNNEEDED, same version is already published
merida1macOS 10.14.6 Mojave / x86_64  OK    OK    OK    OK  UNNEEDED, same version is already published

Summary

Package: biocGraph
Version: 1.55.0
Command: rm -rf biocGraph.buildbin-libdir && mkdir biocGraph.buildbin-libdir && /Users/biocbuild/BBS/utils/build-universal.sh biocGraph_1.55.0.tar.gz /Library/Frameworks/R.framework/Resources/bin/R biocGraph.buildbin-libdir
StartedAt: 2021-10-18 11:24:52 -0400 (Mon, 18 Oct 2021)
EndedAt: 2021-10-18 11:25:53 -0400 (Mon, 18 Oct 2021)
EllapsedTime: 60.9 seconds
RetCode: 0
Status:   OK  
PackageFile: biocGraph_1.55.0.tgz
PackageFileSize: 530.6 KiB

Command output

##############################################################################
##############################################################################
###
### Running command:
###
###   rm -rf biocGraph.buildbin-libdir && mkdir biocGraph.buildbin-libdir && /Users/biocbuild/BBS/utils/build-universal.sh biocGraph_1.55.0.tar.gz /Library/Frameworks/R.framework/Resources/bin/R biocGraph.buildbin-libdir
###
##############################################################################
##############################################################################


>>>>>>> 
>>>>>>> INSTALLATION WITH 'R CMD INSTALL --preclean --no-multiarch --library=biocGraph.buildbin-libdir biocGraph_1.55.0.tar.gz'
>>>>>>> 

* installing *source* package ‘biocGraph’ ...
** using staged installation
** R
** inst
** byte-compile and prepare package for lazy loading
** help
*** installing help indices
** building package indices
** installing vignettes
** testing if installed package can be loaded from temporary location
** testing if installed package can be loaded from final location
** testing if installed package keeps a record of temporary installation path
* DONE (biocGraph)