Index of /checkResults/3.14/bioc-LATEST/biobtreeR/raw-results

[ICO]NameLast modifiedSizeDescription

[DIR]Parent Directory  -  
[   ]info.dcf07-Dec-2021 03:05 265  
[DIR]machv2/07-Dec-2021 03:05 -  
[DIR]nebbiolo2/07-Dec-2021 03:04 -  
[DIR]tokay2/07-Dec-2021 03:05 -