Back to Multiple platform build/check report for BioC 3.14
A[B]CDEFGHIJKLMNOPQRSTUVWXYZ

This page was generated on 2021-10-25 14:06:06 -0400 (Mon, 25 Oct 2021).

INSTALL results for biobroom on riesling1

To the developers/maintainers of the biobroom package:
- Please allow up to 24 hours (and sometimes 48 hours) for your latest push to git@git.bioconductor.org:packages/biobroom.git to
reflect on this report. See How and When does the builder pull? When will my changes propagate? here for more information.
- Make sure to use the following settings in order to reproduce any error or warning you see on this page.

raw results

Package 153/2083HostnameOS / ArchINSTALLBUILDCHECKBUILD BIN
biobroom 1.25.1  (landing page)
John D. Storey and Andrew J. Bass
Snapshot Date: 2021-10-24 14:50:04 -0400 (Sun, 24 Oct 2021)
git_url: https://git.bioconductor.org/packages/biobroom
git_branch: master
git_last_commit: 7187bbe
git_last_commit_date: 2021-08-13 11:57:00 -0400 (Fri, 13 Aug 2021)
nebbiolo2Linux (Ubuntu 20.04.2 LTS) / x86_64  OK    OK    WARNINGS  UNNEEDED, same version is already published
riesling1Windows Server 2019 Standard / x64  OK    OK    WARNINGS    OK  UNNEEDED, same version is already published
merida1macOS 10.14.6 Mojave / x86_64  OK    OK    WARNINGS    OK  UNNEEDED, same version is already published
machv2macOS 10.14.6 Mojave / x86_64  OK    OK    WARNINGS    OK  

Summary

Package: biobroom
Version: 1.25.1
Command: C:\cygwin\bin\curl.exe -O http://155.52.207.166/BBS/3.14/bioc/src/contrib/biobroom_1.25.1.tar.gz && rm -rf biobroom.buildbin-libdir && mkdir biobroom.buildbin-libdir && D:\biocbuild\bbs-3.14-bioc\R\bin\R.exe CMD INSTALL --merge-multiarch --build --library=biobroom.buildbin-libdir biobroom_1.25.1.tar.gz && D:\biocbuild\bbs-3.14-bioc\R\bin\R.exe CMD INSTALL biobroom_1.25.1.zip && rm biobroom_1.25.1.tar.gz biobroom_1.25.1.zip
StartedAt: 2021-10-24 18:16:16 -0400 (Sun, 24 Oct 2021)
EndedAt: 2021-10-24 18:19:06 -0400 (Sun, 24 Oct 2021)
EllapsedTime: 170.4 seconds
RetCode: 0
Status:   OK  

Command output

##############################################################################
##############################################################################
###
### Running command:
###
###   C:\cygwin\bin\curl.exe -O http://155.52.207.166/BBS/3.14/bioc/src/contrib/biobroom_1.25.1.tar.gz && rm -rf biobroom.buildbin-libdir && mkdir biobroom.buildbin-libdir && D:\biocbuild\bbs-3.14-bioc\R\bin\R.exe CMD INSTALL --merge-multiarch --build --library=biobroom.buildbin-libdir biobroom_1.25.1.tar.gz && D:\biocbuild\bbs-3.14-bioc\R\bin\R.exe CMD INSTALL biobroom_1.25.1.zip && rm biobroom_1.25.1.tar.gz biobroom_1.25.1.zip
###
##############################################################################
##############################################################################


  % Total    % Received % Xferd  Average Speed   Time    Time     Time  Current
                                 Dload  Upload   Total   Spent    Left  Speed

  0     0    0     0    0     0      0      0 --:--:-- --:--:-- --:--:--     0
100  218k  100  218k    0     0   765k      0 --:--:-- --:--:-- --:--:--  768k

install for i386

* installing *source* package 'biobroom' ...
** using staged installation
** R
** data
*** moving datasets to lazyload DB
** byte-compile and prepare package for lazy loading
** help
*** installing help indices
  converting help for package 'biobroom'
    finding HTML links ... done
    DESeq2_tidiers                          html  
    ExpressionSet_tidiers                   html  
    GRanges_tidiers                         html  
    MSnSet_tidiers                          html  
    SummarizedExperiment_tidiers            html  
    biobroom                                html  
    edgeR_tidiers                           html  
    edge_tidiers                            html  
    hammer                                  html  
    limma_tidiers                           html  
    list_tidiers                            html  
    qvalue_tidiers                          html  
    sva_tidiers                             html  
** building package indices
** installing vignettes
** testing if installed package can be loaded from temporary location
** testing if installed package can be loaded from final location
** testing if installed package keeps a record of temporary installation path

install for x64

* installing *source* package 'biobroom' ...
** testing if installed package can be loaded
* MD5 sums
packaged installation of 'biobroom' as biobroom_1.25.1.zip
* DONE (biobroom)
* installing to library 'D:/biocbuild/bbs-3.14-bioc/R/library'
package 'biobroom' successfully unpacked and MD5 sums checked