Back to Multiple platform build/check report for BioC 3.14
A[B]CDEFGHIJKLMNOPQRSTUVWXYZ

This page was generated on 2021-10-23 14:06:19 -0400 (Sat, 23 Oct 2021).

INSTALL results for bioDist on riesling1

To the developers/maintainers of the bioDist package:
- Please allow up to 24 hours (and sometimes 48 hours) for your latest push to git@git.bioconductor.org:packages/bioDist.git to
reflect on this report. See How and When does the builder pull? When will my changes propagate? here for more information.
- Make sure to use the following settings in order to reproduce any error or warning you see on this page.

raw results

Package 181/2083HostnameOS / ArchINSTALLBUILDCHECKBUILD BIN
bioDist 1.65.0  (landing page)
Bioconductor Package Maintainer
Snapshot Date: 2021-10-22 14:50:11 -0400 (Fri, 22 Oct 2021)
git_url: https://git.bioconductor.org/packages/bioDist
git_branch: master
git_last_commit: bf9ccde
git_last_commit_date: 2021-05-19 11:35:12 -0400 (Wed, 19 May 2021)
nebbiolo2Linux (Ubuntu 20.04.2 LTS) / x86_64  OK    OK    OK  UNNEEDED, same version is already published
riesling1Windows Server 2019 Standard / x64  OK    OK    OK    OK  UNNEEDED, same version is already published
merida1macOS 10.14.6 Mojave / x86_64  OK    OK    OK    OK  UNNEEDED, same version is already published

Summary

Package: bioDist
Version: 1.65.0
Command: C:\cygwin\bin\curl.exe -O http://155.52.207.166/BBS/3.14/bioc/src/contrib/bioDist_1.65.0.tar.gz && rm -rf bioDist.buildbin-libdir && mkdir bioDist.buildbin-libdir && D:\biocbuild\bbs-3.14-bioc\R\bin\R.exe CMD INSTALL --merge-multiarch --build --library=bioDist.buildbin-libdir bioDist_1.65.0.tar.gz && D:\biocbuild\bbs-3.14-bioc\R\bin\R.exe CMD INSTALL bioDist_1.65.0.zip && rm bioDist_1.65.0.tar.gz bioDist_1.65.0.zip
StartedAt: 2021-10-22 16:46:28 -0400 (Fri, 22 Oct 2021)
EndedAt: 2021-10-22 16:49:34 -0400 (Fri, 22 Oct 2021)
EllapsedTime: 186.4 seconds
RetCode: 0
Status:   OK  

Command output

##############################################################################
##############################################################################
###
### Running command:
###
###   C:\cygwin\bin\curl.exe -O http://155.52.207.166/BBS/3.14/bioc/src/contrib/bioDist_1.65.0.tar.gz && rm -rf bioDist.buildbin-libdir && mkdir bioDist.buildbin-libdir && D:\biocbuild\bbs-3.14-bioc\R\bin\R.exe CMD INSTALL --merge-multiarch --build --library=bioDist.buildbin-libdir bioDist_1.65.0.tar.gz && D:\biocbuild\bbs-3.14-bioc\R\bin\R.exe CMD INSTALL bioDist_1.65.0.zip && rm bioDist_1.65.0.tar.gz bioDist_1.65.0.zip
###
##############################################################################
##############################################################################


  % Total    % Received % Xferd  Average Speed   Time    Time     Time  Current
                                 Dload  Upload   Total   Spent    Left  Speed

  0     0    0     0    0     0      0      0 --:--:-- --:--:-- --:--:--     0
  0     0    0     0    0     0      0      0 --:--:-- --:--:-- --:--:--     0
100  9589  100  9589    0     0   110k      0 --:--:-- --:--:-- --:--:--  110k

install for i386

* installing *source* package 'bioDist' ...
** using staged installation
** R
** byte-compile and prepare package for lazy loading
** help
*** installing help indices
  converting help for package 'bioDist'
    finding HTML links ... done
    KLD.matrix                              html  
    KLdist.matrix                           html  
    closest.top                             html  
    cor.dist                                html  
    euc                                     html  
    man                                     html  
    mutualInfo                              html  
    spearman.dist                           html  
    tau.dist                                html  
** building package indices
** installing vignettes
** testing if installed package can be loaded from temporary location
** testing if installed package can be loaded from final location
** testing if installed package keeps a record of temporary installation path

install for x64

* installing *source* package 'bioDist' ...
** testing if installed package can be loaded
* MD5 sums
packaged installation of 'bioDist' as bioDist_1.65.0.zip
* DONE (bioDist)
* installing to library 'D:/biocbuild/bbs-3.14-bioc/R/library'
package 'bioDist' successfully unpacked and MD5 sums checked