Back to Multiple platform build/check report for BioC 3.14
A[B]CDEFGHIJKLMNOPQRSTUVWXYZ

This page was generated on 2021-10-21 12:05:13 -0400 (Thu, 21 Oct 2021).

BUILD results for bioDist on merida1

To the developers/maintainers of the bioDist package:
- Please allow up to 24 hours (and sometimes 48 hours) for your latest push to git@git.bioconductor.org:packages/bioDist.git to
reflect on this report. See How and When does the builder pull? When will my changes propagate? here for more information.
- Make sure to use the following settings in order to reproduce any error or warning you see on this page.

raw results

Package 179/2075HostnameOS / ArchINSTALLBUILDCHECKBUILD BIN
bioDist 1.65.0  (landing page)
Bioconductor Package Maintainer
Snapshot Date: 2021-10-20 14:50:05 -0400 (Wed, 20 Oct 2021)
git_url: https://git.bioconductor.org/packages/bioDist
git_branch: master
git_last_commit: bf9ccde
git_last_commit_date: 2021-05-19 11:35:12 -0400 (Wed, 19 May 2021)
nebbiolo2Linux (Ubuntu 20.04.2 LTS) / x86_64  OK    OK    OK  UNNEEDED, same version is already published
riesling1Windows Server 2019 Standard / x64  OK    OK    OK    OK  UNNEEDED, same version is already published
merida1macOS 10.14.6 Mojave / x86_64  OK    OK    OK    OK  UNNEEDED, same version is already published

Summary

Package: bioDist
Version: 1.65.0
Command: /Library/Frameworks/R.framework/Resources/bin/R CMD build --keep-empty-dirs --no-resave-data bioDist
StartedAt: 2021-10-20 18:45:35 -0400 (Wed, 20 Oct 2021)
EndedAt: 2021-10-20 18:46:02 -0400 (Wed, 20 Oct 2021)
EllapsedTime: 27.6 seconds
RetCode: 0
Status:   OK  
PackageFile: bioDist_1.65.0.tar.gz
PackageFileSize: 125 KiB

Command output

##############################################################################
##############################################################################
###
### Running command:
###
###   /Library/Frameworks/R.framework/Resources/bin/R CMD build --keep-empty-dirs --no-resave-data bioDist
###
##############################################################################
##############################################################################


* checking for file ‘bioDist/DESCRIPTION’ ... OK
* preparing ‘bioDist’:
* checking DESCRIPTION meta-information ... OK
* installing the package to build vignettes
* creating vignettes ... OK
* checking for LF line-endings in source and make files and shell scripts
* checking for empty or unneeded directories
* building ‘bioDist_1.65.0.tar.gz’