Back to Multiple platform build/check report for BioC 3.14
A[B]CDEFGHIJKLMNOPQRSTUVWXYZ

This page was generated on 2021-10-18 12:03:37 -0400 (Mon, 18 Oct 2021).

CHECK results for bioCancer on nebbiolo2

To the developers/maintainers of the bioCancer package:
- Please allow up to 24 hours (and sometimes 48 hours) for your latest push to git@git.bioconductor.org:packages/bioCancer.git to
reflect on this report. See How and When does the builder pull? When will my changes propagate? here for more information.
- Make sure to use the following settings in order to reproduce any error or warning you see on this page.

raw results

Package 154/2060HostnameOS / ArchINSTALLBUILDCHECKBUILD BIN
bioCancer 1.21.02  (landing page)
Karim Mezhoud
Snapshot Date: 2021-10-17 14:50:03 -0400 (Sun, 17 Oct 2021)
git_url: https://git.bioconductor.org/packages/bioCancer
git_branch: master
git_last_commit: 0153dc8
git_last_commit_date: 2021-06-28 09:03:47 -0400 (Mon, 28 Jun 2021)
nebbiolo2Linux (Ubuntu 20.04.2 LTS) / x86_64  OK    OK    OK  UNNEEDED, same version is already published
riesling1Windows Server 2019 Standard / x64  OK    OK    OK    OK  UNNEEDED, same version is already published
merida1macOS 10.14.6 Mojave / x86_64  OK    OK    OK    OK  UNNEEDED, same version is already published

Summary

Package: bioCancer
Version: 1.21.02
Command: /home/biocbuild/bbs-3.14-bioc/R/bin/R CMD check --install=check:bioCancer.install-out.txt --library=/home/biocbuild/bbs-3.14-bioc/R/library --no-vignettes --timings bioCancer_1.21.02.tar.gz
StartedAt: 2021-10-17 19:13:00 -0400 (Sun, 17 Oct 2021)
EndedAt: 2021-10-17 19:15:59 -0400 (Sun, 17 Oct 2021)
EllapsedTime: 179.5 seconds
RetCode: 0
Status:   OK  
CheckDir: bioCancer.Rcheck
Warnings: 0

Command output

##############################################################################
##############################################################################
###
### Running command:
###
###   /home/biocbuild/bbs-3.14-bioc/R/bin/R CMD check --install=check:bioCancer.install-out.txt --library=/home/biocbuild/bbs-3.14-bioc/R/library --no-vignettes --timings bioCancer_1.21.02.tar.gz
###
##############################################################################
##############################################################################


* using log directory ‘/home/biocbuild/bbs-3.14-bioc/meat/bioCancer.Rcheck’
* using R version 4.1.1 (2021-08-10)
* using platform: x86_64-pc-linux-gnu (64-bit)
* using session charset: UTF-8
* using option ‘--no-vignettes’
* checking for file ‘bioCancer/DESCRIPTION’ ... OK
* this is package ‘bioCancer’ version ‘1.21.02’
* package encoding: UTF-8
* checking package namespace information ... OK
* checking package dependencies ... OK
* checking if this is a source package ... OK
* checking if there is a namespace ... OK
* checking for hidden files and directories ... OK
* checking for portable file names ... OK
* checking for sufficient/correct file permissions ... OK
* checking whether package ‘bioCancer’ can be installed ... OK
* checking installed package size ... NOTE
  installed size is  5.6Mb
  sub-directories of 1Mb or more:
    app       3.4Mb
    extdata   1.6Mb
* checking package directory ... OK
* checking ‘build’ directory ... OK
* checking DESCRIPTION meta-information ... OK
* checking top-level files ... OK
* checking for left-over files ... OK
* checking index information ... OK
* checking package subdirectories ... OK
* checking R files for non-ASCII characters ... OK
* checking R files for syntax errors ... OK
* checking whether the package can be loaded ... OK
* checking whether the package can be loaded with stated dependencies ... OK
* checking whether the package can be unloaded cleanly ... OK
* checking whether the namespace can be loaded with stated dependencies ... OK
* checking whether the namespace can be unloaded cleanly ... OK
* checking dependencies in R code ... NOTE
Namespaces in Imports field not imported from:
  ‘AlgDesign’ ‘GO.db’ ‘import’ ‘methods’ ‘org.Bt.eg.db’ ‘shinythemes’
  All declared Imports should be used.
* checking S3 generic/method consistency ... OK
* checking replacement functions ... OK
* checking foreign function calls ... OK
* checking R code for possible problems ... OK
* checking Rd files ... OK
* checking Rd metadata ... OK
* checking Rd cross-references ... OK
* checking for missing documentation entries ... OK
* checking for code/documentation mismatches ... OK
* checking Rd \usage sections ... OK
* checking Rd contents ... OK
* checking for unstated dependencies in examples ... OK
* checking contents of ‘data’ directory ... OK
* checking data for non-ASCII characters ... OK
* checking LazyData ... OK
* checking data for ASCII and uncompressed saves ... OK
* checking files in ‘vignettes’ ... OK
* checking examples ... OK
* checking for unstated dependencies in ‘tests’ ... OK
* checking tests ...
  Running ‘testthat.R’
 OK
* checking for unstated dependencies in vignettes ... OK
* checking package vignettes in ‘inst/doc’ ... OK
* checking running R code from vignettes ... SKIPPED
* checking re-building of vignette outputs ... SKIPPED
* checking PDF version of manual ... OK
* DONE

Status: 2 NOTEs
See
  ‘/home/biocbuild/bbs-3.14-bioc/meat/bioCancer.Rcheck/00check.log’
for details.



Installation output

bioCancer.Rcheck/00install.out

##############################################################################
##############################################################################
###
### Running command:
###
###   /home/biocbuild/bbs-3.14-bioc/R/bin/R CMD INSTALL bioCancer
###
##############################################################################
##############################################################################


* installing to library ‘/home/biocbuild/bbs-3.14-bioc/R/library’
* installing *source* package ‘bioCancer’ ...
** using staged installation
** R
** data
*** moving datasets to lazyload DB
** inst
** byte-compile and prepare package for lazy loading
** help
*** installing help indices
** building package indices
** installing vignettes
** testing if installed package can be loaded from temporary location
** testing if installed package can be loaded from final location
** testing if installed package keeps a record of temporary installation path
* DONE (bioCancer)

Tests output

bioCancer.Rcheck/tests/testthat.Rout


R version 4.1.1 (2021-08-10) -- "Kick Things"
Copyright (C) 2021 The R Foundation for Statistical Computing
Platform: x86_64-pc-linux-gnu (64-bit)

R is free software and comes with ABSOLUTELY NO WARRANTY.
You are welcome to redistribute it under certain conditions.
Type 'license()' or 'licence()' for distribution details.

R is a collaborative project with many contributors.
Type 'contributors()' for more information and
'citation()' on how to cite R or R packages in publications.

Type 'demo()' for some demos, 'help()' for on-line help, or
'help.start()' for an HTML browser interface to help.
Type 'q()' to quit R.

> library(testthat)
> library(bioCancer)
Loading required package: radiant.data
Loading required package: magrittr

Attaching package: 'magrittr'

The following objects are masked from 'package:testthat':

    equals, is_less_than, not

Loading required package: ggplot2
Loading required package: lubridate

Attaching package: 'lubridate'

The following objects are masked from 'package:base':

    date, intersect, setdiff, union

Loading required package: tidyr

Attaching package: 'tidyr'

The following object is masked from 'package:magrittr':

    extract

The following object is masked from 'package:testthat':

    matches

Loading required package: dplyr

Attaching package: 'dplyr'

The following object is masked from 'package:testthat':

    matches

The following objects are masked from 'package:stats':

    filter, lag

The following objects are masked from 'package:base':

    intersect, setdiff, setequal, union


Attaching package: 'radiant.data'

The following objects are masked from 'package:lubridate':

    month, wday

The following object is masked from 'package:ggplot2':

    diamonds

The following object is masked from 'package:magrittr':

    set_attr

The following object is masked from 'package:testthat':

    describe

The following object is masked from 'package:base':

    date

Loading required package: cgdsr
Please send questions to cbioportal@googlegroups.com
Loading required package: XML


> 
> test_check("bioCancer")
getCancerStudies...  OK
getCaseLists (1/2) ...  OK
getCaseLists (2/2) ...  OK
getGeneticProfiles (1/2) ...  OK
getGeneticProfiles (2/2) ...  OK
getClinicalData (1/1) ...  OK
getProfileData (1/6) ...  OK
getProfileData (2/6) ...  OK
getProfileData (3/6) ...  OK
getProfileData (4/6) ...  OK
getProfileData (5/6) ...  OK
getProfileData (6/6) ...  OK
ReactomeFI connection...  OK
══ Skipped tests ═══════════════════════════════════════════════════════════════
• empty test (2)

[ FAIL 0 | WARN 0 | SKIP 2 | PASS 0 ]
> 
> proc.time()
   user  system elapsed 
  8.894   0.515  10.073 

Example timings

bioCancer.Rcheck/bioCancer-Ex.timings

nameusersystemelapsed
AnnotationFuncs-package0.3910.0150.412
Edges_Diseases_obj0.0010.0000.001
Mutation_obj0.0030.0000.004
Node_Diseases_obj0.0010.0000.001
Node_df_FreqIn0.0000.0000.001
Node_obj_CNA_ProfData0.0010.0000.001
Node_obj_FreqIn0.0010.0000.000
Node_obj_Met_ProfData0.0010.0000.000
Node_obj_mRNA_Classifier000
Studies_obj0.0060.0000.005
UnifyRowNames0.0010.0000.001
attriColorGene0.0010.0000.001
attriColorValue0.0010.0000.001
attriColorVector0.0010.0000.001
attriShape2Gene000
attriShape2Node000
bioCancer000
checkDimensions0.0010.0000.001
coffeewheel000
coffeewheelOutput000
displayTable0.0360.0000.166
findPhantom000
getEvidenceCodes000
getFreqMutData0.0010.0000.001
getGenesClassification0.0210.0000.059
getListProfData0.0010.0000.001
getList_Cases0.0160.0040.057
getList_GenProfs0.0210.0000.058
getMegaProfData000
getOrthologs000
getSequensed_SampleSize0.0010.0000.000
grepRef000
mapLists0.0000.0000.001
metabologram0.0000.0000.001
metabologramOutput000
pickGO0.2260.0000.227
pickRefSeq0.1350.0000.135
reStrColorGene0.0000.0000.001
reStrDimension0.0010.0000.001
reStrDisease0.0010.0000.001
removeNAs000
renderCoffeewheel000
renderMetabologram000
returnTextAreaInput000
translate0.2030.0000.203
whichGeneList000
widgetThumbnail000