Back to Multiple platform build/check report for BioC 3.14
A[B]CDEFGHIJKLMNOPQRSTUVWXYZ

This page was generated on 2021-10-23 14:05:54 -0400 (Sat, 23 Oct 2021).

BUILD results for bioCancer on nebbiolo2

To the developers/maintainers of the bioCancer package:
- Please allow up to 24 hours (and sometimes 48 hours) for your latest push to git@git.bioconductor.org:packages/bioCancer.git to
reflect on this report. See How and When does the builder pull? When will my changes propagate? here for more information.
- Make sure to use the following settings in order to reproduce any error or warning you see on this page.

raw results

Package 155/2083HostnameOS / ArchINSTALLBUILDCHECKBUILD BIN
bioCancer 1.21.02  (landing page)
Karim Mezhoud
Snapshot Date: 2021-10-22 14:50:11 -0400 (Fri, 22 Oct 2021)
git_url: https://git.bioconductor.org/packages/bioCancer
git_branch: master
git_last_commit: 0153dc8
git_last_commit_date: 2021-06-28 09:03:47 -0400 (Mon, 28 Jun 2021)
nebbiolo2Linux (Ubuntu 20.04.2 LTS) / x86_64  OK    OK    OK  UNNEEDED, same version is already published
riesling1Windows Server 2019 Standard / x64  OK    OK    OK    OK  UNNEEDED, same version is already published
merida1macOS 10.14.6 Mojave / x86_64  OK    OK    OK    OK  UNNEEDED, same version is already published

Summary

Package: bioCancer
Version: 1.21.02
Command: /home/biocbuild/bbs-3.14-bioc/R/bin/R CMD build --keep-empty-dirs --no-resave-data bioCancer
StartedAt: 2021-10-22 16:47:14 -0400 (Fri, 22 Oct 2021)
EndedAt: 2021-10-22 16:47:46 -0400 (Fri, 22 Oct 2021)
EllapsedTime: 31.5 seconds
RetCode: 0
Status:   OK  
PackageFile: bioCancer_1.21.02.tar.gz
PackageFileSize: 8.494 MiB

Command output

##############################################################################
##############################################################################
###
### Running command:
###
###   /home/biocbuild/bbs-3.14-bioc/R/bin/R CMD build --keep-empty-dirs --no-resave-data bioCancer
###
##############################################################################
##############################################################################


* checking for file ‘bioCancer/DESCRIPTION’ ... OK
* preparing ‘bioCancer’:
* checking DESCRIPTION meta-information ... OK
* installing the package to build vignettes
* creating vignettes ... OK
* checking for LF line-endings in source and make files and shell scripts
* checking for empty or unneeded directories
* building ‘bioCancer_1.21.02.tar.gz’