Back to Multiple platform build/check report for BioC 3.14
A[B]CDEFGHIJKLMNOPQRSTUVWXYZ

This page was generated on 2021-10-26 14:07:40 -0400 (Tue, 26 Oct 2021).

BUILD BIN results for bioCancer on merida1

To the developers/maintainers of the bioCancer package:
- Please allow up to 24 hours (and sometimes 48 hours) for your latest push to git@git.bioconductor.org:packages/bioCancer.git to
reflect on this report. See How and When does the builder pull? When will my changes propagate? here for more information.
- Make sure to use the following settings in order to reproduce any error or warning you see on this page.

raw results

Package 155/2083HostnameOS / ArchINSTALLBUILDCHECKBUILD BIN
bioCancer 1.21.02  (landing page)
Karim Mezhoud
Snapshot Date: 2021-10-25 14:50:11 -0400 (Mon, 25 Oct 2021)
git_url: https://git.bioconductor.org/packages/bioCancer
git_branch: master
git_last_commit: 0153dc8
git_last_commit_date: 2021-06-28 09:03:47 -0400 (Mon, 28 Jun 2021)
nebbiolo2Linux (Ubuntu 20.04.2 LTS) / x86_64  OK    OK    OK  UNNEEDED, same version is already published
riesling1Windows Server 2019 Standard / x64  OK    OK    OK    OK  UNNEEDED, same version is already published
merida1macOS 10.14.6 Mojave / x86_64  OK    OK    OK    OK  UNNEEDED, same version is already published
machv2macOS 10.14.6 Mojave / x86_64  OK    OK    OK    OK  

Summary

Package: bioCancer
Version: 1.21.02
Command: rm -rf bioCancer.buildbin-libdir && mkdir bioCancer.buildbin-libdir && /Users/biocbuild/BBS/utils/build-universal.sh bioCancer_1.21.02.tar.gz /Library/Frameworks/R.framework/Resources/bin/R bioCancer.buildbin-libdir
StartedAt: 2021-10-26 11:08:42 -0400 (Tue, 26 Oct 2021)
EndedAt: 2021-10-26 11:09:48 -0400 (Tue, 26 Oct 2021)
EllapsedTime: 66.8 seconds
RetCode: 0
Status:   OK  
PackageFile: bioCancer_1.21.02.tgz
PackageFileSize: 6.452 MiB

Command output

##############################################################################
##############################################################################
###
### Running command:
###
###   rm -rf bioCancer.buildbin-libdir && mkdir bioCancer.buildbin-libdir && /Users/biocbuild/BBS/utils/build-universal.sh bioCancer_1.21.02.tar.gz /Library/Frameworks/R.framework/Resources/bin/R bioCancer.buildbin-libdir
###
##############################################################################
##############################################################################


>>>>>>> 
>>>>>>> INSTALLATION WITH 'R CMD INSTALL --preclean --no-multiarch --library=bioCancer.buildbin-libdir bioCancer_1.21.02.tar.gz'
>>>>>>> 

* installing *source* package ‘bioCancer’ ...
** using staged installation
** R
** data
*** moving datasets to lazyload DB
** inst
** byte-compile and prepare package for lazy loading
** help
*** installing help indices
** building package indices
** installing vignettes
** testing if installed package can be loaded from temporary location
** testing if installed package can be loaded from final location
** testing if installed package keeps a record of temporary installation path
* DONE (bioCancer)