Back to Multiple platform build/check report for BioC 3.14
A[B]CDEFGHIJKLMNOPQRSTUVWXYZ

This page was generated on 2021-10-23 14:05:54 -0400 (Sat, 23 Oct 2021).

INSTALL results for bigmelon on nebbiolo2

To the developers/maintainers of the bigmelon package:
- Please allow up to 24 hours (and sometimes 48 hours) for your latest push to git@git.bioconductor.org:packages/bigmelon.git to
reflect on this report. See How and When does the builder pull? When will my changes propagate? here for more information.
- Make sure to use the following settings in order to reproduce any error or warning you see on this page.

raw results

Package 148/2083HostnameOS / ArchINSTALLBUILDCHECKBUILD BIN
bigmelon 1.19.4  (landing page)
Tyler J. Gorrie-Stone
Snapshot Date: 2021-10-22 14:50:11 -0400 (Fri, 22 Oct 2021)
git_url: https://git.bioconductor.org/packages/bigmelon
git_branch: master
git_last_commit: eeab8c7
git_last_commit_date: 2021-07-22 12:14:22 -0400 (Thu, 22 Jul 2021)
nebbiolo2Linux (Ubuntu 20.04.2 LTS) / x86_64  OK    OK    WARNINGS  UNNEEDED, same version is already published
riesling1Windows Server 2019 Standard / x64  OK    OK    WARNINGS    OK  NO, package depends on 'wateRmelon' which is not available
merida1macOS 10.14.6 Mojave / x86_64  OK    OK    WARNINGS    OK  NO, package depends on 'methylumi' which is not available

Summary

Package: bigmelon
Version: 1.19.4
Command: /home/biocbuild/bbs-3.14-bioc/R/bin/R CMD INSTALL bigmelon
StartedAt: 2021-10-22 16:33:35 -0400 (Fri, 22 Oct 2021)
EndedAt: 2021-10-22 16:34:23 -0400 (Fri, 22 Oct 2021)
EllapsedTime: 48.0 seconds
RetCode: 0
Status:   OK  

Command output

##############################################################################
##############################################################################
###
### Running command:
###
###   /home/biocbuild/bbs-3.14-bioc/R/bin/R CMD INSTALL bigmelon
###
##############################################################################
##############################################################################


* installing to library ‘/home/biocbuild/bbs-3.14-bioc/R/library’
* installing *source* package ‘bigmelon’ ...
** using staged installation
** R
** data
** inst
** byte-compile and prepare package for lazy loading
No methods found in package ‘RSQLite’ for request: ‘dbListFields’ when loading ‘lumi’
Creating a new generic function for ‘fot’ in package ‘bigmelon’
** help
*** installing help indices
** building package indices
** installing vignettes
** testing if installed package can be loaded from temporary location
No methods found in package ‘RSQLite’ for request: ‘dbListFields’ when loading ‘lumi’
** testing if installed package can be loaded from final location
No methods found in package ‘RSQLite’ for request: ‘dbListFields’ when loading ‘lumi’
** testing if installed package keeps a record of temporary installation path
* DONE (bigmelon)