Back to Multiple platform build/check report for BioC 3.14
A[B]CDEFGHIJKLMNOPQRSTUVWXYZ

This page was generated on 2022-01-14 13:06:03 -0500 (Fri, 14 Jan 2022).

HostnameOSArch (*)R versionInstalled pkgs
nebbiolo2Linux (Ubuntu 20.04.4 LTS)x86_644.1.2 (2021-11-01) -- "Bird Hippie" 4327
tokay2Windows Server 2012 R2 Standardx644.1.2 (2021-11-01) -- "Bird Hippie" 4076
machv2macOS 10.14.6 Mojavex86_644.1.2 (2021-11-01) -- "Bird Hippie" 4137
Click on any hostname to see more info about the system (e.g. compilers)      (*) as reported by 'uname -p', except on Windows and Mac OS X

INSTALL results for bigPint on tokay2


To the developers/maintainers of the bigPint package:
- Please allow up to 24 hours (and sometimes 48 hours) for your latest push to git@git.bioconductor.org:packages/bigPint.git to
reflect on this report. See How and When does the builder pull? When will my changes propagate? here for more information.
- Make sure to use the following settings in order to reproduce any error or warning you see on this page.

raw results

Package 149/2083HostnameOS / ArchINSTALLBUILDCHECKBUILD BIN
bigPint 1.10.0  (landing page)
Lindsay Rutter
Snapshot Date: 2022-01-13 01:55:04 -0500 (Thu, 13 Jan 2022)
git_url: https://git.bioconductor.org/packages/bigPint
git_branch: RELEASE_3_14
git_last_commit: 8efcfe7
git_last_commit_date: 2021-10-26 12:49:05 -0500 (Tue, 26 Oct 2021)
nebbiolo2Linux (Ubuntu 20.04.4 LTS) / x86_64  OK    OK    WARNINGS  UNNEEDED, same version is already published
tokay2Windows Server 2012 R2 Standard / x64  OK    OK    WARNINGS    OK  UNNEEDED, same version is already published
machv2macOS 10.14.6 Mojave / x86_64  OK    OK    WARNINGS    OK  UNNEEDED, same version is already published

Summary

Package: bigPint
Version: 1.10.0
Command: C:\cygwin\bin\curl.exe -O http://155.52.207.166/BBS/3.14/bioc/src/contrib/bigPint_1.10.0.tar.gz && rm -rf bigPint.buildbin-libdir && mkdir bigPint.buildbin-libdir && C:\Users\biocbuild\bbs-3.14-bioc\R\bin\R.exe CMD INSTALL --merge-multiarch --build --library=bigPint.buildbin-libdir bigPint_1.10.0.tar.gz && C:\Users\biocbuild\bbs-3.14-bioc\R\bin\R.exe CMD INSTALL bigPint_1.10.0.zip && rm bigPint_1.10.0.tar.gz bigPint_1.10.0.zip
StartedAt: 2022-01-13 06:29:07 -0500 (Thu, 13 Jan 2022)
EndedAt: 2022-01-13 06:33:00 -0500 (Thu, 13 Jan 2022)
EllapsedTime: 233.1 seconds
RetCode: 0
Status:   OK  

Command output

##############################################################################
##############################################################################
###
### Running command:
###
###   C:\cygwin\bin\curl.exe -O http://155.52.207.166/BBS/3.14/bioc/src/contrib/bigPint_1.10.0.tar.gz && rm -rf bigPint.buildbin-libdir && mkdir bigPint.buildbin-libdir && C:\Users\biocbuild\bbs-3.14-bioc\R\bin\R.exe CMD INSTALL --merge-multiarch --build --library=bigPint.buildbin-libdir bigPint_1.10.0.tar.gz && C:\Users\biocbuild\bbs-3.14-bioc\R\bin\R.exe CMD INSTALL bigPint_1.10.0.zip && rm bigPint_1.10.0.tar.gz bigPint_1.10.0.zip
###
##############################################################################
##############################################################################


  % Total    % Received % Xferd  Average Speed   Time    Time     Time  Current
                                 Dload  Upload   Total   Spent    Left  Speed

  0     0    0     0    0     0      0      0 --:--:-- --:--:-- --:--:--     0
  0 56.8M    0   98k    0     0   747k      0  0:01:17 --:--:--  0:01:17  749k
 11 56.8M   11 6630k    0     0  5866k      0  0:00:09  0:00:01  0:00:08 5867k
 26 56.8M   26 14.8M    0     0  7112k      0  0:00:08  0:00:02  0:00:06 7113k
 38 56.8M   38 21.8M    0     0  7141k      0  0:00:08  0:00:03  0:00:05 7141k
 50 56.8M   50 28.7M    0     0  7105k      0  0:00:08  0:00:04  0:00:04 7105k
 64 56.8M   64 36.8M    0     0  7334k      0  0:00:07  0:00:05  0:00:02 7509k
 82 56.8M   82 46.7M    0     0  7808k      0  0:00:07  0:00:06  0:00:01 8248k
100 56.8M  100 56.8M    0     0  8250k      0  0:00:07  0:00:07 --:--:-- 8743k

install for i386

* installing *source* package 'bigPint' ...
** using staged installation
** R
** data
*** moving datasets to lazyload DB
** inst
** byte-compile and prepare package for lazy loading
** help
*** installing help indices
  converting help for package 'bigPint'
    finding HTML links ... done
    bigPint                                 html  
    convertSEPair                           html  
    convertSESubsetGenes                    html  
    plotClusters                            html  
    plotLitre                               html  
    plotLitreApp                            html  
    plotPCP                                 html  
    plotPCPApp                              html  
    plotSM                                  html  
    plotSMApp                               html  
    plotVolcano                             html  
    plotVolcanoApp                          html  
    se_soybean_cn_sub                       html  
    se_soybean_ir_sub                       html  
    soybean_cn                              html  
    soybean_cn_metrics                      html  
    soybean_cn_sub                          html  
    soybean_cn_sub_metrics                  html  
    soybean_ir                              html  
    soybean_ir_metrics                      html  
    soybean_ir_sub                          html  
    soybean_ir_sub_metrics                  html  
*** copying figures
** building package indices
** installing vignettes
** testing if installed package can be loaded from temporary location
** testing if installed package can be loaded from final location
** testing if installed package keeps a record of temporary installation path

install for x64

* installing *source* package 'bigPint' ...
** testing if installed package can be loaded
* MD5 sums
packaged installation of 'bigPint' as bigPint_1.10.0.zip
* DONE (bigPint)
* installing to library 'C:/Users/biocbuild/bbs-3.14-bioc/R/library'
package 'bigPint' successfully unpacked and MD5 sums checked