Back to Multiple platform build/check report for BioC 3.14
A[B]CDEFGHIJKLMNOPQRSTUVWXYZ

This page was generated on 2022-01-26 13:06:14 -0500 (Wed, 26 Jan 2022).

HostnameOSArch (*)R versionInstalled pkgs
nebbiolo2Linux (Ubuntu 20.04.4 LTS)x86_644.1.2 (2021-11-01) -- "Bird Hippie" 4329
tokay2Windows Server 2012 R2 Standardx644.1.2 (2021-11-01) -- "Bird Hippie" 4080
machv2macOS 10.14.6 Mojavex86_644.1.2 (2021-11-01) -- "Bird Hippie" 4141
Click on any hostname to see more info about the system (e.g. compilers)      (*) as reported by 'uname -p', except on Windows and Mac OS X

BUILD BIN results for bigPint on tokay2


To the developers/maintainers of the bigPint package:
- Please allow up to 24 hours (and sometimes 48 hours) for your latest push to git@git.bioconductor.org:packages/bigPint.git to
reflect on this report. See How and When does the builder pull? When will my changes propagate? here for more information.
- Make sure to use the following settings in order to reproduce any error or warning you see on this page.

raw results

Package 149/2083HostnameOS / ArchINSTALLBUILDCHECKBUILD BIN
bigPint 1.10.0  (landing page)
Lindsay Rutter
Snapshot Date: 2022-01-25 01:55:07 -0500 (Tue, 25 Jan 2022)
git_url: https://git.bioconductor.org/packages/bigPint
git_branch: RELEASE_3_14
git_last_commit: 8efcfe7
git_last_commit_date: 2021-10-26 12:49:05 -0500 (Tue, 26 Oct 2021)
nebbiolo2Linux (Ubuntu 20.04.4 LTS) / x86_64  OK    OK    WARNINGS  UNNEEDED, same version is already published
tokay2Windows Server 2012 R2 Standard / x64  OK    OK    WARNINGS    OK  UNNEEDED, same version is already published
machv2macOS 10.14.6 Mojave / x86_64  OK    OK    WARNINGS    OK  UNNEEDED, same version is already published

Summary

Package: bigPint
Version: 1.10.0
Command: rm -rf bigPint.buildbin-libdir && mkdir bigPint.buildbin-libdir && C:\Users\biocbuild\bbs-3.14-bioc\R\bin\R.exe CMD INSTALL --merge-multiarch --build --library=bigPint.buildbin-libdir bigPint_1.10.0.tar.gz
StartedAt: 2022-01-26 05:34:57 -0500 (Wed, 26 Jan 2022)
EndedAt: 2022-01-26 05:35:59 -0500 (Wed, 26 Jan 2022)
EllapsedTime: 62.8 seconds
RetCode: 0
Status:   OK  
PackageFile: bigPint_1.10.0.zip
PackageFileSize: 5.641 MiB

Command output

##############################################################################
##############################################################################
###
### Running command:
###
###   rm -rf bigPint.buildbin-libdir && mkdir bigPint.buildbin-libdir && C:\Users\biocbuild\bbs-3.14-bioc\R\bin\R.exe CMD INSTALL --merge-multiarch --build --library=bigPint.buildbin-libdir bigPint_1.10.0.tar.gz
###
##############################################################################
##############################################################################



install for i386

* installing *source* package 'bigPint' ...
** using staged installation
** R
** data
*** moving datasets to lazyload DB
** inst
** byte-compile and prepare package for lazy loading
** help
*** installing help indices
  converting help for package 'bigPint'
    finding HTML links ... done
    bigPint                                 html  
    convertSEPair                           html  
    convertSESubsetGenes                    html  
    plotClusters                            html  
    plotLitre                               html  
    plotLitreApp                            html  
    plotPCP                                 html  
    plotPCPApp                              html  
    plotSM                                  html  
    plotSMApp                               html  
    plotVolcano                             html  
    plotVolcanoApp                          html  
    se_soybean_cn_sub                       html  
    se_soybean_ir_sub                       html  
    soybean_cn                              html  
    soybean_cn_metrics                      html  
    soybean_cn_sub                          html  
    soybean_cn_sub_metrics                  html  
    soybean_ir                              html  
    soybean_ir_metrics                      html  
    soybean_ir_sub                          html  
    soybean_ir_sub_metrics                  html  
** building package indices
** installing vignettes
** testing if installed package can be loaded from temporary location
** testing if installed package can be loaded from final location
** testing if installed package keeps a record of temporary installation path

install for x64

* installing *source* package 'bigPint' ...
** testing if installed package can be loaded
* MD5 sums
packaged installation of 'bigPint' as bigPint_1.10.0.zip
* DONE (bigPint)