Back to Multiple platform build/check report for BioC 3.14
A[B]CDEFGHIJKLMNOPQRSTUVWXYZ

This page was generated on 2021-10-20 12:05:01 -0400 (Wed, 20 Oct 2021).

BUILD results for bigPint on riesling1

To the developers/maintainers of the bigPint package:
- Please allow up to 24 hours (and sometimes 48 hours) for your latest push to git@git.bioconductor.org:packages/bigPint.git to
reflect on this report. See How and When does the builder pull? When will my changes propagate? here for more information.
- Make sure to use the following settings in order to reproduce any error or warning you see on this page.

raw results

Package 149/2072HostnameOS / ArchINSTALLBUILDCHECKBUILD BIN
bigPint 1.9.0  (landing page)
Lindsay Rutter
Snapshot Date: 2021-10-19 14:50:04 -0400 (Tue, 19 Oct 2021)
git_url: https://git.bioconductor.org/packages/bigPint
git_branch: master
git_last_commit: cc84061
git_last_commit_date: 2021-05-19 12:40:30 -0400 (Wed, 19 May 2021)
nebbiolo2Linux (Ubuntu 20.04.2 LTS) / x86_64  OK    OK    WARNINGS  UNNEEDED, same version is already published
riesling1Windows Server 2019 Standard / x64  OK    OK    WARNINGS    OK  UNNEEDED, same version is already published
merida1macOS 10.14.6 Mojave / x86_64  OK    OK    WARNINGS    OK  UNNEEDED, same version is already published

Summary

Package: bigPint
Version: 1.9.0
Command: chmod a+r bigPint -R && D:\biocbuild\bbs-3.14-bioc\R\bin\R.exe CMD build --keep-empty-dirs --no-resave-data bigPint
StartedAt: 2021-10-19 19:54:11 -0400 (Tue, 19 Oct 2021)
EndedAt: 2021-10-19 19:58:24 -0400 (Tue, 19 Oct 2021)
EllapsedTime: 253.2 seconds
RetCode: 0
Status:   OK  
PackageFile: bigPint_1.9.0.tar.gz
PackageFileSize: 5.559 MiB

Command output

##############################################################################
##############################################################################
###
### Running command:
###
###   chmod a+r bigPint -R && D:\biocbuild\bbs-3.14-bioc\R\bin\R.exe CMD build --keep-empty-dirs --no-resave-data bigPint
###
##############################################################################
##############################################################################


* checking for file 'bigPint/DESCRIPTION' ... OK
* preparing 'bigPint':
* checking DESCRIPTION meta-information ... OK
* installing the package to build vignettes
* creating vignettes ... OK
* checking for LF line-endings in source and make files and shell scripts
* checking for empty or unneeded directories
* building 'bigPint_1.9.0.tar.gz'