Back to Multiple platform build/check report for BioC 3.14
A[B]CDEFGHIJKLMNOPQRSTUVWXYZ

This page was generated on 2021-12-03 13:04:43 -0500 (Fri, 03 Dec 2021).

INSTALL results for bigPint on nebbiolo2

To the developers/maintainers of the bigPint package:
- Please allow up to 24 hours (and sometimes 48 hours) for your latest push to git@git.bioconductor.org:packages/bigPint.git to
reflect on this report. See How and When does the builder pull? When will my changes propagate? here for more information.
- Make sure to use the following settings in order to reproduce any error or warning you see on this page.

raw results

Package 149/2083HostnameOS / ArchINSTALLBUILDCHECKBUILD BIN
bigPint 1.10.0  (landing page)
Lindsay Rutter
Snapshot Date: 2021-12-02 01:55:06 -0500 (Thu, 02 Dec 2021)
git_url: https://git.bioconductor.org/packages/bigPint
git_branch: RELEASE_3_14
git_last_commit: 8efcfe7
git_last_commit_date: 2021-10-26 12:49:05 -0500 (Tue, 26 Oct 2021)
nebbiolo2Linux (Ubuntu 20.04.3 LTS) / x86_64  OK    OK    WARNINGS  UNNEEDED, same version is already published
tokay2Windows Server 2012 R2 Standard / x64  OK    OK    WARNINGS    OK  UNNEEDED, same version is already published
machv2macOS 10.14.6 Mojave / x86_64  OK    OK    WARNINGS    OK  UNNEEDED, same version is already published

Summary

Package: bigPint
Version: 1.10.0
Command: /home/biocbuild/bbs-3.14-bioc/R/bin/R CMD INSTALL bigPint
StartedAt: 2021-12-02 03:29:22 -0500 (Thu, 02 Dec 2021)
EndedAt: 2021-12-02 03:29:44 -0500 (Thu, 02 Dec 2021)
EllapsedTime: 21.5 seconds
RetCode: 0
Status:   OK  

Command output

##############################################################################
##############################################################################
###
### Running command:
###
###   /home/biocbuild/bbs-3.14-bioc/R/bin/R CMD INSTALL bigPint
###
##############################################################################
##############################################################################


* installing to library ‘/home/biocbuild/bbs-3.14-bioc/R/library’
* installing *source* package ‘bigPint’ ...
** using staged installation
** R
** data
*** moving datasets to lazyload DB
** inst
** byte-compile and prepare package for lazy loading
** help
*** installing help indices
*** copying figures
** building package indices
** installing vignettes
** testing if installed package can be loaded from temporary location
** testing if installed package can be loaded from final location
** testing if installed package keeps a record of temporary installation path
* DONE (bigPint)