Back to Multiple platform build/check report for BioC 3.14
A[B]CDEFGHIJKLMNOPQRSTUVWXYZ

This page was generated on 2021-10-19 12:04:47 -0400 (Tue, 19 Oct 2021).

BUILD results for bgx on riesling1

To the developers/maintainers of the bgx package:
- Please allow up to 24 hours (and sometimes 48 hours) for your latest push to git@git.bioconductor.org:packages/bgx.git to
reflect on this report. See How and When does the builder pull? When will my changes propagate? here for more information.
- Make sure to use the following settings in order to reproduce any error or warning you see on this page.

raw results

Package 142/2060HostnameOS / ArchINSTALLBUILDCHECKBUILD BIN
bgx 1.59.0  (landing page)
Ernest Turro
Snapshot Date: 2021-10-18 14:50:10 -0400 (Mon, 18 Oct 2021)
git_url: https://git.bioconductor.org/packages/bgx
git_branch: master
git_last_commit: 0c5f863
git_last_commit_date: 2021-05-19 11:39:10 -0400 (Wed, 19 May 2021)
nebbiolo2Linux (Ubuntu 20.04.2 LTS) / x86_64  OK    OK    OK  UNNEEDED, same version is already published
riesling1Windows Server 2019 Standard / x64  OK    OK    OK    OK  UNNEEDED, same version is already published
merida1macOS 10.14.6 Mojave / x86_64  OK    OK    WARNINGS    OK  UNNEEDED, same version is already published

Summary

Package: bgx
Version: 1.59.0
Command: chmod a+r bgx -R && D:\biocbuild\bbs-3.14-bioc\R\bin\R.exe CMD build --keep-empty-dirs --no-resave-data bgx
StartedAt: 2021-10-18 19:46:04 -0400 (Mon, 18 Oct 2021)
EndedAt: 2021-10-18 19:50:37 -0400 (Mon, 18 Oct 2021)
EllapsedTime: 272.8 seconds
RetCode: 0
Status:   OK  
PackageFile: bgx_1.59.0.tar.gz
PackageFileSize: 2.202 MiB

Command output

##############################################################################
##############################################################################
###
### Running command:
###
###   chmod a+r bgx -R && D:\biocbuild\bbs-3.14-bioc\R\bin\R.exe CMD build --keep-empty-dirs --no-resave-data bgx
###
##############################################################################
##############################################################################


* checking for file 'bgx/DESCRIPTION' ... OK
* preparing 'bgx':
* checking DESCRIPTION meta-information ... OK
* cleaning src
* installing the package to build vignettes
* creating vignettes ... OK
* cleaning src
* checking for LF line-endings in source and make files and shell scripts
* checking for empty or unneeded directories
* building 'bgx_1.59.0.tar.gz'
Warning: file 'bgx/configure' did not have execute permissions: corrected