Back to Multiple platform build/check report for BioC 3.14
A[B]CDEFGHIJKLMNOPQRSTUVWXYZ

This page was generated on 2021-12-03 13:05:40 -0500 (Fri, 03 Dec 2021).

INSTALL results for bgx on machv2

To the developers/maintainers of the bgx package:
- Please allow up to 24 hours (and sometimes 48 hours) for your latest push to git@git.bioconductor.org:packages/bgx.git to
reflect on this report. See How and When does the builder pull? When will my changes propagate? here for more information.
- Make sure to use the following settings in order to reproduce any error or warning you see on this page.

raw results

Package 143/2083HostnameOS / ArchINSTALLBUILDCHECKBUILD BIN
bgx 1.60.0  (landing page)
Ernest Turro
Snapshot Date: 2021-12-02 01:55:06 -0500 (Thu, 02 Dec 2021)
git_url: https://git.bioconductor.org/packages/bgx
git_branch: RELEASE_3_14
git_last_commit: d7392b7
git_last_commit_date: 2021-10-26 11:51:11 -0500 (Tue, 26 Oct 2021)
nebbiolo2Linux (Ubuntu 20.04.3 LTS) / x86_64  OK    OK    OK  UNNEEDED, same version is already published
tokay2Windows Server 2012 R2 Standard / x64  OK    OK    OK    OK  UNNEEDED, same version is already published
machv2macOS 10.14.6 Mojave / x86_64  OK    OK    WARNINGS    OK  UNNEEDED, same version is already published

Summary

Package: bgx
Version: 1.60.0
Command: /Library/Frameworks/R.framework/Resources/bin/R CMD INSTALL bgx
StartedAt: 2021-12-02 03:37:54 -0500 (Thu, 02 Dec 2021)
EndedAt: 2021-12-02 03:38:43 -0500 (Thu, 02 Dec 2021)
EllapsedTime: 49.3 seconds
RetCode: 0
Status:   OK  

Command output

##############################################################################
##############################################################################
###
### Running command:
###
###   /Library/Frameworks/R.framework/Resources/bin/R CMD INSTALL bgx
###
##############################################################################
##############################################################################


* installing to library ‘/Library/Frameworks/R.framework/Versions/4.1/Resources/library’
* installing *source* package ‘bgx’ ...
** using staged installation
checking for gcc... clang -mmacosx-version-min=10.13
checking for C compiler default output file name... a.out
checking whether the C compiler works... yes
checking whether we are cross compiling... no
checking for suffix of executables... 
checking for suffix of object files... o
checking whether we are using the GNU C compiler... yes
checking whether clang -mmacosx-version-min=10.13 accepts -g... yes
checking for clang -mmacosx-version-min=10.13 option to accept ISO C89... none needed
checking for C compiler vendor... gnu
checking whether C compiler accepts -ffast-math... yes
checking whether C compiler accepts -O3... yes
checking build system type... i386-apple-darwin18.7.0
checking host system type... i386-apple-darwin18.7.0
checking for gcc architecture flag... 
checking for x86 cpuid 0 output... d:756e6547:6c65746e:49656e69
checking for x86 cpuid 1 output... 306e4:8200800:7fbee3ff:bfebfbff
checking whether C compiler accepts -march=pentiumpro... no
checking whether C compiler accepts -mcpu=pentiumpro... yes
checking for gcc architecture flag... -mcpu=pentiumpro
checking for clang -mmacosx-version-min=10.13 option to accept ISO C99... none needed
checking for main in -lm... yes
Untarring Boost header files...
checking for an ANSI C-conforming const... yes
checking for inline... inline
configure: creating ./config.status
config.status: creating src/Makevars
** libs
clang++ -mmacosx-version-min=10.13 -std=gnu++14 -I"/Library/Frameworks/R.framework/Resources/include" -DNDEBUG -I ../boostIncl -I'/Library/Frameworks/R.framework/Versions/4.1/Resources/library/Rcpp/include' -I/usr/local/include   -fPIC  -Wall -g -O2  -ffast-math -O3 -DUSING_R -c bgx.cc -o bgx.o
bgx.cc:44:13: warning: 'FLUSH' macro redefined [-Wmacro-redefined]
    #define FLUSH {R_FlushConsole(); R_ProcessEvents();}
            ^
./rand.hh:42:13: note: previous definition is here
    #define FLUSH R_FlushConsole();
            ^
In file included from bgx.cc:32:
In file included from ./rand.hh:32:
In file included from ../boostIncl/boost/random.hpp:36:
In file included from ../boostIncl/boost/random/linear_congruential.hpp:25:
../boostIncl/boost/random/detail/const_mod.hpp:148:5: warning: unused typedef 'boost_static_assert_typedef_148' [-Wunused-local-typedef]
    BOOST_STATIC_ASSERT(m > 0);
    ^
../boostIncl/boost/static_assert.hpp:105:10: note: expanded from macro 'BOOST_STATIC_ASSERT'
         BOOST_JOIN(boost_static_assert_typedef_, __LINE__)
         ^
../boostIncl/boost/config/suffix.hpp:521:28: note: expanded from macro 'BOOST_JOIN'
#define BOOST_JOIN( X, Y ) BOOST_DO_JOIN( X, Y )
                           ^
../boostIncl/boost/config/suffix.hpp:522:31: note: expanded from macro 'BOOST_DO_JOIN'
#define BOOST_DO_JOIN( X, Y ) BOOST_DO_JOIN2(X,Y)
                              ^
../boostIncl/boost/config/suffix.hpp:523:32: note: expanded from macro 'BOOST_DO_JOIN2'
#define BOOST_DO_JOIN2( X, Y ) X##Y
                               ^
<scratch space>:338:1: note: expanded from here
boost_static_assert_typedef_148
^
In file included from bgx.cc:32:
In file included from ./rand.hh:32:
In file included from ../boostIncl/boost/random.hpp:36:
In file included from ../boostIncl/boost/random/linear_congruential.hpp:25:
../boostIncl/boost/random/detail/const_mod.hpp:152:5: warning: unused typedef 'boost_static_assert_typedef_152' [-Wunused-local-typedef]
    BOOST_STATIC_ASSERT(boost::integer_traits<IntType>::is_signed);
    ^
../boostIncl/boost/static_assert.hpp:105:10: note: expanded from macro 'BOOST_STATIC_ASSERT'
         BOOST_JOIN(boost_static_assert_typedef_, __LINE__)
         ^
../boostIncl/boost/config/suffix.hpp:521:28: note: expanded from macro 'BOOST_JOIN'
#define BOOST_JOIN( X, Y ) BOOST_DO_JOIN( X, Y )
                           ^
../boostIncl/boost/config/suffix.hpp:522:31: note: expanded from macro 'BOOST_DO_JOIN'
#define BOOST_DO_JOIN( X, Y ) BOOST_DO_JOIN2(X,Y)
                              ^
../boostIncl/boost/config/suffix.hpp:523:32: note: expanded from macro 'BOOST_DO_JOIN2'
#define BOOST_DO_JOIN2( X, Y ) X##Y
                               ^
<scratch space>:340:1: note: expanded from here
boost_static_assert_typedef_152
^
In file included from bgx.cc:32:
In file included from ./rand.hh:32:
In file included from ../boostIncl/boost/random.hpp:36:
../boostIncl/boost/random/linear_congruential.hpp:63:5: warning: unused typedef 'boost_static_assert_typedef_63' [-Wunused-local-typedef]
    BOOST_STATIC_ASSERT(std::numeric_limits<IntType>::is_integer);
    ^
../boostIncl/boost/static_assert.hpp:105:10: note: expanded from macro 'BOOST_STATIC_ASSERT'
         BOOST_JOIN(boost_static_assert_typedef_, __LINE__)
         ^
../boostIncl/boost/config/suffix.hpp:521:28: note: expanded from macro 'BOOST_JOIN'
#define BOOST_JOIN( X, Y ) BOOST_DO_JOIN( X, Y )
                           ^
../boostIncl/boost/config/suffix.hpp:522:31: note: expanded from macro 'BOOST_DO_JOIN'
#define BOOST_DO_JOIN( X, Y ) BOOST_DO_JOIN2(X,Y)
                              ^
../boostIncl/boost/config/suffix.hpp:523:32: note: expanded from macro 'BOOST_DO_JOIN2'
#define BOOST_DO_JOIN2( X, Y ) X##Y
                               ^
<scratch space>:342:1: note: expanded from here
boost_static_assert_typedef_63
^
In file included from bgx.cc:32:
In file included from ./rand.hh:32:
In file included from ../boostIncl/boost/random.hpp:38:
../boostIncl/boost/random/inversive_congruential.hpp:50:5: warning: unused typedef 'boost_static_assert_typedef_50' [-Wunused-local-typedef]
    BOOST_STATIC_ASSERT(b >= 0);
    ^
../boostIncl/boost/static_assert.hpp:105:10: note: expanded from macro 'BOOST_STATIC_ASSERT'
         BOOST_JOIN(boost_static_assert_typedef_, __LINE__)
         ^
../boostIncl/boost/config/suffix.hpp:521:28: note: expanded from macro 'BOOST_JOIN'
#define BOOST_JOIN( X, Y ) BOOST_DO_JOIN( X, Y )
                           ^
../boostIncl/boost/config/suffix.hpp:522:31: note: expanded from macro 'BOOST_DO_JOIN'
#define BOOST_DO_JOIN( X, Y ) BOOST_DO_JOIN2(X,Y)
                              ^
../boostIncl/boost/config/suffix.hpp:523:32: note: expanded from macro 'BOOST_DO_JOIN2'
#define BOOST_DO_JOIN2( X, Y ) X##Y
                               ^
<scratch space>:344:1: note: expanded from here
boost_static_assert_typedef_50
^
In file included from bgx.cc:32:
In file included from ./rand.hh:32:
In file included from ../boostIncl/boost/random.hpp:38:
../boostIncl/boost/random/inversive_congruential.hpp:51:5: warning: unused typedef 'boost_static_assert_typedef_51' [-Wunused-local-typedef]
    BOOST_STATIC_ASSERT(p > 1);
    ^
../boostIncl/boost/static_assert.hpp:105:10: note: expanded from macro 'BOOST_STATIC_ASSERT'
         BOOST_JOIN(boost_static_assert_typedef_, __LINE__)
         ^
../boostIncl/boost/config/suffix.hpp:521:28: note: expanded from macro 'BOOST_JOIN'
#define BOOST_JOIN( X, Y ) BOOST_DO_JOIN( X, Y )
                           ^
../boostIncl/boost/config/suffix.hpp:522:31: note: expanded from macro 'BOOST_DO_JOIN'
#define BOOST_DO_JOIN( X, Y ) BOOST_DO_JOIN2(X,Y)
                              ^
../boostIncl/boost/config/suffix.hpp:523:32: note: expanded from macro 'BOOST_DO_JOIN2'
#define BOOST_DO_JOIN2( X, Y ) X##Y
                               ^
<scratch space>:346:1: note: expanded from here
boost_static_assert_typedef_51
^
In file included from bgx.cc:32:
In file included from ./rand.hh:32:
In file included from ../boostIncl/boost/random.hpp:38:
../boostIncl/boost/random/inversive_congruential.hpp:52:5: warning: unused typedef 'boost_static_assert_typedef_52' [-Wunused-local-typedef]
    BOOST_STATIC_ASSERT(a >= 1);
    ^
../boostIncl/boost/static_assert.hpp:105:10: note: expanded from macro 'BOOST_STATIC_ASSERT'
         BOOST_JOIN(boost_static_assert_typedef_, __LINE__)
         ^
../boostIncl/boost/config/suffix.hpp:521:28: note: expanded from macro 'BOOST_JOIN'
#define BOOST_JOIN( X, Y ) BOOST_DO_JOIN( X, Y )
                           ^
../boostIncl/boost/config/suffix.hpp:522:31: note: expanded from macro 'BOOST_DO_JOIN'
#define BOOST_DO_JOIN( X, Y ) BOOST_DO_JOIN2(X,Y)
                              ^
../boostIncl/boost/config/suffix.hpp:523:32: note: expanded from macro 'BOOST_DO_JOIN2'
#define BOOST_DO_JOIN2( X, Y ) X##Y
                               ^
<scratch space>:348:1: note: expanded from here
boost_static_assert_typedef_52
^
In file included from bgx.cc:32:
In file included from ./rand.hh:32:
In file included from ../boostIncl/boost/random.hpp:39:
../boostIncl/boost/random/shuffle_output.hpp:124:5: warning: unused typedef 'boost_static_assert_typedef_124' [-Wunused-local-typedef]
    BOOST_STATIC_ASSERT(std::numeric_limits<result_type>::is_integer);
    ^
../boostIncl/boost/static_assert.hpp:105:10: note: expanded from macro 'BOOST_STATIC_ASSERT'
         BOOST_JOIN(boost_static_assert_typedef_, __LINE__)
         ^
../boostIncl/boost/config/suffix.hpp:521:28: note: expanded from macro 'BOOST_JOIN'
#define BOOST_JOIN( X, Y ) BOOST_DO_JOIN( X, Y )
                           ^
../boostIncl/boost/config/suffix.hpp:522:31: note: expanded from macro 'BOOST_DO_JOIN'
#define BOOST_DO_JOIN( X, Y ) BOOST_DO_JOIN2(X,Y)
                              ^
../boostIncl/boost/config/suffix.hpp:523:32: note: expanded from macro 'BOOST_DO_JOIN2'
#define BOOST_DO_JOIN2( X, Y ) X##Y
                               ^
<scratch space>:350:1: note: expanded from here
boost_static_assert_typedef_124
^
In file included from bgx.cc:32:
In file included from ./rand.hh:32:
In file included from ../boostIncl/boost/random.hpp:40:
../boostIncl/boost/random/mersenne_twister.hpp:99:5: warning: unused typedef 'boost_static_assert_typedef_99' [-Wunused-local-typedef]
    BOOST_STATIC_ASSERT(!std::numeric_limits<result_type>::is_signed);
    ^
../boostIncl/boost/static_assert.hpp:105:10: note: expanded from macro 'BOOST_STATIC_ASSERT'
         BOOST_JOIN(boost_static_assert_typedef_, __LINE__)
         ^
../boostIncl/boost/config/suffix.hpp:521:28: note: expanded from macro 'BOOST_JOIN'
#define BOOST_JOIN( X, Y ) BOOST_DO_JOIN( X, Y )
                           ^
../boostIncl/boost/config/suffix.hpp:522:31: note: expanded from macro 'BOOST_DO_JOIN'
#define BOOST_DO_JOIN( X, Y ) BOOST_DO_JOIN2(X,Y)
                              ^
../boostIncl/boost/config/suffix.hpp:523:32: note: expanded from macro 'BOOST_DO_JOIN2'
#define BOOST_DO_JOIN2( X, Y ) X##Y
                               ^
<scratch space>:352:1: note: expanded from here
boost_static_assert_typedef_99
^
In file included from bgx.cc:32:
In file included from ./rand.hh:32:
In file included from ../boostIncl/boost/random.hpp:42:
In file included from ../boostIncl/boost/random/ranlux.hpp:20:
../boostIncl/boost/random/subtract_with_carry.hpp:83:5: warning: unused typedef 'boost_static_assert_typedef_83' [-Wunused-local-typedef]
    BOOST_STATIC_ASSERT(std::numeric_limits<result_type>::is_signed);
    ^
../boostIncl/boost/static_assert.hpp:105:10: note: expanded from macro 'BOOST_STATIC_ASSERT'
         BOOST_JOIN(boost_static_assert_typedef_, __LINE__)
         ^
../boostIncl/boost/config/suffix.hpp:521:28: note: expanded from macro 'BOOST_JOIN'
#define BOOST_JOIN( X, Y ) BOOST_DO_JOIN( X, Y )
                           ^
../boostIncl/boost/config/suffix.hpp:522:31: note: expanded from macro 'BOOST_DO_JOIN'
#define BOOST_DO_JOIN( X, Y ) BOOST_DO_JOIN2(X,Y)
                              ^
../boostIncl/boost/config/suffix.hpp:523:32: note: expanded from macro 'BOOST_DO_JOIN2'
#define BOOST_DO_JOIN2( X, Y ) X##Y
                               ^
<scratch space>:356:1: note: expanded from here
boost_static_assert_typedef_83
^
In file included from bgx.cc:32:
In file included from ./rand.hh:32:
In file included from ../boostIncl/boost/random.hpp:42:
In file included from ../boostIncl/boost/random/ranlux.hpp:20:
../boostIncl/boost/random/subtract_with_carry.hpp:84:5: warning: unused typedef 'boost_static_assert_typedef_84' [-Wunused-local-typedef]
    BOOST_STATIC_ASSERT(std::numeric_limits<result_type>::is_integer);
    ^
../boostIncl/boost/static_assert.hpp:105:10: note: expanded from macro 'BOOST_STATIC_ASSERT'
         BOOST_JOIN(boost_static_assert_typedef_, __LINE__)
         ^
../boostIncl/boost/config/suffix.hpp:521:28: note: expanded from macro 'BOOST_JOIN'
#define BOOST_JOIN( X, Y ) BOOST_DO_JOIN( X, Y )
                           ^
../boostIncl/boost/config/suffix.hpp:522:31: note: expanded from macro 'BOOST_DO_JOIN'
#define BOOST_DO_JOIN( X, Y ) BOOST_DO_JOIN2(X,Y)
                              ^
../boostIncl/boost/config/suffix.hpp:523:32: note: expanded from macro 'BOOST_DO_JOIN2'
#define BOOST_DO_JOIN2( X, Y ) X##Y
                               ^
<scratch space>:358:1: note: expanded from here
boost_static_assert_typedef_84
^
In file included from bgx.cc:32:
In file included from ./rand.hh:32:
In file included from ../boostIncl/boost/random.hpp:43:
../boostIncl/boost/random/linear_feedback_shift.hpp:55:5: warning: unused typedef 'boost_static_assert_typedef_55' [-Wunused-local-typedef]
    BOOST_STATIC_ASSERT(std::numeric_limits<UIntType>::is_integer);
    ^
../boostIncl/boost/static_assert.hpp:105:10: note: expanded from macro 'BOOST_STATIC_ASSERT'
         BOOST_JOIN(boost_static_assert_typedef_, __LINE__)
         ^
../boostIncl/boost/config/suffix.hpp:521:28: note: expanded from macro 'BOOST_JOIN'
#define BOOST_JOIN( X, Y ) BOOST_DO_JOIN( X, Y )
                           ^
../boostIncl/boost/config/suffix.hpp:522:31: note: expanded from macro 'BOOST_DO_JOIN'
#define BOOST_DO_JOIN( X, Y ) BOOST_DO_JOIN2(X,Y)
                              ^
../boostIncl/boost/config/suffix.hpp:523:32: note: expanded from macro 'BOOST_DO_JOIN2'
#define BOOST_DO_JOIN2( X, Y ) X##Y
                               ^
<scratch space>:364:1: note: expanded from here
boost_static_assert_typedef_55
^
In file included from bgx.cc:32:
In file included from ./rand.hh:32:
In file included from ../boostIncl/boost/random.hpp:43:
../boostIncl/boost/random/linear_feedback_shift.hpp:56:5: warning: unused typedef 'boost_static_assert_typedef_56' [-Wunused-local-typedef]
    BOOST_STATIC_ASSERT(!std::numeric_limits<UIntType>::is_signed);
    ^
../boostIncl/boost/static_assert.hpp:105:10: note: expanded from macro 'BOOST_STATIC_ASSERT'
         BOOST_JOIN(boost_static_assert_typedef_, __LINE__)
         ^
../boostIncl/boost/config/suffix.hpp:521:28: note: expanded from macro 'BOOST_JOIN'
#define BOOST_JOIN( X, Y ) BOOST_DO_JOIN( X, Y )
                           ^
../boostIncl/boost/config/suffix.hpp:522:31: note: expanded from macro 'BOOST_DO_JOIN'
#define BOOST_DO_JOIN( X, Y ) BOOST_DO_JOIN2(X,Y)
                              ^
../boostIncl/boost/config/suffix.hpp:523:32: note: expanded from macro 'BOOST_DO_JOIN2'
#define BOOST_DO_JOIN2( X, Y ) X##Y
                               ^
<scratch space>:366:1: note: expanded from here
boost_static_assert_typedef_56
^
In file included from bgx.cc:32:
In file included from ./rand.hh:32:
In file included from ../boostIncl/boost/random.hpp:43:
../boostIncl/boost/random/linear_feedback_shift.hpp:69:5: warning: unused typedef 'boost_static_assert_typedef_69' [-Wunused-local-typedef]
    BOOST_STATIC_ASSERT(std::numeric_limits<UIntType>::is_integer);
    ^
../boostIncl/boost/static_assert.hpp:105:10: note: expanded from macro 'BOOST_STATIC_ASSERT'
         BOOST_JOIN(boost_static_assert_typedef_, __LINE__)
         ^
../boostIncl/boost/config/suffix.hpp:521:28: note: expanded from macro 'BOOST_JOIN'
#define BOOST_JOIN( X, Y ) BOOST_DO_JOIN( X, Y )
                           ^
../boostIncl/boost/config/suffix.hpp:522:31: note: expanded from macro 'BOOST_DO_JOIN'
#define BOOST_DO_JOIN( X, Y ) BOOST_DO_JOIN2(X,Y)
                              ^
../boostIncl/boost/config/suffix.hpp:523:32: note: expanded from macro 'BOOST_DO_JOIN2'
#define BOOST_DO_JOIN2( X, Y ) X##Y
                               ^
<scratch space>:368:1: note: expanded from here
boost_static_assert_typedef_69
^
In file included from bgx.cc:32:
In file included from ./rand.hh:32:
In file included from ../boostIncl/boost/random.hpp:43:
../boostIncl/boost/random/linear_feedback_shift.hpp:70:5: warning: unused typedef 'boost_static_assert_typedef_70' [-Wunused-local-typedef]
    BOOST_STATIC_ASSERT(!std::numeric_limits<UIntType>::is_signed);
    ^
../boostIncl/boost/static_assert.hpp:105:10: note: expanded from macro 'BOOST_STATIC_ASSERT'
         BOOST_JOIN(boost_static_assert_typedef_, __LINE__)
         ^
../boostIncl/boost/config/suffix.hpp:521:28: note: expanded from macro 'BOOST_JOIN'
#define BOOST_JOIN( X, Y ) BOOST_DO_JOIN( X, Y )
                           ^
../boostIncl/boost/config/suffix.hpp:522:31: note: expanded from macro 'BOOST_DO_JOIN'
#define BOOST_DO_JOIN( X, Y ) BOOST_DO_JOIN2(X,Y)
                              ^
../boostIncl/boost/config/suffix.hpp:523:32: note: expanded from macro 'BOOST_DO_JOIN2'
#define BOOST_DO_JOIN2( X, Y ) X##Y
                               ^
<scratch space>:370:1: note: expanded from here
boost_static_assert_typedef_70
^
In file included from bgx.cc:32:
In file included from ./rand.hh:32:
In file included from ../boostIncl/boost/random.hpp:44:
../boostIncl/boost/random/xor_combine.hpp:67:5: warning: unused typedef 'boost_static_assert_typedef_67' [-Wunused-local-typedef]
    BOOST_STATIC_ASSERT(std::numeric_limits<typename base1_type::result_type>::is_integer);
    ^
../boostIncl/boost/static_assert.hpp:105:10: note: expanded from macro 'BOOST_STATIC_ASSERT'
         BOOST_JOIN(boost_static_assert_typedef_, __LINE__)
         ^
../boostIncl/boost/config/suffix.hpp:521:28: note: expanded from macro 'BOOST_JOIN'
#define BOOST_JOIN( X, Y ) BOOST_DO_JOIN( X, Y )
                           ^
../boostIncl/boost/config/suffix.hpp:522:31: note: expanded from macro 'BOOST_DO_JOIN'
#define BOOST_DO_JOIN( X, Y ) BOOST_DO_JOIN2(X,Y)
                              ^
../boostIncl/boost/config/suffix.hpp:523:32: note: expanded from macro 'BOOST_DO_JOIN2'
#define BOOST_DO_JOIN2( X, Y ) X##Y
                               ^
<scratch space>:372:1: note: expanded from here
boost_static_assert_typedef_67
^
In file included from bgx.cc:32:
In file included from ./rand.hh:32:
In file included from ../boostIncl/boost/random.hpp:44:
../boostIncl/boost/random/xor_combine.hpp:68:5: warning: unused typedef 'boost_static_assert_typedef_68' [-Wunused-local-typedef]
    BOOST_STATIC_ASSERT(std::numeric_limits<typename base2_type::result_type>::is_integer);
    ^
../boostIncl/boost/static_assert.hpp:105:10: note: expanded from macro 'BOOST_STATIC_ASSERT'
         BOOST_JOIN(boost_static_assert_typedef_, __LINE__)
         ^
../boostIncl/boost/config/suffix.hpp:521:28: note: expanded from macro 'BOOST_JOIN'
#define BOOST_JOIN( X, Y ) BOOST_DO_JOIN( X, Y )
                           ^
../boostIncl/boost/config/suffix.hpp:522:31: note: expanded from macro 'BOOST_DO_JOIN'
#define BOOST_DO_JOIN( X, Y ) BOOST_DO_JOIN2(X,Y)
                              ^
../boostIncl/boost/config/suffix.hpp:523:32: note: expanded from macro 'BOOST_DO_JOIN2'
#define BOOST_DO_JOIN2( X, Y ) X##Y
                               ^
<scratch space>:374:1: note: expanded from here
boost_static_assert_typedef_68
^
In file included from bgx.cc:32:
In file included from ./rand.hh:32:
In file included from ../boostIncl/boost/random.hpp:44:
../boostIncl/boost/random/xor_combine.hpp:69:5: warning: unused typedef 'boost_static_assert_typedef_69' [-Wunused-local-typedef]
    BOOST_STATIC_ASSERT(std::numeric_limits<typename base1_type::result_type>::digits >= std::numeric_limits<typename base2_type::result_type>::digits);
    ^
../boostIncl/boost/static_assert.hpp:105:10: note: expanded from macro 'BOOST_STATIC_ASSERT'
         BOOST_JOIN(boost_static_assert_typedef_, __LINE__)
         ^
../boostIncl/boost/config/suffix.hpp:521:28: note: expanded from macro 'BOOST_JOIN'
#define BOOST_JOIN( X, Y ) BOOST_DO_JOIN( X, Y )
                           ^
../boostIncl/boost/config/suffix.hpp:522:31: note: expanded from macro 'BOOST_DO_JOIN'
#define BOOST_DO_JOIN( X, Y ) BOOST_DO_JOIN2(X,Y)
                              ^
../boostIncl/boost/config/suffix.hpp:523:32: note: expanded from macro 'BOOST_DO_JOIN2'
#define BOOST_DO_JOIN2( X, Y ) X##Y
                               ^
<scratch space>:376:1: note: expanded from here
boost_static_assert_typedef_69
^
In file included from bgx.cc:32:
In file included from ./rand.hh:32:
In file included from ../boostIncl/boost/random.hpp:53:
In file included from ../boostIncl/boost/random/random_number_generator.hpp:22:
In file included from ../boostIncl/boost/random/uniform_int.hpp:26:
../boostIncl/boost/random/uniform_smallint.hpp:121:5: warning: unused typedef 'boost_static_assert_typedef_121' [-Wunused-local-typedef]
    BOOST_STATIC_ASSERT(std::numeric_limits<IntType>::is_integer);
    ^
../boostIncl/boost/static_assert.hpp:105:10: note: expanded from macro 'BOOST_STATIC_ASSERT'
         BOOST_JOIN(boost_static_assert_typedef_, __LINE__)
         ^
../boostIncl/boost/config/suffix.hpp:521:28: note: expanded from macro 'BOOST_JOIN'
#define BOOST_JOIN( X, Y ) BOOST_DO_JOIN( X, Y )
                           ^
../boostIncl/boost/config/suffix.hpp:522:31: note: expanded from macro 'BOOST_DO_JOIN'
#define BOOST_DO_JOIN( X, Y ) BOOST_DO_JOIN2(X,Y)
                              ^
../boostIncl/boost/config/suffix.hpp:523:32: note: expanded from macro 'BOOST_DO_JOIN2'
#define BOOST_DO_JOIN2( X, Y ) X##Y
                               ^
<scratch space>:378:1: note: expanded from here
boost_static_assert_typedef_121
^
In file included from bgx.cc:32:
In file included from ./rand.hh:32:
In file included from ../boostIncl/boost/random.hpp:53:
In file included from ../boostIncl/boost/random/random_number_generator.hpp:22:
In file included from ../boostIncl/boost/random/uniform_int.hpp:26:
../boostIncl/boost/random/uniform_smallint.hpp:122:5: warning: unused typedef 'boost_static_assert_typedef_122' [-Wunused-local-typedef]
    BOOST_STATIC_ASSERT(!std::numeric_limits<typename base_type::result_type>::is_integer);
    ^
../boostIncl/boost/static_assert.hpp:105:10: note: expanded from macro 'BOOST_STATIC_ASSERT'
         BOOST_JOIN(boost_static_assert_typedef_, __LINE__)
         ^
../boostIncl/boost/config/suffix.hpp:521:28: note: expanded from macro 'BOOST_JOIN'
#define BOOST_JOIN( X, Y ) BOOST_DO_JOIN( X, Y )
                           ^
../boostIncl/boost/config/suffix.hpp:522:31: note: expanded from macro 'BOOST_DO_JOIN'
#define BOOST_DO_JOIN( X, Y ) BOOST_DO_JOIN2(X,Y)
                              ^
../boostIncl/boost/config/suffix.hpp:523:32: note: expanded from macro 'BOOST_DO_JOIN2'
#define BOOST_DO_JOIN2( X, Y ) X##Y
                               ^
<scratch space>:380:1: note: expanded from here
boost_static_assert_typedef_122
^
In file included from bgx.cc:32:
In file included from ./rand.hh:32:
In file included from ../boostIncl/boost/random.hpp:53:
In file included from ../boostIncl/boost/random/random_number_generator.hpp:22:
In file included from ../boostIncl/boost/random/uniform_int.hpp:26:
../boostIncl/boost/random/uniform_smallint.hpp:170:5: warning: unused typedef 'boost_static_assert_typedef_170' [-Wunused-local-typedef]
    BOOST_STATIC_ASSERT(std::numeric_limits<IntType>::is_integer);
    ^
../boostIncl/boost/static_assert.hpp:105:10: note: expanded from macro 'BOOST_STATIC_ASSERT'
         BOOST_JOIN(boost_static_assert_typedef_, __LINE__)
         ^
../boostIncl/boost/config/suffix.hpp:521:28: note: expanded from macro 'BOOST_JOIN'
#define BOOST_JOIN( X, Y ) BOOST_DO_JOIN( X, Y )
                           ^
../boostIncl/boost/config/suffix.hpp:522:31: note: expanded from macro 'BOOST_DO_JOIN'
#define BOOST_DO_JOIN( X, Y ) BOOST_DO_JOIN2(X,Y)
                              ^
../boostIncl/boost/config/suffix.hpp:523:32: note: expanded from macro 'BOOST_DO_JOIN2'
#define BOOST_DO_JOIN2( X, Y ) X##Y
                               ^
<scratch space>:382:1: note: expanded from here
boost_static_assert_typedef_170
^
In file included from bgx.cc:32:
In file included from ./rand.hh:32:
In file included from ../boostIncl/boost/random.hpp:53:
In file included from ../boostIncl/boost/random/random_number_generator.hpp:22:
../boostIncl/boost/random/uniform_int.hpp:47:5: warning: unused typedef 'boost_static_assert_typedef_47' [-Wunused-local-typedef]
    BOOST_STATIC_ASSERT(std::numeric_limits<IntType>::is_integer);
    ^
../boostIncl/boost/static_assert.hpp:105:10: note: expanded from macro 'BOOST_STATIC_ASSERT'
         BOOST_JOIN(boost_static_assert_typedef_, __LINE__)
         ^
../boostIncl/boost/config/suffix.hpp:521:28: note: expanded from macro 'BOOST_JOIN'
#define BOOST_JOIN( X, Y ) BOOST_DO_JOIN( X, Y )
                           ^
../boostIncl/boost/config/suffix.hpp:522:31: note: expanded from macro 'BOOST_DO_JOIN'
#define BOOST_DO_JOIN( X, Y ) BOOST_DO_JOIN2(X,Y)
                              ^
../boostIncl/boost/config/suffix.hpp:523:32: note: expanded from macro 'BOOST_DO_JOIN2'
#define BOOST_DO_JOIN2( X, Y ) X##Y
                               ^
<scratch space>:384:1: note: expanded from here
boost_static_assert_typedef_47
^
In file included from bgx.cc:32:
In file included from ./rand.hh:32:
In file included from ../boostIncl/boost/random.hpp:53:
../boostIncl/boost/random/random_number_generator.hpp:38:5: warning: unused typedef 'boost_static_assert_typedef_38' [-Wunused-local-typedef]
    BOOST_STATIC_ASSERT(std::numeric_limits<result_type>::is_integer);
    ^
../boostIncl/boost/static_assert.hpp:105:10: note: expanded from macro 'BOOST_STATIC_ASSERT'
         BOOST_JOIN(boost_static_assert_typedef_, __LINE__)
         ^
../boostIncl/boost/config/suffix.hpp:521:28: note: expanded from macro 'BOOST_JOIN'
#define BOOST_JOIN( X, Y ) BOOST_DO_JOIN( X, Y )
                           ^
../boostIncl/boost/config/suffix.hpp:522:31: note: expanded from macro 'BOOST_DO_JOIN'
#define BOOST_DO_JOIN( X, Y ) BOOST_DO_JOIN2(X,Y)
                              ^
../boostIncl/boost/config/suffix.hpp:523:32: note: expanded from macro 'BOOST_DO_JOIN2'
#define BOOST_DO_JOIN2( X, Y ) X##Y
                               ^
<scratch space>:3:1: note: expanded from here
boost_static_assert_typedef_38
^
In file included from bgx.cc:32:
In file included from ./rand.hh:32:
In file included from ../boostIncl/boost/random.hpp:59:
../boostIncl/boost/random/uniform_real.hpp:41:5: warning: unused typedef 'boost_static_assert_typedef_41' [-Wunused-local-typedef]
    BOOST_STATIC_ASSERT(!std::numeric_limits<RealType>::is_integer);
    ^
../boostIncl/boost/static_assert.hpp:105:10: note: expanded from macro 'BOOST_STATIC_ASSERT'
         BOOST_JOIN(boost_static_assert_typedef_, __LINE__)
         ^
../boostIncl/boost/config/suffix.hpp:521:28: note: expanded from macro 'BOOST_JOIN'
#define BOOST_JOIN( X, Y ) BOOST_DO_JOIN( X, Y )
                           ^
../boostIncl/boost/config/suffix.hpp:522:31: note: expanded from macro 'BOOST_DO_JOIN'
#define BOOST_DO_JOIN( X, Y ) BOOST_DO_JOIN2(X,Y)
                              ^
../boostIncl/boost/config/suffix.hpp:523:32: note: expanded from macro 'BOOST_DO_JOIN2'
#define BOOST_DO_JOIN2( X, Y ) X##Y
                               ^
<scratch space>:5:1: note: expanded from here
boost_static_assert_typedef_41
^
In file included from bgx.cc:32:
In file included from ./rand.hh:32:
In file included from ../boostIncl/boost/random.hpp:67:
../boostIncl/boost/random/poisson_distribution.hpp:38:5: warning: unused typedef 'boost_static_assert_typedef_38' [-Wunused-local-typedef]
    BOOST_STATIC_ASSERT(std::numeric_limits<IntType>::is_integer);
    ^
../boostIncl/boost/static_assert.hpp:105:10: note: expanded from macro 'BOOST_STATIC_ASSERT'
         BOOST_JOIN(boost_static_assert_typedef_, __LINE__)
         ^
../boostIncl/boost/config/suffix.hpp:521:28: note: expanded from macro 'BOOST_JOIN'
#define BOOST_JOIN( X, Y ) BOOST_DO_JOIN( X, Y )
                           ^
../boostIncl/boost/config/suffix.hpp:522:31: note: expanded from macro 'BOOST_DO_JOIN'
#define BOOST_DO_JOIN( X, Y ) BOOST_DO_JOIN2(X,Y)
                              ^
../boostIncl/boost/config/suffix.hpp:523:32: note: expanded from macro 'BOOST_DO_JOIN2'
#define BOOST_DO_JOIN2( X, Y ) X##Y
                               ^
<scratch space>:15:1: note: expanded from here
boost_static_assert_typedef_38
^
In file included from bgx.cc:32:
In file included from ./rand.hh:32:
In file included from ../boostIncl/boost/random.hpp:67:
../boostIncl/boost/random/poisson_distribution.hpp:39:5: warning: unused typedef 'boost_static_assert_typedef_39' [-Wunused-local-typedef]
    BOOST_STATIC_ASSERT(!std::numeric_limits<RealType>::is_integer);
    ^
../boostIncl/boost/static_assert.hpp:105:10: note: expanded from macro 'BOOST_STATIC_ASSERT'
         BOOST_JOIN(boost_static_assert_typedef_, __LINE__)
         ^
../boostIncl/boost/config/suffix.hpp:521:28: note: expanded from macro 'BOOST_JOIN'
#define BOOST_JOIN( X, Y ) BOOST_DO_JOIN( X, Y )
                           ^
../boostIncl/boost/config/suffix.hpp:522:31: note: expanded from macro 'BOOST_DO_JOIN'
#define BOOST_DO_JOIN( X, Y ) BOOST_DO_JOIN2(X,Y)
                              ^
../boostIncl/boost/config/suffix.hpp:523:32: note: expanded from macro 'BOOST_DO_JOIN2'
#define BOOST_DO_JOIN2( X, Y ) X##Y
                               ^
<scratch space>:17:1: note: expanded from here
boost_static_assert_typedef_39
^
In file included from bgx.cc:36:
./bgx_updates.hh:47:8: warning: private field 'categories' is not used [-Wunused-private-field]
  int* categories;
       ^
./bgx_updates.hh:310:8: warning: private field 'categories' is not used [-Wunused-private-field]
  int *categories;
       ^
./bgx_updates.hh:311:7: warning: private field 'numberCategories' is not used [-Wunused-private-field]
  int numberCategories;
      ^
29 warnings generated.
clang++ -mmacosx-version-min=10.13 -std=gnu++14 -I"/Library/Frameworks/R.framework/Resources/include" -DNDEBUG -I ../boostIncl -I'/Library/Frameworks/R.framework/Versions/4.1/Resources/library/Rcpp/include' -I/usr/local/include   -fPIC  -Wall -g -O2  -ffast-math -O3 -DUSING_R -c bgx_frontend.cc -o bgx_frontend.o
clang -mmacosx-version-min=10.13 -I"/Library/Frameworks/R.framework/Resources/include" -DNDEBUG -I ../boostIncl -I'/Library/Frameworks/R.framework/Versions/4.1/Resources/library/Rcpp/include' -I/usr/local/include   -fPIC  -Wall -g -O2  -g -O2 -mcpu=pentiumpro  -ffast-math -O3 -c qnorm.c -o qnorm.o
clang: warning: argument unused during compilation: '-mcpu=pentiumpro' [-Wunused-command-line-argument]
clang++ -mmacosx-version-min=10.13 -std=gnu++14 -I"/Library/Frameworks/R.framework/Resources/include" -DNDEBUG -I ../boostIncl -I'/Library/Frameworks/R.framework/Versions/4.1/Resources/library/Rcpp/include' -I/usr/local/include   -fPIC  -Wall -g -O2  -ffast-math -O3 -DUSING_R -c rundir.cc -o rundir.o
clang++ -mmacosx-version-min=10.13 -std=gnu++14 -I"/Library/Frameworks/R.framework/Resources/include" -DNDEBUG -I ../boostIncl -I'/Library/Frameworks/R.framework/Versions/4.1/Resources/library/Rcpp/include' -I/usr/local/include   -fPIC  -Wall -g -O2  -ffast-math -O3 -DUSING_R -c sokal.cc -o sokal.o
clang++ -mmacosx-version-min=10.13 -std=gnu++14 -dynamiclib -Wl,-headerpad_max_install_names -undefined dynamic_lookup -single_module -multiply_defined suppress -L/Library/Frameworks/R.framework/Resources/lib -L/usr/local/lib -o bgx.so bgx.o bgx_frontend.o qnorm.o rundir.o sokal.o -lm -F/Library/Frameworks/R.framework/.. -framework R -Wl,-framework -Wl,CoreFoundation
rm -r ../boostIncl
installing to /Library/Frameworks/R.framework/Versions/4.1/Resources/library/00LOCK-bgx/00new/bgx/libs
** R
** byte-compile and prepare package for lazy loading
** help
*** installing help indices
** building package indices
** installing vignettes
** testing if installed package can be loaded from temporary location
** checking absolute paths in shared objects and dynamic libraries
** testing if installed package can be loaded from final location
** testing if installed package keeps a record of temporary installation path
* DONE (bgx)