Back to Multiple platform build/check report for BioC 3.14
A[B]CDEFGHIJKLMNOPQRSTUVWXYZ

This page was generated on 2021-10-26 14:06:53 -0400 (Tue, 26 Oct 2021).

BUILD BIN results for beadarraySNP on riesling1

To the developers/maintainers of the beadarraySNP package:
- Please allow up to 24 hours (and sometimes 48 hours) for your latest push to git@git.bioconductor.org:packages/beadarraySNP.git to
reflect on this report. See How and When does the builder pull? When will my changes propagate? here for more information.
- Make sure to use the following settings in order to reproduce any error or warning you see on this page.

raw results

Package 134/2083HostnameOS / ArchINSTALLBUILDCHECKBUILD BIN
beadarraySNP 1.59.0  (landing page)
Jan Oosting
Snapshot Date: 2021-10-25 14:50:11 -0400 (Mon, 25 Oct 2021)
git_url: https://git.bioconductor.org/packages/beadarraySNP
git_branch: master
git_last_commit: 768db30
git_last_commit_date: 2021-05-19 11:38:03 -0400 (Wed, 19 May 2021)
nebbiolo2Linux (Ubuntu 20.04.2 LTS) / x86_64  OK    OK    OK  UNNEEDED, same version is already published
riesling1Windows Server 2019 Standard / x64  OK    OK    OK    OK  UNNEEDED, same version is already published
merida1macOS 10.14.6 Mojave / x86_64  OK    OK    OK    OK  UNNEEDED, same version is already published
machv2macOS 10.14.6 Mojave / x86_64  OK    OK    OK    OK  

Summary

Package: beadarraySNP
Version: 1.59.0
Command: rm -rf beadarraySNP.buildbin-libdir && mkdir beadarraySNP.buildbin-libdir && D:\biocbuild\bbs-3.14-bioc\R\bin\R.exe CMD INSTALL --merge-multiarch --build --library=beadarraySNP.buildbin-libdir beadarraySNP_1.59.0.tar.gz
StartedAt: 2021-10-26 05:16:37 -0400 (Tue, 26 Oct 2021)
EndedAt: 2021-10-26 05:21:19 -0400 (Tue, 26 Oct 2021)
EllapsedTime: 282.4 seconds
RetCode: 0
Status:   OK  
PackageFile: beadarraySNP_1.59.0.zip
PackageFileSize: 1.045 MiB

Command output

##############################################################################
##############################################################################
###
### Running command:
###
###   rm -rf beadarraySNP.buildbin-libdir && mkdir beadarraySNP.buildbin-libdir && D:\biocbuild\bbs-3.14-bioc\R\bin\R.exe CMD INSTALL --merge-multiarch --build --library=beadarraySNP.buildbin-libdir beadarraySNP_1.59.0.tar.gz
###
##############################################################################
##############################################################################



install for i386

* installing *source* package 'beadarraySNP' ...
** using staged installation
** R
** data
** inst
** byte-compile and prepare package for lazy loading
** help
*** installing help indices
  converting help for package 'beadarraySNP'
    finding HTML links ... done
    BeadstudioQC                            html  
    CopynumberConversion                    html  
    Datasets                                html  
    GenomicReports                          html  
    GetBeadStudioSampleNames                html  
    PolarTransforms                         html  
    QCIllumina-class                        html  
    Sample_Map2Samplesheet                  html  
    SnpSetSegments-class                    html  
    finding level-2 HTML links ... done

    alterCN                                 html  
    arrayType                               html  
    backgroundCorrect.SNP                   html  
    backgroundEstimate                      html  
    calculateLOH                            html  
    calculateQCarray                        html  
    class.SnpSetIllumina                    html  
    compareGenotypes                        html  
    createCNSummary                         html  
    dist.GT                                 html  
    getDNAindex                             html  
    heterozygosity                          html  
    heterozygousSNPs                        html  
    interactiveCNselect                     html  
    normalizeBetweenAlleles.SNP             html  
    normalizeBetweenSubsamples.SNP          html  
    normalizeLoci.SNP                       html  
    normalizeWithinArrays.SNP               html  
    pdfChromosomesSmoothCopyNumber          html  
    pdfQC                                   html  
    plotGoldenGate4OPA                      html  
    plotQC                                  html  
    read.SnpSetIllumina                     html  
    removeLowQualityProbes                  html  
    removeLowQualitySamples                 html  
    renameOPA                               html  
    reportGenotypeSegmentation              html  
    reportSamplePanelQC-methods             html  
    segmentate                              html  
    setRealCN                               html  
    smoothed.intensity                      html  
    standardNormalization                   html  
** building package indices
** installing vignettes
** testing if installed package can be loaded from temporary location
** testing if installed package can be loaded from final location
** testing if installed package keeps a record of temporary installation path

install for x64

* installing *source* package 'beadarraySNP' ...
** testing if installed package can be loaded
* MD5 sums
packaged installation of 'beadarraySNP' as beadarraySNP_1.59.0.zip
* DONE (beadarraySNP)