Back to Multiple platform build/check report for BioC 3.14
A[B]CDEFGHIJKLMNOPQRSTUVWXYZ

This page was generated on 2022-01-19 13:06:15 -0500 (Wed, 19 Jan 2022).

HostnameOSArch (*)R versionInstalled pkgs
nebbiolo2Linux (Ubuntu 20.04.4 LTS)x86_644.1.2 (2021-11-01) -- "Bird Hippie" 4328
tokay2Windows Server 2012 R2 Standardx644.1.2 (2021-11-01) -- "Bird Hippie" 4077
machv2macOS 10.14.6 Mojavex86_644.1.2 (2021-11-01) -- "Bird Hippie" 4138
Click on any hostname to see more info about the system (e.g. compilers)      (*) as reported by 'uname -p', except on Windows and Mac OS X

CHECK results for beadarray on tokay2


To the developers/maintainers of the beadarray package:
- Please allow up to 24 hours (and sometimes 48 hours) for your latest push to git@git.bioconductor.org:packages/beadarray.git to
reflect on this report. See How and When does the builder pull? When will my changes propagate? here for more information.
- Make sure to use the following settings in order to reproduce any error or warning you see on this page.

raw results

Package 133/2083HostnameOS / ArchINSTALLBUILDCHECKBUILD BIN
beadarray 2.44.0  (landing page)
Mark Dunning
Snapshot Date: 2022-01-18 01:55:07 -0500 (Tue, 18 Jan 2022)
git_url: https://git.bioconductor.org/packages/beadarray
git_branch: RELEASE_3_14
git_last_commit: c35a5ce
git_last_commit_date: 2021-10-26 11:49:14 -0500 (Tue, 26 Oct 2021)
nebbiolo2Linux (Ubuntu 20.04.4 LTS) / x86_64  OK    OK    OK  UNNEEDED, same version is already published
tokay2Windows Server 2012 R2 Standard / x64  OK    OK    OK    OK  UNNEEDED, same version is already published
machv2macOS 10.14.6 Mojave / x86_64  OK    OK    OK    OK  UNNEEDED, same version is already published

Summary

Package: beadarray
Version: 2.44.0
Command: C:\Users\biocbuild\bbs-3.14-bioc\R\bin\R.exe CMD check --force-multiarch --install=check:beadarray.install-out.txt --library=C:\Users\biocbuild\bbs-3.14-bioc\R\library --no-vignettes --timings beadarray_2.44.0.tar.gz
StartedAt: 2022-01-18 15:56:08 -0500 (Tue, 18 Jan 2022)
EndedAt: 2022-01-18 16:10:10 -0500 (Tue, 18 Jan 2022)
EllapsedTime: 842.3 seconds
RetCode: 0
Status:   OK  
CheckDir: beadarray.Rcheck
Warnings: 0

Command output

##############################################################################
##############################################################################
###
### Running command:
###
###   C:\Users\biocbuild\bbs-3.14-bioc\R\bin\R.exe CMD check --force-multiarch --install=check:beadarray.install-out.txt --library=C:\Users\biocbuild\bbs-3.14-bioc\R\library --no-vignettes --timings beadarray_2.44.0.tar.gz
###
##############################################################################
##############################################################################


* using log directory 'C:/Users/biocbuild/bbs-3.14-bioc/meat/beadarray.Rcheck'
* using R version 4.1.2 (2021-11-01)
* using platform: x86_64-w64-mingw32 (64-bit)
* using session charset: ISO8859-1
* using option '--no-vignettes'
* checking for file 'beadarray/DESCRIPTION' ... OK
* this is package 'beadarray' version '2.44.0'
* checking package namespace information ... OK
* checking package dependencies ... OK
* checking if this is a source package ... OK
* checking if there is a namespace ... OK
* checking for hidden files and directories ... OK
* checking for portable file names ... OK
* checking whether package 'beadarray' can be installed ... OK
* checking installed package size ... OK
* checking package directory ... OK
* checking 'build' directory ... OK
* checking DESCRIPTION meta-information ... OK
* checking top-level files ... OK
* checking for left-over files ... OK
* checking index information ... OK
* checking package subdirectories ... OK
* checking R files for non-ASCII characters ... OK
* checking R files for syntax errors ... OK
* loading checks for arch 'i386'
** checking whether the package can be loaded ... OK
** checking whether the package can be loaded with stated dependencies ... OK
** checking whether the package can be unloaded cleanly ... OK
** checking whether the namespace can be loaded with stated dependencies ... OK
** checking whether the namespace can be unloaded cleanly ... OK
* loading checks for arch 'x64'
** checking whether the package can be loaded ... OK
** checking whether the package can be loaded with stated dependencies ... OK
** checking whether the package can be unloaded cleanly ... OK
** checking whether the namespace can be loaded with stated dependencies ... OK
** checking whether the namespace can be unloaded cleanly ... OK
* checking dependencies in R code ... NOTE
Package in Depends field not imported from: 'hexbin'
  These packages need to be imported from (in the NAMESPACE file)
  for when this namespace is loaded but not attached.
Unexported objects imported by ':::' calls:
  'BeadDataPackR:::combineFiles' 'BeadDataPackR:::readHeader'
  'Biobase:::assayDataStorageMode'
  See the note in ?`:::` about the use of this operator.
* checking S3 generic/method consistency ... OK
* checking replacement functions ... OK
* checking foreign function calls ... NOTE
Foreign function call to a different package:
  .Call("roundLocsFileValues", ..., PACKAGE = "BeadDataPackR")
See chapter 'System and foreign language interfaces' in the 'Writing R
Extensions' manual.
* checking R code for possible problems ... NOTE
combinedControlPlot: no visible binding for global variable 'Negative'
createGEOMeta: no visible binding for global variable 'metaTemplate'
expressionQCPipeline: no visible global function definition for
  'openPage'
expressionQCPipeline: no visible global function definition for
  'hwrite'
expressionQCPipeline: no visible global function definition for
  'hwriteImage'
expressionQCPipeline: no visible global function definition for
  'closePage'
getPlatformSigs: no visible global function definition for
  'lumiHumanIDMapping_dbconn'
getPlatformSigs: no visible global function definition for
  'dbListTables'
getPlatformSigs: no visible global function definition for
  'dbListFields'
getPlatformSigs: no visible global function definition for 'dbGetQuery'
getPlatformSigs: no visible global function definition for
  'lumiMouseIDMapping_dbconn'
getPlatformSigs: no visible global function definition for
  'lumiRatIDMapping_dbconn'
imageplot: no visible binding for global variable 'Var1'
imageplot: no visible binding for global variable 'Var2'
imageplot: no visible binding for global variable 'value'
makeReport: no visible binding for global variable 'Nozzle.R1'
makeReport: no visible binding for global variable 'ggbio'
makeReport: no visible global function definition for 'newCustomReport'
makeReport: no visible global function definition for 'newSection'
makeReport: no visible global function definition for 'newTable'
makeReport: no visible global function definition for 'newParagraph'
makeReport: no visible global function definition for 'addTo'
makeReport: no visible global function definition for 'autoplot'
makeReport: no visible global function definition for 'plotIdeogram'
makeReport: no visible global function definition for 'tracks'
makeReport: no visible global function definition for 'newFigure'
makeReport: no visible binding for global variable 'IMAGE.TYPE.RASTER'
makeReport: no visible binding for global variable 'PROTECTION.PUBLIC'
makeReport: no visible binding for global variable 'value'
makeReport: no visible global function definition for 'writeReport'
maplots: no visible binding for global variable 'value.1'
maplots: no visible binding for global variable 'value'
normaliseIllumina: no visible global function definition for 'lumiT'
normaliseIllumina: no visible global function definition for
  'normalize.qspline'
normaliseIllumina: no visible global function definition for 'vsn2'
plotBeadLocations2: no visible global function definition for 'qplot'
plotBeadLocations2: no visible global function definition for 'opts'
plotBeadLocations2: no visible global function definition for
  'theme_blank'
plotProbe: no visible global function definition for 'autoplot'
plotProbe: no visible binding for global variable 'genesymbol'
plotProbe: no visible global function definition for 'tracks'
plotProbe: no visible binding for global variable 'PROBEQUALITY'
rankInvariantNormalise: no visible global function definition for
  'normalize.invariantset'
suggestAnnotation: no visible binding for global variable
  'platformSigs'
suggestAnnotation_Vector: no visible binding for global variable
  'platformSigs'
[,ExpressionSetIllumina-ANY: no visible global function definition for
  'assayDataEnvLock'
boxplot,ExpressionSetIllumina: no visible binding for global variable
  'Var2'
boxplot,ExpressionSetIllumina: no visible binding for global variable
  'value'
plotMA,ExpressionSetIllumina: no visible binding for global variable
  'value.1'
plotMA,ExpressionSetIllumina: no visible binding for global variable
  'value'
Undefined global functions or variables:
  IMAGE.TYPE.RASTER Negative Nozzle.R1 PROBEQUALITY PROTECTION.PUBLIC
  Var1 Var2 addTo assayDataEnvLock autoplot closePage dbGetQuery
  dbListFields dbListTables genesymbol ggbio hwrite hwriteImage
  lumiHumanIDMapping_dbconn lumiMouseIDMapping_dbconn
  lumiRatIDMapping_dbconn lumiT metaTemplate newCustomReport newFigure
  newParagraph newSection newTable normalize.invariantset
  normalize.qspline openPage opts platformSigs plotIdeogram qplot
  theme_blank tracks value value.1 vsn2 writeReport
* checking Rd files ... OK
* checking Rd metadata ... OK
* checking Rd cross-references ... OK
* checking for missing documentation entries ... OK
* checking for code/documentation mismatches ... OK
* checking Rd \usage sections ... OK
* checking Rd contents ... OK
* checking for unstated dependencies in examples ... OK
* checking contents of 'data' directory ... OK
* checking data for non-ASCII characters ... OK
* checking LazyData ... OK
* checking data for ASCII and uncompressed saves ... OK
* checking line endings in C/C++/Fortran sources/headers ... OK
* checking compiled code ... NOTE
Note: information on .o files for i386 is not available
Note: information on .o files for x64 is not available
File 'C:/Users/biocbuild/bbs-3.14-bioc/R/library/beadarray/libs/i386/beadarray.dll':
  Found 'abort', possibly from 'abort' (C), 'runtime' (Fortran)
File 'C:/Users/biocbuild/bbs-3.14-bioc/R/library/beadarray/libs/x64/beadarray.dll':
  Found 'abort', possibly from 'abort' (C), 'runtime' (Fortran)

Compiled code should not call entry points which might terminate R nor
write to stdout/stderr instead of to the console, nor use Fortran I/O
nor system RNGs. The detected symbols are linked into the code but
might come from libraries and not actually be called.

See 'Writing portable packages' in the 'Writing R Extensions' manual.
* checking files in 'vignettes' ... OK
* checking examples ...
** running examples for arch 'i386' ... OK
Examples with CPU (user + system) or elapsed time > 5s
                          user system elapsed
squeezedVarOutlierMethod 49.06   1.22   50.28
outlierplot              30.28   0.74   31.03
summarize                20.41   1.41   21.83
limmaDE                  15.89   0.25   16.14
calculateOutlierStats    13.53   1.07   14.61
normaliseIllumina        12.05   1.02   13.28
controlProbeDetection    12.51   0.50   13.02
identifyControlBeads     12.28   0.23   12.52
showArrayMask            11.88   0.46   12.34
calculateDetection       11.30   0.46   11.77
makeQCTable               9.99   0.64   10.63
insertSectionData         9.87   0.75   10.63
poscontPlot               9.50   0.50   10.00
quickSummary              7.56   0.41    7.97
annotationInterface       7.69   0.26    7.95
imageplot                 6.93   0.47    7.41
addFeatureData            6.60   0.35   17.03
maplots                   4.75   0.54    5.29
combine                   4.66   0.36    5.01
** running examples for arch 'x64' ... OK
Examples with CPU (user + system) or elapsed time > 5s
                          user system elapsed
squeezedVarOutlierMethod 45.09   0.51   45.61
outlierplot              28.44   0.52   28.95
summarize                22.30   2.22   24.52
limmaDE                  16.41   0.14   16.55
calculateOutlierStats    12.08   0.90   12.99
controlProbeDetection    11.36   0.36   11.72
identifyControlBeads     11.17   0.31   11.50
normaliseIllumina        10.25   0.73   11.10
showArrayMask            10.36   0.61   10.97
poscontPlot              10.43   0.49   10.90
makeQCTable               9.75   0.80   10.54
insertSectionData         9.42   0.68   10.20
calculateDetection        9.40   0.29    9.68
quickSummary              7.21   0.34    7.56
annotationInterface       6.13   0.34    6.47
imageplot                 5.39   0.26    5.67
* checking for unstated dependencies in vignettes ... OK
* checking package vignettes in 'inst/doc' ... OK
* checking running R code from vignettes ... SKIPPED
* checking re-building of vignette outputs ... SKIPPED
* checking PDF version of manual ... OK
* DONE

Status: 4 NOTEs
See
  'C:/Users/biocbuild/bbs-3.14-bioc/meat/beadarray.Rcheck/00check.log'
for details.



Installation output

beadarray.Rcheck/00install.out

##############################################################################
##############################################################################
###
### Running command:
###
###   C:\cygwin\bin\curl.exe -O http://155.52.207.166/BBS/3.14/bioc/src/contrib/beadarray_2.44.0.tar.gz && rm -rf beadarray.buildbin-libdir && mkdir beadarray.buildbin-libdir && C:\Users\biocbuild\bbs-3.14-bioc\R\bin\R.exe CMD INSTALL --merge-multiarch --build --library=beadarray.buildbin-libdir beadarray_2.44.0.tar.gz && C:\Users\biocbuild\bbs-3.14-bioc\R\bin\R.exe CMD INSTALL beadarray_2.44.0.zip && rm beadarray_2.44.0.tar.gz beadarray_2.44.0.zip
###
##############################################################################
##############################################################################


  % Total    % Received % Xferd  Average Speed   Time    Time     Time  Current
                                 Dload  Upload   Total   Spent    Left  Speed

  0     0    0     0    0     0      0      0 --:--:-- --:--:-- --:--:--     0
  0 1320k    0  5187    0     0  88313      0  0:00:15 --:--:--  0:00:15 87915
100 1320k  100 1320k    0     0  3383k      0 --:--:-- --:--:-- --:--:-- 3385k

install for i386

* installing *source* package 'beadarray' ...
** using staged installation
** libs
"C:/rtools40/mingw32/bin/"gcc  -I"C:/Users/BIOCBU~1/BBS-3~1.14-/R/include" -DNDEBUG     -I"C:/extsoft/include"     -O2 -Wall  -std=gnu99 -mfpmath=sse -msse2 -mstackrealign  -c BASH.c -o BASH.o
"C:/rtools40/mingw32/bin/"gcc  -I"C:/Users/BIOCBU~1/BBS-3~1.14-/R/include" -DNDEBUG     -I"C:/extsoft/include"     -O2 -Wall  -std=gnu99 -mfpmath=sse -msse2 -mstackrealign  -c HULK.c -o HULK.o
"C:/rtools40/mingw32/bin/"gcc  -I"C:/Users/BIOCBU~1/BBS-3~1.14-/R/include" -DNDEBUG     -I"C:/extsoft/include"     -O2 -Wall  -std=gnu99 -mfpmath=sse -msse2 -mstackrealign  -c determiningGridPositions.c -o determiningGridPositions.o
"C:/rtools40/mingw32/bin/"gcc  -I"C:/Users/BIOCBU~1/BBS-3~1.14-/R/include" -DNDEBUG     -I"C:/extsoft/include"     -O2 -Wall  -std=gnu99 -mfpmath=sse -msse2 -mstackrealign  -c findAllOutliers.c -o findAllOutliers.o
findAllOutliers.c: In function 'findBeadStatus':
findAllOutliers.c:196:29: warning: 'ma' may be used uninitialized in this function [-Wmaybe-uninitialized]
   if((inten[k] < (m + *nmads*ma)) && (inten[k] > (m - *nmads*ma))){
                       ~~~~~~^~~
findAllOutliers.c:196:53: warning: 'm' may be used uninitialized in this function [-Wmaybe-uninitialized]
   if((inten[k] < (m + *nmads*ma)) && (inten[k] > (m - *nmads*ma))){
                                                  ~~~^~~~~~~~~~~~
findAllOutliers.c: In function 'findAllOutliers':
findAllOutliers.c:226:20: warning: 'status' may be used uninitialized in this function [-Wmaybe-uninitialized]
  beadStatusStruct *status;
                    ^~~~~~
"C:/rtools40/mingw32/bin/"gcc  -I"C:/Users/BIOCBU~1/BBS-3~1.14-/R/include" -DNDEBUG     -I"C:/extsoft/include"     -O2 -Wall  -std=gnu99 -mfpmath=sse -msse2 -mstackrealign  -c imageProcessing.c -o imageProcessing.o
imageProcessing.c: In function 'illuminaBackground':
imageProcessing.c:88: warning: ignoring #pragma omp parallel [-Wunknown-pragmas]
     #pragma omp parallel shared(nthreads, nbeads, imageHeight, pixelMatrix, coords) private(tid, start, end)
 
imageProcessing.c: In function 'medianBackground':
imageProcessing.c:135: warning: ignoring #pragma omp parallel [-Wunknown-pragmas]
     #pragma omp parallel shared(nthreads, nbeads, imageHeight, pixelMatrix, coords) private(tid, start, end)
 
imageProcessing.c: In function 'illuminaSharpen':
imageProcessing.c:244: warning: ignoring #pragma omp parallel [-Wunknown-pragmas]
     #pragma omp parallel for private(i, j) shared(sharpened) num_threads(2)
 
imageProcessing.c:251: warning: ignoring #pragma omp parallel [-Wunknown-pragmas]
     #pragma omp parallel for private(i, j, sum) shared(sharpened) num_threads(2)
 
C:/rtools40/mingw32/bin/gcc -shared -s -static-libgcc -o beadarray.dll tmp.def BASH.o HULK.o determiningGridPositions.o findAllOutliers.o imageProcessing.o -LC:/extsoft/lib/i386 -LC:/extsoft/lib -LC:/Users/BIOCBU~1/BBS-3~1.14-/R/bin/i386 -lR
installing to C:/Users/biocbuild/bbs-3.14-bioc/meat/beadarray.buildbin-libdir/00LOCK-beadarray/00new/beadarray/libs/i386
** R
** data
*** moving datasets to lazyload DB
** inst
** byte-compile and prepare package for lazy loading
** help
*** installing help indices
  converting help for package 'beadarray'
    finding HTML links ... done
    BASH                                    html  
    BASHCompact                             html  
    BASHDiffuse                             html  
    BASHExtended                            html  
    GEO                                     html  
    GEOtemplate                             html  
    HULK                                    html  
    addFeatureData                          html  
    annotationInterface                     html  
    backgroundCorrectSingleSection          html  
    beadarray-package                       html  
    beadarrayUsersGuide                     html  
    boxplot                                 html  
    calculateDetection                      html  
    calculateOutlierStats                   html  
    checkRegistration                       html  
    class-BeadLevelList                     html  
    class-ExpressionSetIllumina             html  
    class-beadLevelData                     html  
    class-beadRegistrationData              html  
    class-illuminaChannel                   html  
    class-limmaResults                      html  
    combine                                 html  
    controlProbeDetection                   html  
    convertBeadLevelList                    html  
    createTargetsFile                       html  
    deprecatedFunctions                     html  
    dim                                     html  
    expressionQCPipeline                    html  
    generateNeighbours                      html  
    getBeadData                             html  
    identifyControlBeads                    html  
    illuminaOutlierMethod                   html  
    imageProcessing                         html  
    imageplot                               html  
    insertBeadData                          html  
    insertSectionData                       html  
    limmaDE                                 html  
    makeControlProfile                      html  
    makeQCTable                             html  
    maplots                                 html  
    medianNormalise                         html  
    metrics                                 html  
    noOutlierMethod                         html  
    normaliseIllumina                       html  
    numBeads                                html  
    outlierplot                             html  
    platformSigs                            html  
    plotBeadIntensities                     html  
    plotBeadLocations                       html  
    plotChipLayout                          html  
    plotMAXY                                html  
    plotTIFF                                html  
    poscontPlot                             html  
    processSwathData                        html  
    quickSummary                            html  
    readBeadSummaryData                     html  
    readIdatFiles                           html  
    readIllumina                            html  
    readLocsFile                            html  
    readTIFF                                html  
    sampleSheet                             html  
    sectionNames                            html  
    setWeights                              html  
    show                                    html  
    showArrayMask                           html  
    squeezedVarOutlierMethod                html  
    summarize                               html  
    transformationFunctions                 html  
    weightsOutlierMethod                    html  
** building package indices
** installing vignettes
** testing if installed package can be loaded from temporary location
** testing if installed package can be loaded from final location
** testing if installed package keeps a record of temporary installation path

install for x64

* installing *source* package 'beadarray' ...
** libs
"C:/rtools40/mingw64/bin/"gcc  -I"C:/Users/BIOCBU~1/BBS-3~1.14-/R/include" -DNDEBUG     -I"C:/extsoft/include"     -O2 -Wall  -std=gnu99 -mfpmath=sse -msse2 -mstackrealign  -c BASH.c -o BASH.o
"C:/rtools40/mingw64/bin/"gcc  -I"C:/Users/BIOCBU~1/BBS-3~1.14-/R/include" -DNDEBUG     -I"C:/extsoft/include"     -O2 -Wall  -std=gnu99 -mfpmath=sse -msse2 -mstackrealign  -c HULK.c -o HULK.o
"C:/rtools40/mingw64/bin/"gcc  -I"C:/Users/BIOCBU~1/BBS-3~1.14-/R/include" -DNDEBUG     -I"C:/extsoft/include"     -O2 -Wall  -std=gnu99 -mfpmath=sse -msse2 -mstackrealign  -c determiningGridPositions.c -o determiningGridPositions.o
"C:/rtools40/mingw64/bin/"gcc  -I"C:/Users/BIOCBU~1/BBS-3~1.14-/R/include" -DNDEBUG     -I"C:/extsoft/include"     -O2 -Wall  -std=gnu99 -mfpmath=sse -msse2 -mstackrealign  -c findAllOutliers.c -o findAllOutliers.o
findAllOutliers.c: In function 'findBeadStatus':
findAllOutliers.c:196:29: warning: 'ma' may be used uninitialized in this function [-Wmaybe-uninitialized]
   if((inten[k] < (m + *nmads*ma)) && (inten[k] > (m - *nmads*ma))){
                       ~~~~~~^~~
findAllOutliers.c:196:53: warning: 'm' may be used uninitialized in this function [-Wmaybe-uninitialized]
   if((inten[k] < (m + *nmads*ma)) && (inten[k] > (m - *nmads*ma))){
                                                  ~~~^~~~~~~~~~~~
findAllOutliers.c: In function 'findAllOutliers':
findAllOutliers.c:226:20: warning: 'status' may be used uninitialized in this function [-Wmaybe-uninitialized]
  beadStatusStruct *status;
                    ^~~~~~
"C:/rtools40/mingw64/bin/"gcc  -I"C:/Users/BIOCBU~1/BBS-3~1.14-/R/include" -DNDEBUG     -I"C:/extsoft/include"     -O2 -Wall  -std=gnu99 -mfpmath=sse -msse2 -mstackrealign  -c imageProcessing.c -o imageProcessing.o
imageProcessing.c: In function 'illuminaBackground':
imageProcessing.c:88: warning: ignoring #pragma omp parallel [-Wunknown-pragmas]
     #pragma omp parallel shared(nthreads, nbeads, imageHeight, pixelMatrix, coords) private(tid, start, end)
 
imageProcessing.c: In function 'medianBackground':
imageProcessing.c:135: warning: ignoring #pragma omp parallel [-Wunknown-pragmas]
     #pragma omp parallel shared(nthreads, nbeads, imageHeight, pixelMatrix, coords) private(tid, start, end)
 
imageProcessing.c: In function 'illuminaSharpen':
imageProcessing.c:244: warning: ignoring #pragma omp parallel [-Wunknown-pragmas]
     #pragma omp parallel for private(i, j) shared(sharpened) num_threads(2)
 
imageProcessing.c:251: warning: ignoring #pragma omp parallel [-Wunknown-pragmas]
     #pragma omp parallel for private(i, j, sum) shared(sharpened) num_threads(2)
 
C:/rtools40/mingw64/bin/gcc -shared -s -static-libgcc -o beadarray.dll tmp.def BASH.o HULK.o determiningGridPositions.o findAllOutliers.o imageProcessing.o -LC:/extsoft/lib/x64 -LC:/extsoft/lib -LC:/Users/BIOCBU~1/BBS-3~1.14-/R/bin/x64 -lR
installing to C:/Users/biocbuild/bbs-3.14-bioc/meat/beadarray.buildbin-libdir/beadarray/libs/x64
** testing if installed package can be loaded
* MD5 sums
packaged installation of 'beadarray' as beadarray_2.44.0.zip
* DONE (beadarray)
* installing to library 'C:/Users/biocbuild/bbs-3.14-bioc/R/library'
package 'beadarray' successfully unpacked and MD5 sums checked

Tests output


Example timings

beadarray.Rcheck/examples_i386/beadarray-Ex.timings

nameusersystemelapsed
BASH000
BASHCompact000
BASHDiffuse000
BASHExtended0.010.000.02
GEO000
GEOtemplate000
HULK000
addFeatureData 6.60 0.3517.03
annotationInterface7.690.267.95
backgroundCorrectSingleSection000
beadarrayUsersGuide000
boxplot4.210.384.59
calculateDetection11.30 0.4611.77
calculateOutlierStats13.53 1.0714.61
class-beadLevelData3.320.223.53
class-illuminaChannel0.010.000.02
combine4.660.365.01
controlProbeDetection12.51 0.5013.02
createTargetsFile000
expressionQCPipeline0.010.000.02
generateNeighbours000
getBeadData3.270.143.40
identifyControlBeads12.28 0.2312.52
illuminaOutlierMethod4.110.304.40
imageplot6.930.477.41
insertBeadData3.690.253.94
insertSectionData 9.87 0.7510.63
limmaDE15.89 0.2516.14
makeControlProfile0.280.010.30
makeQCTable 9.99 0.6410.63
maplots4.750.545.29
medianNormalise2.690.072.76
metrics3.360.113.47
noOutlierMethod3.280.153.44
normaliseIllumina12.05 1.0213.28
numBeads3.170.123.29
outlierplot30.28 0.7431.03
plotBeadIntensities4.430.374.80
plotBeadLocations4.420.174.59
plotChipLayout000
plotMAXY000
poscontPlot 9.5 0.510.0
quickSummary7.560.417.97
readBeadSummaryData000
sectionNames3.590.133.72
showArrayMask11.88 0.4612.34
squeezedVarOutlierMethod49.06 1.2250.28
summarize20.41 1.4121.83
transformationFunctions3.760.254.02
weightsOutlierMethod000

beadarray.Rcheck/examples_x64/beadarray-Ex.timings

nameusersystemelapsed
BASH000
BASHCompact000
BASHDiffuse000
BASHExtended000
GEO000
GEOtemplate000
HULK000
addFeatureData4.620.194.81
annotationInterface6.130.346.47
backgroundCorrectSingleSection000
beadarrayUsersGuide000
boxplot3.720.223.94
calculateDetection9.400.299.68
calculateOutlierStats12.08 0.9012.99
class-beadLevelData2.970.193.15
class-illuminaChannel000
combine4.240.234.47
controlProbeDetection11.36 0.3611.72
createTargetsFile000
expressionQCPipeline0.010.020.03
generateNeighbours000
getBeadData2.360.302.66
identifyControlBeads11.17 0.3111.50
illuminaOutlierMethod3.410.193.60
imageplot5.390.265.67
insertBeadData3.200.273.47
insertSectionData 9.42 0.6810.20
limmaDE16.41 0.1416.55
makeControlProfile0.250.020.27
makeQCTable 9.75 0.8010.54
maplots3.700.724.42
medianNormalise1.630.071.70
metrics2.400.142.55
noOutlierMethod1.880.041.90
normaliseIllumina10.25 0.7311.10
numBeads1.900.061.97
outlierplot28.44 0.5228.95
plotBeadIntensities3.660.313.97
plotBeadLocations2.040.142.19
plotChipLayout000
plotMAXY000
poscontPlot10.43 0.4910.90
quickSummary7.210.347.56
readBeadSummaryData000
sectionNames1.940.051.99
showArrayMask10.36 0.6110.97
squeezedVarOutlierMethod45.09 0.5145.61
summarize22.30 2.2224.52
transformationFunctions3.480.423.90
weightsOutlierMethod000