Back to Multiple platform build/check report for BioC 3.14
A[B]CDEFGHIJKLMNOPQRSTUVWXYZ

This page was generated on 2021-10-18 12:03:58 -0400 (Mon, 18 Oct 2021).

CHECK results for beadarray on riesling1

To the developers/maintainers of the beadarray package:
- Please allow up to 24 hours (and sometimes 48 hours) for your latest push to git@git.bioconductor.org:packages/beadarray.git to
reflect on this report. See How and When does the builder pull? When will my changes propagate? here for more information.
- Make sure to use the following settings in order to reproduce any error or warning you see on this page.

raw results

Package 133/2060HostnameOS / ArchINSTALLBUILDCHECKBUILD BIN
beadarray 2.43.0  (landing page)
Mark Dunning
Snapshot Date: 2021-10-17 14:50:03 -0400 (Sun, 17 Oct 2021)
git_url: https://git.bioconductor.org/packages/beadarray
git_branch: master
git_last_commit: b1f29f0
git_last_commit_date: 2021-05-19 11:37:00 -0400 (Wed, 19 May 2021)
nebbiolo2Linux (Ubuntu 20.04.2 LTS) / x86_64  OK    OK    OK  UNNEEDED, same version is already published
riesling1Windows Server 2019 Standard / x64  OK    OK    OK    OK  UNNEEDED, same version is already published
merida1macOS 10.14.6 Mojave / x86_64  OK    OK    OK    OK  UNNEEDED, same version is already published

Summary

Package: beadarray
Version: 2.43.0
Command: D:\biocbuild\bbs-3.14-bioc\R\bin\R.exe CMD check --force-multiarch --install=check:beadarray.install-out.txt --library=D:\biocbuild\bbs-3.14-bioc\R\library --no-vignettes --timings beadarray_2.43.0.tar.gz
StartedAt: 2021-10-17 23:57:44 -0400 (Sun, 17 Oct 2021)
EndedAt: 2021-10-18 00:07:52 -0400 (Mon, 18 Oct 2021)
EllapsedTime: 607.8 seconds
RetCode: 0
Status:   OK  
CheckDir: beadarray.Rcheck
Warnings: 0

Command output

##############################################################################
##############################################################################
###
### Running command:
###
###   D:\biocbuild\bbs-3.14-bioc\R\bin\R.exe CMD check --force-multiarch --install=check:beadarray.install-out.txt --library=D:\biocbuild\bbs-3.14-bioc\R\library --no-vignettes --timings beadarray_2.43.0.tar.gz
###
##############################################################################
##############################################################################


* using log directory 'D:/biocbuild/bbs-3.14-bioc/meat/beadarray.Rcheck'
* using R version 4.1.1 (2021-08-10)
* using platform: x86_64-w64-mingw32 (64-bit)
* using session charset: ISO8859-1
* using option '--no-vignettes'
* checking for file 'beadarray/DESCRIPTION' ... OK
* this is package 'beadarray' version '2.43.0'
* checking package namespace information ... OK
* checking package dependencies ... OK
* checking if this is a source package ... OK
* checking if there is a namespace ... OK
* checking for hidden files and directories ... OK
* checking for portable file names ... OK
* checking whether package 'beadarray' can be installed ... OK
* checking installed package size ... OK
* checking package directory ... OK
* checking 'build' directory ... OK
* checking DESCRIPTION meta-information ... OK
* checking top-level files ... OK
* checking for left-over files ... OK
* checking index information ... OK
* checking package subdirectories ... OK
* checking R files for non-ASCII characters ... OK
* checking R files for syntax errors ... OK
* loading checks for arch 'i386'
** checking whether the package can be loaded ... OK
** checking whether the package can be loaded with stated dependencies ... OK
** checking whether the package can be unloaded cleanly ... OK
** checking whether the namespace can be loaded with stated dependencies ... OK
** checking whether the namespace can be unloaded cleanly ... OK
* loading checks for arch 'x64'
** checking whether the package can be loaded ... OK
** checking whether the package can be loaded with stated dependencies ... OK
** checking whether the package can be unloaded cleanly ... OK
** checking whether the namespace can be loaded with stated dependencies ... OK
** checking whether the namespace can be unloaded cleanly ... OK
* checking dependencies in R code ... NOTE
Package in Depends field not imported from: 'hexbin'
  These packages need to be imported from (in the NAMESPACE file)
  for when this namespace is loaded but not attached.
Unexported objects imported by ':::' calls:
  'BeadDataPackR:::combineFiles' 'BeadDataPackR:::readHeader'
  'Biobase:::assayDataStorageMode'
  See the note in ?`:::` about the use of this operator.
* checking S3 generic/method consistency ... OK
* checking replacement functions ... OK
* checking foreign function calls ... NOTE
Foreign function call to a different package:
  .Call("roundLocsFileValues", ..., PACKAGE = "BeadDataPackR")
See chapter 'System and foreign language interfaces' in the 'Writing R
Extensions' manual.
* checking R code for possible problems ... NOTE
combinedControlPlot: no visible binding for global variable 'Negative'
createGEOMeta: no visible binding for global variable 'metaTemplate'
expressionQCPipeline: no visible global function definition for
  'openPage'
expressionQCPipeline: no visible global function definition for
  'hwrite'
expressionQCPipeline: no visible global function definition for
  'hwriteImage'
expressionQCPipeline: no visible global function definition for
  'closePage'
getPlatformSigs: no visible global function definition for
  'lumiHumanIDMapping_dbconn'
getPlatformSigs: no visible global function definition for
  'dbListTables'
getPlatformSigs: no visible global function definition for
  'dbListFields'
getPlatformSigs: no visible global function definition for 'dbGetQuery'
getPlatformSigs: no visible global function definition for
  'lumiMouseIDMapping_dbconn'
getPlatformSigs: no visible global function definition for
  'lumiRatIDMapping_dbconn'
imageplot: no visible binding for global variable 'Var1'
imageplot: no visible binding for global variable 'Var2'
imageplot: no visible binding for global variable 'value'
makeReport: no visible binding for global variable 'Nozzle.R1'
makeReport: no visible binding for global variable 'ggbio'
makeReport: no visible global function definition for 'newCustomReport'
makeReport: no visible global function definition for 'newSection'
makeReport: no visible global function definition for 'newTable'
makeReport: no visible global function definition for 'newParagraph'
makeReport: no visible global function definition for 'addTo'
makeReport: no visible global function definition for 'autoplot'
makeReport: no visible global function definition for 'plotIdeogram'
makeReport: no visible global function definition for 'tracks'
makeReport: no visible global function definition for 'newFigure'
makeReport: no visible binding for global variable 'IMAGE.TYPE.RASTER'
makeReport: no visible binding for global variable 'PROTECTION.PUBLIC'
makeReport: no visible binding for global variable 'value'
makeReport: no visible global function definition for 'writeReport'
maplots: no visible binding for global variable 'value.1'
maplots: no visible binding for global variable 'value'
normaliseIllumina: no visible global function definition for 'lumiT'
normaliseIllumina: no visible global function definition for
  'normalize.qspline'
normaliseIllumina: no visible global function definition for 'vsn2'
plotBeadLocations2: no visible global function definition for 'qplot'
plotBeadLocations2: no visible global function definition for 'opts'
plotBeadLocations2: no visible global function definition for
  'theme_blank'
plotProbe: no visible global function definition for 'autoplot'
plotProbe: no visible binding for global variable 'genesymbol'
plotProbe: no visible global function definition for 'tracks'
plotProbe: no visible binding for global variable 'PROBEQUALITY'
rankInvariantNormalise: no visible global function definition for
  'normalize.invariantset'
suggestAnnotation: no visible binding for global variable
  'platformSigs'
suggestAnnotation_Vector: no visible binding for global variable
  'platformSigs'
[,ExpressionSetIllumina-ANY: no visible global function definition for
  'assayDataEnvLock'
boxplot,ExpressionSetIllumina: no visible binding for global variable
  'Var2'
boxplot,ExpressionSetIllumina: no visible binding for global variable
  'value'
plotMA,ExpressionSetIllumina: no visible binding for global variable
  'value.1'
plotMA,ExpressionSetIllumina: no visible binding for global variable
  'value'
Undefined global functions or variables:
  IMAGE.TYPE.RASTER Negative Nozzle.R1 PROBEQUALITY PROTECTION.PUBLIC
  Var1 Var2 addTo assayDataEnvLock autoplot closePage dbGetQuery
  dbListFields dbListTables genesymbol ggbio hwrite hwriteImage
  lumiHumanIDMapping_dbconn lumiMouseIDMapping_dbconn
  lumiRatIDMapping_dbconn lumiT metaTemplate newCustomReport newFigure
  newParagraph newSection newTable normalize.invariantset
  normalize.qspline openPage opts platformSigs plotIdeogram qplot
  theme_blank tracks value value.1 vsn2 writeReport
* checking Rd files ... OK
* checking Rd metadata ... OK
* checking Rd cross-references ... OK
* checking for missing documentation entries ... OK
* checking for code/documentation mismatches ... OK
* checking Rd \usage sections ... OK
* checking Rd contents ... OK
* checking for unstated dependencies in examples ... OK
* checking contents of 'data' directory ... OK
* checking data for non-ASCII characters ... OK
* checking LazyData ... OK
* checking data for ASCII and uncompressed saves ... OK
* checking line endings in C/C++/Fortran sources/headers ... OK
* checking compiled code ... NOTE
Note: information on .o files for i386 is not available
Note: information on .o files for x64 is not available
File 'D:/biocbuild/bbs-3.14-bioc/R/library/beadarray/libs/i386/beadarray.dll':
  Found 'abort', possibly from 'abort' (C), 'runtime' (Fortran)
File 'D:/biocbuild/bbs-3.14-bioc/R/library/beadarray/libs/x64/beadarray.dll':
  Found 'abort', possibly from 'abort' (C), 'runtime' (Fortran)

Compiled code should not call entry points which might terminate R nor
write to stdout/stderr instead of to the console, nor use Fortran I/O
nor system RNGs. The detected symbols are linked into the code but
might come from libraries and not actually be called.

See 'Writing portable packages' in the 'Writing R Extensions' manual.
* checking files in 'vignettes' ... OK
* checking examples ...
** running examples for arch 'i386' ... OK
Examples with CPU (user + system) or elapsed time > 5s
                          user system elapsed
squeezedVarOutlierMethod 37.60   0.30   37.91
outlierplot              23.64   0.74   24.38
summarize                17.11   1.72   18.87
calculateOutlierStats     9.64   0.91   10.54
showArrayMask             8.75   0.47    9.22
limmaDE                   9.07   0.08    9.15
calculateDetection        8.86   0.17    9.03
controlProbeDetection     8.20   0.35    8.58
normaliseIllumina         7.86   0.53    8.39
identifyControlBeads      7.72   0.28    8.02
insertSectionData         7.07   0.47    7.53
makeQCTable               7.03   0.37    7.41
poscontPlot               6.72   0.42    7.17
annotationInterface       5.02   0.42    5.44
quickSummary              4.91   0.33    5.24
** running examples for arch 'x64' ... OK
Examples with CPU (user + system) or elapsed time > 5s
                          user system elapsed
squeezedVarOutlierMethod 36.83   0.28   37.11
outlierplot              21.56   0.37   21.94
summarize                16.30   1.03   17.33
calculateOutlierStats     9.31   0.81   10.12
limmaDE                   9.29   0.13    9.41
showArrayMask             7.84   0.46    8.30
normaliseIllumina         7.40   0.70    8.12
controlProbeDetection     7.70   0.23    7.94
calculateDetection        7.57   0.17    7.73
identifyControlBeads      7.44   0.16    7.60
insertSectionData         6.84   0.51    7.35
poscontPlot               6.36   0.34    6.70
makeQCTable               6.33   0.34    6.67
* checking for unstated dependencies in vignettes ... OK
* checking package vignettes in 'inst/doc' ... OK
* checking running R code from vignettes ... SKIPPED
* checking re-building of vignette outputs ... SKIPPED
* checking PDF version of manual ... OK
* DONE

Status: 4 NOTEs
See
  'D:/biocbuild/bbs-3.14-bioc/meat/beadarray.Rcheck/00check.log'
for details.



Installation output

beadarray.Rcheck/00install.out

##############################################################################
##############################################################################
###
### Running command:
###
###   C:\cygwin\bin\curl.exe -O http://155.52.207.166/BBS/3.14/bioc/src/contrib/beadarray_2.43.0.tar.gz && rm -rf beadarray.buildbin-libdir && mkdir beadarray.buildbin-libdir && D:\biocbuild\bbs-3.14-bioc\R\bin\R.exe CMD INSTALL --merge-multiarch --build --library=beadarray.buildbin-libdir beadarray_2.43.0.tar.gz && D:\biocbuild\bbs-3.14-bioc\R\bin\R.exe CMD INSTALL beadarray_2.43.0.zip && rm beadarray_2.43.0.tar.gz beadarray_2.43.0.zip
###
##############################################################################
##############################################################################


  % Total    % Received % Xferd  Average Speed   Time    Time     Time  Current
                                 Dload  Upload   Total   Spent    Left  Speed

  0     0    0     0    0     0      0      0 --:--:-- --:--:-- --:--:--     0
 56 1320k   56  740k    0     0  2469k      0 --:--:-- --:--:-- --:--:-- 2460k
100 1320k  100 1320k    0     0  4259k      0 --:--:-- --:--:-- --:--:-- 4259k

install for i386

* installing *source* package 'beadarray' ...
** using staged installation
** libs
"C:/rtools40/mingw32/bin/"gcc  -I"D:/biocbuild/bbs-3.14-bioc/R/include" -DNDEBUG     -I"C:/extsoft/include"     -O2 -Wall  -std=gnu99 -mfpmath=sse -msse2 -mstackrealign  -c BASH.c -o BASH.o
"C:/rtools40/mingw32/bin/"gcc  -I"D:/biocbuild/bbs-3.14-bioc/R/include" -DNDEBUG     -I"C:/extsoft/include"     -O2 -Wall  -std=gnu99 -mfpmath=sse -msse2 -mstackrealign  -c HULK.c -o HULK.o
"C:/rtools40/mingw32/bin/"gcc  -I"D:/biocbuild/bbs-3.14-bioc/R/include" -DNDEBUG     -I"C:/extsoft/include"     -O2 -Wall  -std=gnu99 -mfpmath=sse -msse2 -mstackrealign  -c determiningGridPositions.c -o determiningGridPositions.o
"C:/rtools40/mingw32/bin/"gcc  -I"D:/biocbuild/bbs-3.14-bioc/R/include" -DNDEBUG     -I"C:/extsoft/include"     -O2 -Wall  -std=gnu99 -mfpmath=sse -msse2 -mstackrealign  -c findAllOutliers.c -o findAllOutliers.o
findAllOutliers.c: In function 'findBeadStatus':
findAllOutliers.c:196:29: warning: 'ma' may be used uninitialized in this function [-Wmaybe-uninitialized]
   if((inten[k] < (m + *nmads*ma)) && (inten[k] > (m - *nmads*ma))){
                       ~~~~~~^~~
findAllOutliers.c:196:53: warning: 'm' may be used uninitialized in this function [-Wmaybe-uninitialized]
   if((inten[k] < (m + *nmads*ma)) && (inten[k] > (m - *nmads*ma))){
                                                  ~~~^~~~~~~~~~~~
findAllOutliers.c: In function 'findAllOutliers':
findAllOutliers.c:226:20: warning: 'status' may be used uninitialized in this function [-Wmaybe-uninitialized]
  beadStatusStruct *status;
                    ^~~~~~
"C:/rtools40/mingw32/bin/"gcc  -I"D:/biocbuild/bbs-3.14-bioc/R/include" -DNDEBUG     -I"C:/extsoft/include"     -O2 -Wall  -std=gnu99 -mfpmath=sse -msse2 -mstackrealign  -c imageProcessing.c -o imageProcessing.o
imageProcessing.c: In function 'illuminaBackground':
imageProcessing.c:88: warning: ignoring #pragma omp parallel [-Wunknown-pragmas]
     #pragma omp parallel shared(nthreads, nbeads, imageHeight, pixelMatrix, coords) private(tid, start, end)
 
imageProcessing.c: In function 'medianBackground':
imageProcessing.c:135: warning: ignoring #pragma omp parallel [-Wunknown-pragmas]
     #pragma omp parallel shared(nthreads, nbeads, imageHeight, pixelMatrix, coords) private(tid, start, end)
 
imageProcessing.c: In function 'illuminaSharpen':
imageProcessing.c:244: warning: ignoring #pragma omp parallel [-Wunknown-pragmas]
     #pragma omp parallel for private(i, j) shared(sharpened) num_threads(2)
 
imageProcessing.c:251: warning: ignoring #pragma omp parallel [-Wunknown-pragmas]
     #pragma omp parallel for private(i, j, sum) shared(sharpened) num_threads(2)
 
C:/rtools40/mingw32/bin/gcc -shared -s -static-libgcc -o beadarray.dll tmp.def BASH.o HULK.o determiningGridPositions.o findAllOutliers.o imageProcessing.o -LC:/extsoft/lib/i386 -LC:/extsoft/lib -LD:/biocbuild/bbs-3.14-bioc/R/bin/i386 -lR
installing to D:/biocbuild/bbs-3.14-bioc/meat/beadarray.buildbin-libdir/00LOCK-beadarray/00new/beadarray/libs/i386
** R
** data
*** moving datasets to lazyload DB
** inst
** byte-compile and prepare package for lazy loading
** help
*** installing help indices
  converting help for package 'beadarray'
    finding HTML links ... done
    BASH                                    html  
    BASHCompact                             html  
    BASHDiffuse                             html  
    BASHExtended                            html  
    GEO                                     html  
    GEOtemplate                             html  
    HULK                                    html  
    addFeatureData                          html  
    annotationInterface                     html  
    backgroundCorrectSingleSection          html  
    beadarray-package                       html  
    beadarrayUsersGuide                     html  
    boxplot                                 html  
    calculateDetection                      html  
    calculateOutlierStats                   html  
    checkRegistration                       html  
    class-BeadLevelList                     html  
    class-ExpressionSetIllumina             html  
    class-beadLevelData                     html  
    class-beadRegistrationData              html  
    class-illuminaChannel                   html  
    class-limmaResults                      html  
    combine                                 html  
    controlProbeDetection                   html  
    convertBeadLevelList                    html  
    createTargetsFile                       html  
    deprecatedFunctions                     html  
    dim                                     html  
    expressionQCPipeline                    html  
    generateNeighbours                      html  
    getBeadData                             html  
    identifyControlBeads                    html  
    illuminaOutlierMethod                   html  
    imageProcessing                         html  
    imageplot                               html  
    insertBeadData                          html  
    insertSectionData                       html  
    limmaDE                                 html  
    makeControlProfile                      html  
    makeQCTable                             html  
    maplots                                 html  
    medianNormalise                         html  
    metrics                                 html  
    noOutlierMethod                         html  
    normaliseIllumina                       html  
    numBeads                                html  
    outlierplot                             html  
    platformSigs                            html  
    plotBeadIntensities                     html  
    plotBeadLocations                       html  
    plotChipLayout                          html  
    plotMAXY                                html  
    plotTIFF                                html  
    poscontPlot                             html  
    processSwathData                        html  
    quickSummary                            html  
    readBeadSummaryData                     html  
    readIdatFiles                           html  
    readIllumina                            html  
    readLocsFile                            html  
    readTIFF                                html  
    sampleSheet                             html  
    sectionNames                            html  
    setWeights                              html  
    show                                    html  
    showArrayMask                           html  
    squeezedVarOutlierMethod                html  
    summarize                               html  
    transformationFunctions                 html  
    weightsOutlierMethod                    html  
** building package indices
** installing vignettes
** testing if installed package can be loaded from temporary location
** testing if installed package can be loaded from final location
** testing if installed package keeps a record of temporary installation path

install for x64

* installing *source* package 'beadarray' ...
** libs
"C:/rtools40/mingw64/bin/"gcc  -I"D:/biocbuild/bbs-3.14-bioc/R/include" -DNDEBUG     -I"C:/extsoft/include"     -O2 -Wall  -std=gnu99 -mfpmath=sse -msse2 -mstackrealign  -c BASH.c -o BASH.o
"C:/rtools40/mingw64/bin/"gcc  -I"D:/biocbuild/bbs-3.14-bioc/R/include" -DNDEBUG     -I"C:/extsoft/include"     -O2 -Wall  -std=gnu99 -mfpmath=sse -msse2 -mstackrealign  -c HULK.c -o HULK.o
"C:/rtools40/mingw64/bin/"gcc  -I"D:/biocbuild/bbs-3.14-bioc/R/include" -DNDEBUG     -I"C:/extsoft/include"     -O2 -Wall  -std=gnu99 -mfpmath=sse -msse2 -mstackrealign  -c determiningGridPositions.c -o determiningGridPositions.o
"C:/rtools40/mingw64/bin/"gcc  -I"D:/biocbuild/bbs-3.14-bioc/R/include" -DNDEBUG     -I"C:/extsoft/include"     -O2 -Wall  -std=gnu99 -mfpmath=sse -msse2 -mstackrealign  -c findAllOutliers.c -o findAllOutliers.o
findAllOutliers.c: In function 'findBeadStatus':
findAllOutliers.c:196:29: warning: 'ma' may be used uninitialized in this function [-Wmaybe-uninitialized]
   if((inten[k] < (m + *nmads*ma)) && (inten[k] > (m - *nmads*ma))){
                       ~~~~~~^~~
findAllOutliers.c:196:53: warning: 'm' may be used uninitialized in this function [-Wmaybe-uninitialized]
   if((inten[k] < (m + *nmads*ma)) && (inten[k] > (m - *nmads*ma))){
                                                  ~~~^~~~~~~~~~~~
findAllOutliers.c: In function 'findAllOutliers':
findAllOutliers.c:226:20: warning: 'status' may be used uninitialized in this function [-Wmaybe-uninitialized]
  beadStatusStruct *status;
                    ^~~~~~
"C:/rtools40/mingw64/bin/"gcc  -I"D:/biocbuild/bbs-3.14-bioc/R/include" -DNDEBUG     -I"C:/extsoft/include"     -O2 -Wall  -std=gnu99 -mfpmath=sse -msse2 -mstackrealign  -c imageProcessing.c -o imageProcessing.o
imageProcessing.c: In function 'illuminaBackground':
imageProcessing.c:88: warning: ignoring #pragma omp parallel [-Wunknown-pragmas]
     #pragma omp parallel shared(nthreads, nbeads, imageHeight, pixelMatrix, coords) private(tid, start, end)
 
imageProcessing.c: In function 'medianBackground':
imageProcessing.c:135: warning: ignoring #pragma omp parallel [-Wunknown-pragmas]
     #pragma omp parallel shared(nthreads, nbeads, imageHeight, pixelMatrix, coords) private(tid, start, end)
 
imageProcessing.c: In function 'illuminaSharpen':
imageProcessing.c:244: warning: ignoring #pragma omp parallel [-Wunknown-pragmas]
     #pragma omp parallel for private(i, j) shared(sharpened) num_threads(2)
 
imageProcessing.c:251: warning: ignoring #pragma omp parallel [-Wunknown-pragmas]
     #pragma omp parallel for private(i, j, sum) shared(sharpened) num_threads(2)
 
C:/rtools40/mingw64/bin/gcc -shared -s -static-libgcc -o beadarray.dll tmp.def BASH.o HULK.o determiningGridPositions.o findAllOutliers.o imageProcessing.o -LC:/extsoft/lib/x64 -LC:/extsoft/lib -LD:/biocbuild/bbs-3.14-bioc/R/bin/x64 -lR
installing to D:/biocbuild/bbs-3.14-bioc/meat/beadarray.buildbin-libdir/beadarray/libs/x64
** testing if installed package can be loaded
* MD5 sums
packaged installation of 'beadarray' as beadarray_2.43.0.zip
* DONE (beadarray)
* installing to library 'D:/biocbuild/bbs-3.14-bioc/R/library'
package 'beadarray' successfully unpacked and MD5 sums checked

Tests output


Example timings

beadarray.Rcheck/examples_i386/beadarray-Ex.timings

nameusersystemelapsed
BASH000
BASHCompact000
BASHDiffuse000
BASHExtended000
GEO000
GEOtemplate000
HULK000
addFeatureData4.110.094.21
annotationInterface5.020.425.44
backgroundCorrectSingleSection000
beadarrayUsersGuide000
boxplot2.220.192.41
calculateDetection8.860.179.03
calculateOutlierStats 9.64 0.9110.54
class-beadLevelData1.980.172.16
class-illuminaChannel0.020.000.02
combine2.840.283.12
controlProbeDetection8.200.358.58
createTargetsFile000
expressionQCPipeline0.020.000.01
generateNeighbours000
getBeadData1.700.151.86
identifyControlBeads7.720.288.02
illuminaOutlierMethod2.090.352.44
imageplot4.320.474.78
insertBeadData2.180.172.36
insertSectionData7.070.477.53
limmaDE9.070.089.15
makeControlProfile0.210.000.21
makeQCTable7.030.377.41
maplots2.770.343.11
medianNormalise1.390.051.44
metrics1.640.081.72
noOutlierMethod1.660.121.78
normaliseIllumina7.860.538.39
numBeads1.650.171.83
outlierplot23.64 0.7424.38
plotBeadIntensities2.610.282.89
plotBeadLocations2.450.232.69
plotChipLayout000
plotMAXY000
poscontPlot6.720.427.17
quickSummary4.910.335.24
readBeadSummaryData000
sectionNames1.640.111.75
showArrayMask8.750.479.22
squeezedVarOutlierMethod37.60 0.3037.91
summarize17.11 1.7218.87
transformationFunctions1.930.222.16
weightsOutlierMethod000

beadarray.Rcheck/examples_x64/beadarray-Ex.timings

nameusersystemelapsed
BASH000
BASHCompact000
BASHDiffuse000
BASHExtended000
GEO000
GEOtemplate000
HULK000
addFeatureData3.870.224.10
annotationInterface4.580.274.84
backgroundCorrectSingleSection000
beadarrayUsersGuide000
boxplot2.090.282.38
calculateDetection7.570.177.73
calculateOutlierStats 9.31 0.8110.12
class-beadLevelData1.720.111.83
class-illuminaChannel000
combine3.000.193.19
controlProbeDetection7.700.237.94
createTargetsFile000
expressionQCPipeline0.010.000.02
generateNeighbours000
getBeadData1.440.081.51
identifyControlBeads7.440.167.60
illuminaOutlierMethod2.810.142.95
imageplot4.230.284.52
insertBeadData2.330.252.58
insertSectionData6.840.517.35
limmaDE9.290.139.41
makeControlProfile0.230.000.24
makeQCTable6.330.346.67
maplots3.030.413.43
medianNormalise1.100.011.13
metrics1.360.051.40
noOutlierMethod1.350.101.44
normaliseIllumina7.400.708.12
numBeads1.270.051.31
outlierplot21.56 0.3721.94
plotBeadIntensities2.330.192.52
plotBeadLocations1.340.181.52
plotChipLayout000
plotMAXY000
poscontPlot6.360.346.70
quickSummary4.530.304.83
readBeadSummaryData000
sectionNames1.300.071.37
showArrayMask7.840.468.30
squeezedVarOutlierMethod36.83 0.2837.11
summarize16.30 1.0317.33
transformationFunctions2.480.222.70
weightsOutlierMethod000