Index of /checkResults/3.14/bioc-LATEST/beadarray/raw-results/tokay2

[ICO]NameLast modifiedSizeDescription

[DIR]Parent Directory  -  
[TXT]buildbin-out.txt15-Jan-2022 03:06 11K 
[   ]buildbin-summary.dcf15-Jan-2022 03:06 551  
[TXT]buildsrc-out.txt15-Jan-2022 03:06 887  
[   ]buildsrc-summary.dcf15-Jan-2022 03:06 467  
[TXT]checksrc-out.txt15-Jan-2022 03:06 11K 
[   ]checksrc-summary.dcf15-Jan-2022 03:06 470  
[TXT]install-out.txt15-Jan-2022 03:06 12K 
[   ]install-summary.dcf15-Jan-2022 03:06 659