Index of /checkResults/3.14/bioc-LATEST/beadarray/raw-results/nebbiolo2

[ICO]NameLast modifiedSizeDescription

[DIR]Parent Directory  -  
[TXT]buildsrc-out.txt22-Jan-2022 03:04 844  
[   ]buildsrc-summary.dcf22-Jan-2022 03:04 424  
[TXT]checksrc-out.txt22-Jan-2022 03:04 8.9K 
[   ]checksrc-summary.dcf22-Jan-2022 03:04 432  
[TXT]install-out.txt22-Jan-2022 03:04 3.7K 
[   ]install-summary.dcf22-Jan-2022 03:04 263