Index of /checkResults/3.14/bioc-LATEST/beadarray/raw-results/machv2

[ICO]NameLast modifiedSizeDescription

[DIR]Parent Directory  -  
[TXT]buildbin-out.txt22-Jan-2022 03:07 3.3K 
[   ]buildbin-summary.dcf22-Jan-2022 03:07 542  
[TXT]buildsrc-out.txt22-Jan-2022 03:07 854  
[   ]buildsrc-summary.dcf22-Jan-2022 03:07 434  
[TXT]checksrc-out.txt22-Jan-2022 03:07 9.1K 
[   ]checksrc-summary.dcf22-Jan-2022 03:07 452  
[TXT]install-out.txt22-Jan-2022 03:07 2.4K 
[   ]install-summary.dcf22-Jan-2022 03:07 273