Back to Multiple platform build/check report for BioC 3.14
A[B]CDEFGHIJKLMNOPQRSTUVWXYZ

This page was generated on 2021-10-19 12:05:19 -0400 (Tue, 19 Oct 2021).

CHECK results for beadarray on merida1

To the developers/maintainers of the beadarray package:
- Please allow up to 24 hours (and sometimes 48 hours) for your latest push to git@git.bioconductor.org:packages/beadarray.git to
reflect on this report. See How and When does the builder pull? When will my changes propagate? here for more information.
- Make sure to use the following settings in order to reproduce any error or warning you see on this page.

raw results

Package 133/2060HostnameOS / ArchINSTALLBUILDCHECKBUILD BIN
beadarray 2.43.0  (landing page)
Mark Dunning
Snapshot Date: 2021-10-18 14:50:10 -0400 (Mon, 18 Oct 2021)
git_url: https://git.bioconductor.org/packages/beadarray
git_branch: master
git_last_commit: b1f29f0
git_last_commit_date: 2021-05-19 11:37:00 -0400 (Wed, 19 May 2021)
nebbiolo2Linux (Ubuntu 20.04.2 LTS) / x86_64  OK    OK    OK  UNNEEDED, same version is already published
riesling1Windows Server 2019 Standard / x64  OK    OK    OK    OK  UNNEEDED, same version is already published
merida1macOS 10.14.6 Mojave / x86_64  OK    OK    OK    OK  UNNEEDED, same version is already published

Summary

Package: beadarray
Version: 2.43.0
Command: /Library/Frameworks/R.framework/Resources/bin/R CMD check --install=check:beadarray.install-out.txt --library=/Library/Frameworks/R.framework/Resources/library --no-vignettes --timings beadarray_2.43.0.tar.gz
StartedAt: 2021-10-19 00:56:51 -0400 (Tue, 19 Oct 2021)
EndedAt: 2021-10-19 01:05:42 -0400 (Tue, 19 Oct 2021)
EllapsedTime: 530.6 seconds
RetCode: 0
Status:   OK  
CheckDir: beadarray.Rcheck
Warnings: 0

Command output

##############################################################################
##############################################################################
###
### Running command:
###
###   /Library/Frameworks/R.framework/Resources/bin/R CMD check --install=check:beadarray.install-out.txt --library=/Library/Frameworks/R.framework/Resources/library --no-vignettes --timings beadarray_2.43.0.tar.gz
###
##############################################################################
##############################################################################


* using log directory ‘/Users/biocbuild/bbs-3.14-bioc/meat/beadarray.Rcheck’
* using R version 4.1.1 Patched (2021-08-22 r80813)
* using platform: x86_64-apple-darwin17.0 (64-bit)
* using session charset: UTF-8
* using option ‘--no-vignettes’
* checking for file ‘beadarray/DESCRIPTION’ ... OK
* this is package ‘beadarray’ version ‘2.43.0’
* checking package namespace information ... OK
* checking package dependencies ... OK
* checking if this is a source package ... OK
* checking if there is a namespace ... OK
* checking for hidden files and directories ... OK
* checking for portable file names ... OK
* checking for sufficient/correct file permissions ... OK
* checking whether package ‘beadarray’ can be installed ... OK
* checking installed package size ... OK
* checking package directory ... OK
* checking ‘build’ directory ... OK
* checking DESCRIPTION meta-information ... OK
* checking top-level files ... OK
* checking for left-over files ... OK
* checking index information ... OK
* checking package subdirectories ... OK
* checking R files for non-ASCII characters ... OK
* checking R files for syntax errors ... OK
* checking whether the package can be loaded ... OK
* checking whether the package can be loaded with stated dependencies ... OK
* checking whether the package can be unloaded cleanly ... OK
* checking whether the namespace can be loaded with stated dependencies ... OK
* checking whether the namespace can be unloaded cleanly ... OK
* checking dependencies in R code ... NOTE
Package in Depends field not imported from: ‘hexbin’
  These packages need to be imported from (in the NAMESPACE file)
  for when this namespace is loaded but not attached.
Unexported objects imported by ':::' calls:
  ‘BeadDataPackR:::combineFiles’ ‘BeadDataPackR:::readHeader’
  ‘Biobase:::assayDataStorageMode’
  See the note in ?`:::` about the use of this operator.
* checking S3 generic/method consistency ... OK
* checking replacement functions ... OK
* checking foreign function calls ... NOTE
Foreign function call to a different package:
  .Call("roundLocsFileValues", ..., PACKAGE = "BeadDataPackR")
See chapter ‘System and foreign language interfaces’ in the ‘Writing R
Extensions’ manual.
* checking R code for possible problems ... NOTE
combinedControlPlot: no visible binding for global variable ‘Negative’
createGEOMeta: no visible binding for global variable ‘metaTemplate’
expressionQCPipeline: no visible global function definition for
  ‘openPage’
expressionQCPipeline: no visible global function definition for
  ‘hwrite’
expressionQCPipeline: no visible global function definition for
  ‘hwriteImage’
expressionQCPipeline: no visible global function definition for
  ‘closePage’
getPlatformSigs: no visible global function definition for
  ‘lumiHumanIDMapping_dbconn’
getPlatformSigs: no visible global function definition for
  ‘dbListTables’
getPlatformSigs: no visible global function definition for
  ‘dbListFields’
getPlatformSigs: no visible global function definition for ‘dbGetQuery’
getPlatformSigs: no visible global function definition for
  ‘lumiMouseIDMapping_dbconn’
getPlatformSigs: no visible global function definition for
  ‘lumiRatIDMapping_dbconn’
imageplot: no visible binding for global variable ‘Var1’
imageplot: no visible binding for global variable ‘Var2’
imageplot: no visible binding for global variable ‘value’
makeReport: no visible binding for global variable ‘Nozzle.R1’
makeReport: no visible binding for global variable ‘ggbio’
makeReport: no visible global function definition for ‘newCustomReport’
makeReport: no visible global function definition for ‘newSection’
makeReport: no visible global function definition for ‘newTable’
makeReport: no visible global function definition for ‘newParagraph’
makeReport: no visible global function definition for ‘addTo’
makeReport: no visible global function definition for ‘autoplot’
makeReport: no visible global function definition for ‘plotIdeogram’
makeReport: no visible global function definition for ‘tracks’
makeReport: no visible global function definition for ‘newFigure’
makeReport: no visible binding for global variable ‘IMAGE.TYPE.RASTER’
makeReport: no visible binding for global variable ‘PROTECTION.PUBLIC’
makeReport: no visible binding for global variable ‘value’
makeReport: no visible global function definition for ‘writeReport’
maplots: no visible binding for global variable ‘value.1’
maplots: no visible binding for global variable ‘value’
normaliseIllumina: no visible global function definition for ‘lumiT’
normaliseIllumina: no visible global function definition for
  ‘normalize.qspline’
normaliseIllumina: no visible global function definition for ‘vsn2’
plotBeadLocations2: no visible global function definition for ‘qplot’
plotBeadLocations2: no visible global function definition for ‘opts’
plotBeadLocations2: no visible global function definition for
  ‘theme_blank’
plotProbe: no visible global function definition for ‘autoplot’
plotProbe: no visible binding for global variable ‘genesymbol’
plotProbe: no visible global function definition for ‘tracks’
plotProbe: no visible binding for global variable ‘PROBEQUALITY’
rankInvariantNormalise: no visible global function definition for
  ‘normalize.invariantset’
suggestAnnotation: no visible binding for global variable
  ‘platformSigs’
suggestAnnotation_Vector: no visible binding for global variable
  ‘platformSigs’
[,ExpressionSetIllumina-ANY: no visible global function definition for
  ‘assayDataEnvLock’
boxplot,ExpressionSetIllumina: no visible binding for global variable
  ‘Var2’
boxplot,ExpressionSetIllumina: no visible binding for global variable
  ‘value’
plotMA,ExpressionSetIllumina: no visible binding for global variable
  ‘value.1’
plotMA,ExpressionSetIllumina: no visible binding for global variable
  ‘value’
Undefined global functions or variables:
  IMAGE.TYPE.RASTER Negative Nozzle.R1 PROBEQUALITY PROTECTION.PUBLIC
  Var1 Var2 addTo assayDataEnvLock autoplot closePage dbGetQuery
  dbListFields dbListTables genesymbol ggbio hwrite hwriteImage
  lumiHumanIDMapping_dbconn lumiMouseIDMapping_dbconn
  lumiRatIDMapping_dbconn lumiT metaTemplate newCustomReport newFigure
  newParagraph newSection newTable normalize.invariantset
  normalize.qspline openPage opts platformSigs plotIdeogram qplot
  theme_blank tracks value value.1 vsn2 writeReport
* checking Rd files ... OK
* checking Rd metadata ... OK
* checking Rd cross-references ... OK
* checking for missing documentation entries ... OK
* checking for code/documentation mismatches ... OK
* checking Rd \usage sections ... OK
* checking Rd contents ... OK
* checking for unstated dependencies in examples ... OK
* checking contents of ‘data’ directory ... OK
* checking data for non-ASCII characters ... OK
* checking LazyData ... OK
* checking data for ASCII and uncompressed saves ... OK
* checking line endings in C/C++/Fortran sources/headers ... OK
* checking compiled code ... NOTE
Note: information on .o files is not available
* checking sizes of PDF files under ‘inst/doc’ ... OK
* checking files in ‘vignettes’ ... OK
* checking examples ... OK
Examples with CPU (user + system) or elapsed time > 5s
                           user system elapsed
squeezedVarOutlierMethod 54.351  0.528  55.015
summarize                27.131  0.979  28.209
limmaDE                  26.071  0.212  26.799
normaliseIllumina        15.598  0.724  16.349
outlierplot              15.230  0.329  15.746
calculateOutlierStats    14.721  0.560  15.305
calculateDetection       14.311  0.481  14.821
controlProbeDetection    11.114  0.253  11.385
makeQCTable               9.943  0.279  10.248
insertSectionData         9.154  0.306   9.478
identifyControlBeads      9.280  0.115   9.404
poscontPlot               8.917  0.235   9.192
annotationInterface       8.374  0.369   8.752
addFeatureData            7.184  0.280   7.502
showArrayMask             6.915  0.231   7.164
imageplot                 6.756  0.160   7.223
quickSummary              6.642  0.153   6.812
maplots                   4.725  0.414   5.147
* checking for unstated dependencies in vignettes ... OK
* checking package vignettes in ‘inst/doc’ ... OK
* checking running R code from vignettes ... SKIPPED
* checking re-building of vignette outputs ... SKIPPED
* checking PDF version of manual ... OK
* DONE

Status: 4 NOTEs
See
  ‘/Users/biocbuild/bbs-3.14-bioc/meat/beadarray.Rcheck/00check.log’
for details.



Installation output

beadarray.Rcheck/00install.out

##############################################################################
##############################################################################
###
### Running command:
###
###   /Library/Frameworks/R.framework/Resources/bin/R CMD INSTALL beadarray
###
##############################################################################
##############################################################################


* installing to library ‘/Library/Frameworks/R.framework/Versions/4.1/Resources/library’
* installing *source* package ‘beadarray’ ...
** using staged installation
** libs
clang -mmacosx-version-min=10.13 -I"/Library/Frameworks/R.framework/Resources/include" -DNDEBUG   -I/usr/local/include   -fPIC  -Wall -g -O2  -c BASH.c -o BASH.o
clang -mmacosx-version-min=10.13 -I"/Library/Frameworks/R.framework/Resources/include" -DNDEBUG   -I/usr/local/include   -fPIC  -Wall -g -O2  -c HULK.c -o HULK.o
clang -mmacosx-version-min=10.13 -I"/Library/Frameworks/R.framework/Resources/include" -DNDEBUG   -I/usr/local/include   -fPIC  -Wall -g -O2  -c determiningGridPositions.c -o determiningGridPositions.o
clang -mmacosx-version-min=10.13 -I"/Library/Frameworks/R.framework/Resources/include" -DNDEBUG   -I/usr/local/include   -fPIC  -Wall -g -O2  -c findAllOutliers.c -o findAllOutliers.o
clang -mmacosx-version-min=10.13 -I"/Library/Frameworks/R.framework/Resources/include" -DNDEBUG   -I/usr/local/include   -fPIC  -Wall -g -O2  -c imageProcessing.c -o imageProcessing.o
clang -mmacosx-version-min=10.13 -dynamiclib -Wl,-headerpad_max_install_names -undefined dynamic_lookup -single_module -multiply_defined suppress -L/Library/Frameworks/R.framework/Resources/lib -L/usr/local/lib -o beadarray.so BASH.o HULK.o determiningGridPositions.o findAllOutliers.o imageProcessing.o -F/Library/Frameworks/R.framework/.. -framework R -Wl,-framework -Wl,CoreFoundation
installing to /Library/Frameworks/R.framework/Versions/4.1/Resources/library/00LOCK-beadarray/00new/beadarray/libs
** R
** data
*** moving datasets to lazyload DB
** inst
** byte-compile and prepare package for lazy loading
** help
*** installing help indices
** building package indices
** installing vignettes
** testing if installed package can be loaded from temporary location
** checking absolute paths in shared objects and dynamic libraries
** testing if installed package can be loaded from final location
** testing if installed package keeps a record of temporary installation path
* DONE (beadarray)

Tests output


Example timings

beadarray.Rcheck/beadarray-Ex.timings

nameusersystemelapsed
BASH000
BASHCompact0.0000.0000.001
BASHDiffuse0.0000.0000.001
BASHExtended000
GEO000
GEOtemplate0.0030.0020.006
HULK000
addFeatureData7.1840.2807.502
annotationInterface8.3740.3698.752
backgroundCorrectSingleSection0.0000.0000.001
beadarrayUsersGuide0.0020.0000.003
boxplot4.1190.2294.353
calculateDetection14.311 0.48114.821
calculateOutlierStats14.721 0.56015.305
class-beadLevelData3.4480.0943.546
class-illuminaChannel0.0020.0000.003
combine4.0040.1024.110
controlProbeDetection11.114 0.25311.385
createTargetsFile000
expressionQCPipeline0.0290.0020.031
generateNeighbours000
getBeadData2.7790.0732.855
identifyControlBeads9.2800.1159.404
illuminaOutlierMethod3.8030.1453.951
imageplot6.7560.1607.223
insertBeadData3.5880.1123.712
insertSectionData9.1540.3069.478
limmaDE26.071 0.21226.799
makeControlProfile0.4160.0070.423
makeQCTable 9.943 0.27910.248
maplots4.7250.4145.147
medianNormalise1.7790.0671.848
metrics2.6710.0532.728
noOutlierMethod2.7290.0772.810
normaliseIllumina15.598 0.72416.349
numBeads2.7430.0372.783
outlierplot15.230 0.32915.746
plotBeadIntensities3.9880.1144.108
plotBeadLocations2.7480.0652.818
plotChipLayout000
plotMAXY0.0000.0000.001
poscontPlot8.9170.2359.192
quickSummary6.6420.1536.812
readBeadSummaryData0.0000.0000.001
sectionNames2.5160.0442.563
showArrayMask6.9150.2317.164
squeezedVarOutlierMethod54.351 0.52855.015
summarize27.131 0.97928.209
transformationFunctions4.3250.1414.482
weightsOutlierMethod000