Back to Multiple platform build/check report for BioC 3.14
A[B]CDEFGHIJKLMNOPQRSTUVWXYZ

This page was generated on 2021-11-26 15:05:42 -0500 (Fri, 26 Nov 2021).

BUILD results for beadarray on machv2

To the developers/maintainers of the beadarray package:
- Please allow up to 24 hours (and sometimes 48 hours) for your latest push to git@git.bioconductor.org:packages/beadarray.git to
reflect on this report. See How and When does the builder pull? When will my changes propagate? here for more information.
- Make sure to use the following settings in order to reproduce any error or warning you see on this page.

raw results

Package 133/2083HostnameOS / ArchINSTALLBUILDCHECKBUILD BIN
beadarray 2.44.0  (landing page)
Mark Dunning
Snapshot Date: 2021-11-25 04:15:05 -0500 (Thu, 25 Nov 2021)
git_url: https://git.bioconductor.org/packages/beadarray
git_branch: RELEASE_3_14
git_last_commit: c35a5ce
git_last_commit_date: 2021-10-26 11:49:14 -0500 (Tue, 26 Oct 2021)
nebbiolo2Linux (Ubuntu 20.04.3 LTS) / x86_64  OK    OK    OK  UNNEEDED, same version is already published
tokay2Windows Server 2012 R2 Standard / x64  OK    OK    OK    OK  UNNEEDED, same version is already published
machv2macOS 10.14.6 Mojave / x86_64  OK    OK    OK    OK  UNNEEDED, same version is already published

Summary

Package: beadarray
Version: 2.44.0
Command: /Library/Frameworks/R.framework/Resources/bin/R CMD build --keep-empty-dirs --no-resave-data beadarray
StartedAt: 2021-11-25 07:54:03 -0500 (Thu, 25 Nov 2021)
EndedAt: 2021-11-25 07:58:43 -0500 (Thu, 25 Nov 2021)
EllapsedTime: 280.7 seconds
RetCode: 0
Status:   OK  
PackageFile: beadarray_2.44.0.tar.gz
PackageFileSize: 2.303 MiB

Command output

##############################################################################
##############################################################################
###
### Running command:
###
###   /Library/Frameworks/R.framework/Resources/bin/R CMD build --keep-empty-dirs --no-resave-data beadarray
###
##############################################################################
##############################################################################


* checking for file ‘beadarray/DESCRIPTION’ ... OK
* preparing ‘beadarray’:
* checking DESCRIPTION meta-information ... OK
* cleaning src
* installing the package to build vignettes
* creating vignettes ... OK
* cleaning src
* checking for LF line-endings in source and make files and shell scripts
* checking for empty or unneeded directories
* building ‘beadarray_2.44.0.tar.gz’