Back to Multiple platform build/check report for BioC 3.14
A[B]CDEFGHIJKLMNOPQRSTUVWXYZ

This page was generated on 2021-11-26 15:05:42 -0500 (Fri, 26 Nov 2021).

BUILD BIN results for beadarray on machv2

To the developers/maintainers of the beadarray package:
- Please allow up to 24 hours (and sometimes 48 hours) for your latest push to git@git.bioconductor.org:packages/beadarray.git to
reflect on this report. See How and When does the builder pull? When will my changes propagate? here for more information.
- Make sure to use the following settings in order to reproduce any error or warning you see on this page.

raw results

Package 133/2083HostnameOS / ArchINSTALLBUILDCHECKBUILD BIN
beadarray 2.44.0  (landing page)
Mark Dunning
Snapshot Date: 2021-11-25 04:15:05 -0500 (Thu, 25 Nov 2021)
git_url: https://git.bioconductor.org/packages/beadarray
git_branch: RELEASE_3_14
git_last_commit: c35a5ce
git_last_commit_date: 2021-10-26 11:49:14 -0500 (Tue, 26 Oct 2021)
nebbiolo2Linux (Ubuntu 20.04.3 LTS) / x86_64  OK    OK    OK  UNNEEDED, same version is already published
tokay2Windows Server 2012 R2 Standard / x64  OK    OK    OK    OK  UNNEEDED, same version is already published
machv2macOS 10.14.6 Mojave / x86_64  OK    OK    OK    OK  UNNEEDED, same version is already published

Summary

Package: beadarray
Version: 2.44.0
Command: rm -rf beadarray.buildbin-libdir && mkdir beadarray.buildbin-libdir && /Users/biocbuild/BBS/utils/build-universal.sh beadarray_2.44.0.tar.gz /Library/Frameworks/R.framework/Resources/bin/R beadarray.buildbin-libdir
StartedAt: 2021-11-25 23:27:36 -0500 (Thu, 25 Nov 2021)
EndedAt: 2021-11-25 23:28:49 -0500 (Thu, 25 Nov 2021)
EllapsedTime: 73.4 seconds
RetCode: 0
Status:   OK  
PackageFile: beadarray_2.44.0.tgz
PackageFileSize: 4.487 MiB

Command output

##############################################################################
##############################################################################
###
### Running command:
###
###   rm -rf beadarray.buildbin-libdir && mkdir beadarray.buildbin-libdir && /Users/biocbuild/BBS/utils/build-universal.sh beadarray_2.44.0.tar.gz /Library/Frameworks/R.framework/Resources/bin/R beadarray.buildbin-libdir
###
##############################################################################
##############################################################################


>>>>>>> 
>>>>>>> INSTALLATION WITH 'R CMD INSTALL --preclean --no-multiarch --library=beadarray.buildbin-libdir beadarray_2.44.0.tar.gz'
>>>>>>> 

* installing *source* package ‘beadarray’ ...
** using staged installation
** libs
clang -mmacosx-version-min=10.13 -I"/Library/Frameworks/R.framework/Resources/include" -DNDEBUG   -I/usr/local/include   -fPIC  -Wall -g -O2  -c BASH.c -o BASH.o
clang -mmacosx-version-min=10.13 -I"/Library/Frameworks/R.framework/Resources/include" -DNDEBUG   -I/usr/local/include   -fPIC  -Wall -g -O2  -c HULK.c -o HULK.o
clang -mmacosx-version-min=10.13 -I"/Library/Frameworks/R.framework/Resources/include" -DNDEBUG   -I/usr/local/include   -fPIC  -Wall -g -O2  -c determiningGridPositions.c -o determiningGridPositions.o
clang -mmacosx-version-min=10.13 -I"/Library/Frameworks/R.framework/Resources/include" -DNDEBUG   -I/usr/local/include   -fPIC  -Wall -g -O2  -c findAllOutliers.c -o findAllOutliers.o
clang -mmacosx-version-min=10.13 -I"/Library/Frameworks/R.framework/Resources/include" -DNDEBUG   -I/usr/local/include   -fPIC  -Wall -g -O2  -c imageProcessing.c -o imageProcessing.o
clang -mmacosx-version-min=10.13 -dynamiclib -Wl,-headerpad_max_install_names -undefined dynamic_lookup -single_module -multiply_defined suppress -L/Library/Frameworks/R.framework/Resources/lib -L/usr/local/lib -o beadarray.so BASH.o HULK.o determiningGridPositions.o findAllOutliers.o imageProcessing.o -F/Library/Frameworks/R.framework/.. -framework R -Wl,-framework -Wl,CoreFoundation
installing to /Users/biocbuild/bbs-3.14-bioc/meat/beadarray.buildbin-libdir/00LOCK-beadarray/00new/beadarray/libs
** R
** data
*** moving datasets to lazyload DB
** inst
** byte-compile and prepare package for lazy loading
** help
*** installing help indices
** building package indices
** installing vignettes
** testing if installed package can be loaded from temporary location
** checking absolute paths in shared objects and dynamic libraries
** testing if installed package can be loaded from final location
** testing if installed package keeps a record of temporary installation path
* DONE (beadarray)


>>>>>>> 
>>>>>>> FIXING LINKS FOR beadarray.buildbin-libdir/beadarray/libs/beadarray.so
>>>>>>> 

install_name_tool -change "/usr/local/lib/libgcc_s.1.dylib" "/Library/Frameworks/R.framework/Versions/4.1/Resources/lib/libgcc_s.1.dylib" "beadarray.buildbin-libdir/beadarray/libs/beadarray.so"
install_name_tool -change "/usr/local/lib/libgfortran.5.dylib" "/Library/Frameworks/R.framework/Versions/4.1/Resources/lib/libgfortran.5.dylib" "beadarray.buildbin-libdir/beadarray/libs/beadarray.so"
install_name_tool -change "/usr/local/lib/libquadmath.0.dylib" "/Library/Frameworks/R.framework/Versions/4.1/Resources/lib/libquadmath.0.dylib" "beadarray.buildbin-libdir/beadarray/libs/beadarray.so"