Back to Multiple platform build/check report for BioC 3.14
A[B]CDEFGHIJKLMNOPQRSTUVWXYZ

This page was generated on 2021-10-25 14:04:42 -0400 (Mon, 25 Oct 2021).

All results for package beadarray

To the developers/maintainers of the beadarray package:
- Please allow up to 24 hours (and sometimes 48 hours) for your latest push to git@git.bioconductor.org:packages/beadarray.git to
reflect on this report. See How and When does the builder pull? When will my changes propagate? here for more information.
- Make sure to use the following settings in order to reproduce any error or warning you see on this page.

raw results

Package 133/2083HostnameOS / ArchINSTALLBUILDCHECKBUILD BIN
beadarray 2.43.0  (landing page)
Mark Dunning
Snapshot Date: 2021-10-24 14:50:04 -0400 (Sun, 24 Oct 2021)
git_url: https://git.bioconductor.org/packages/beadarray
git_branch: master
git_last_commit: b1f29f0
git_last_commit_date: 2021-05-19 11:37:00 -0400 (Wed, 19 May 2021)
nebbiolo2Linux (Ubuntu 20.04.2 LTS) / x86_64  OK    OK    OK  UNNEEDED, same version is already published
riesling1Windows Server 2019 Standard / x64  OK    OK    OK    OK  UNNEEDED, same version is already published
merida1macOS 10.14.6 Mojave / x86_64  OK    OK    OK    OK  UNNEEDED, same version is already published
machv2macOS 10.14.6 Mojave / x86_64  OK    OK    OK    OK  

Results for Bioconductor software packages that depend directly on package beadarray

QUICK STATSOS / ArchINSTALLBUILDCHECKBUILD BIN
nebbiolo2Linux (Ubuntu 20.04.2 LTS) / x86_64
003
003
0012
riesling1Windows Server 2019 Standard / x64
003
003
0012
003
merida1macOS 10.14.6 Mojave / x86_64
003
003
0012
003
machv2macOS 10.14.6 Mojave / x86_64
003
003
0012
003
Package 1/3HostnameOS / ArchINSTALLBUILDCHECKBUILD BIN
arrayQualityMetrics 3.49.0  (landing page)
Mike Smith
git_last_commit: 4838486
git_last_commit_date: 2021-05-19 11:39:30 -0400
nebbiolo2Linux (Ubuntu 20.04.2 LTS) / x86_64  OK    OK    OK  UNNEEDED, same version is already published
riesling1Windows Server 2019 Standard / x64  OK    OK    OK    OK  UNNEEDED, same version is already published
merida1macOS 10.14.6 Mojave / x86_64  OK    OK    OK    OK  UNNEEDED, same version is already published
machv2macOS 10.14.6 Mojave / x86_64  OK    OK    OK    OK  
Package 2/3HostnameOS / ArchINSTALLBUILDCHECKBUILD BIN
blima 1.27.0  (landing page)
Vojtěch Kulvait
git_last_commit: 0be8c97
git_last_commit_date: 2021-05-19 12:05:08 -0400
nebbiolo2Linux (Ubuntu 20.04.2 LTS) / x86_64  OK    OK    WARNINGS  UNNEEDED, same version is already published
riesling1Windows Server 2019 Standard / x64  OK    OK    WARNINGS    OK  UNNEEDED, same version is already published
merida1macOS 10.14.6 Mojave / x86_64  OK    OK    WARNINGS    OK  UNNEEDED, same version is already published
machv2macOS 10.14.6 Mojave / x86_64  OK    OK    WARNINGS    OK  
Package 3/3HostnameOS / ArchINSTALLBUILDCHECKBUILD BIN
epigenomix 1.33.0  (landing page)
Hans-Ulrich Klein
git_last_commit: 2c0445b
git_last_commit_date: 2021-05-19 11:57:59 -0400
nebbiolo2Linux (Ubuntu 20.04.2 LTS) / x86_64  OK    OK    OK  UNNEEDED, same version is already published
riesling1Windows Server 2019 Standard / x64  OK    OK    OK    OK  UNNEEDED, same version is already published
merida1macOS 10.14.6 Mojave / x86_64  OK    OK    OK    OK  UNNEEDED, same version is already published
machv2macOS 10.14.6 Mojave / x86_64  OK    OK    OK    OK