Back to Multiple platform build/check report for BioC 3.14
A[B]CDEFGHIJKLMNOPQRSTUVWXYZ

This page was generated on 2021-10-18 12:03:58 -0400 (Mon, 18 Oct 2021).

BUILD results for beachmat on riesling1

To the developers/maintainers of the beachmat package:
- Please allow up to 24 hours (and sometimes 48 hours) for your latest push to git@git.bioconductor.org:packages/beachmat.git to
reflect on this report. See How and When does the builder pull? When will my changes propagate? here for more information.
- Make sure to use the following settings in order to reproduce any error or warning you see on this page.

raw results

Package 132/2060HostnameOS / ArchINSTALLBUILDCHECKBUILD BIN
beachmat 2.9.1  (landing page)
Aaron Lun
Snapshot Date: 2021-10-17 14:50:03 -0400 (Sun, 17 Oct 2021)
git_url: https://git.bioconductor.org/packages/beachmat
git_branch: master
git_last_commit: 61788b0
git_last_commit_date: 2021-08-10 15:55:08 -0400 (Tue, 10 Aug 2021)
nebbiolo2Linux (Ubuntu 20.04.2 LTS) / x86_64  OK    OK    OK  UNNEEDED, same version is already published
riesling1Windows Server 2019 Standard / x64  OK    OK    OK    OK  UNNEEDED, same version is already published
merida1macOS 10.14.6 Mojave / x86_64  OK    OK    OK    OK  UNNEEDED, same version is already published

Summary

Package: beachmat
Version: 2.9.1
Command: chmod a+r beachmat -R && D:\biocbuild\bbs-3.14-bioc\R\bin\R.exe CMD build --keep-empty-dirs --no-resave-data beachmat
StartedAt: 2021-10-17 19:40:19 -0400 (Sun, 17 Oct 2021)
EndedAt: 2021-10-17 19:44:55 -0400 (Sun, 17 Oct 2021)
EllapsedTime: 275.6 seconds
RetCode: 0
Status:   OK  
PackageFile: beachmat_2.9.1.tar.gz
PackageFileSize: 1.184 MiB

Command output

##############################################################################
##############################################################################
###
### Running command:
###
###   chmod a+r beachmat -R && D:\biocbuild\bbs-3.14-bioc\R\bin\R.exe CMD build --keep-empty-dirs --no-resave-data beachmat
###
##############################################################################
##############################################################################


* checking for file 'beachmat/DESCRIPTION' ... OK
* preparing 'beachmat':
* checking DESCRIPTION meta-information ... OK
* cleaning src
* installing the package to build vignettes
* creating vignettes ... OK
* cleaning src
* checking for LF line-endings in source and make files and shell scripts
* checking for empty or unneeded directories
* building 'beachmat_2.9.1.tar.gz'