Index of /checkResults/3.14/bioc-LATEST/bcSeq/raw-results/tokay2

[ICO]NameLast modifiedSizeDescription

[DIR]Parent Directory  -  
[TXT]buildbin-out.txt22-Jan-2022 03:05 14K 
[   ]buildbin-summary.dcf22-Jan-2022 03:05 528  
[TXT]buildsrc-out.txt22-Jan-2022 03:05 867  
[   ]buildsrc-summary.dcf22-Jan-2022 03:05 449  
[TXT]checksrc-out.txt22-Jan-2022 03:05 5.5K 
[   ]checksrc-summary.dcf22-Jan-2022 03:05 460  
[TXT]install-out.txt22-Jan-2022 03:05 14K 
[   ]install-summary.dcf22-Jan-2022 03:05 623