Index of /checkResults/3.14/bioc-LATEST/bcSeq/raw-results/nebbiolo2

[ICO]NameLast modifiedSizeDescription

[DIR]Parent Directory  -  
[TXT]buildsrc-out.txt27-Jan-2022 03:05 828  
[   ]buildsrc-summary.dcf27-Jan-2022 03:05 411  
[TXT]checksrc-out.txt27-Jan-2022 03:05 4.1K 
[   ]checksrc-summary.dcf27-Jan-2022 03:05 422  
[TXT]install-out.txt27-Jan-2022 03:05 6.5K 
[   ]install-summary.dcf27-Jan-2022 03:05 255