Index of /checkResults/3.14/bioc-LATEST/bcSeq/raw-results/machv2

[ICO]NameLast modifiedSizeDescription

[DIR]Parent Directory  -  
[TXT]buildbin-out.txt15-Jan-2022 03:07 5.5K 
[   ]buildbin-summary.dcf15-Jan-2022 03:07 518  
[TXT]buildsrc-out.txt15-Jan-2022 03:07 838  
[   ]buildsrc-summary.dcf15-Jan-2022 03:07 422  
[TXT]checksrc-out.txt15-Jan-2022 03:07 3.5K 
[   ]checksrc-summary.dcf15-Jan-2022 03:07 436  
[TXT]install-out.txt15-Jan-2022 03:07 4.7K 
[   ]install-summary.dcf15-Jan-2022 03:07 265