Back to Multiple platform build/check report for BioC 3.14
A[B]CDEFGHIJKLMNOPQRSTUVWXYZ

This page was generated on 2021-10-23 14:06:19 -0400 (Sat, 23 Oct 2021).

INSTALL results for baySeq on riesling1

To the developers/maintainers of the baySeq package:
- Please allow up to 24 hours (and sometimes 48 hours) for your latest push to git@git.bioconductor.org:packages/baySeq.git to
reflect on this report. See How and When does the builder pull? When will my changes propagate? here for more information.
- Make sure to use the following settings in order to reproduce any error or warning you see on this page.

raw results

Package 127/2083HostnameOS / ArchINSTALLBUILDCHECKBUILD BIN
baySeq 2.27.0  (landing page)
Thomas J. Hardcastle
Snapshot Date: 2021-10-22 14:50:11 -0400 (Fri, 22 Oct 2021)
git_url: https://git.bioconductor.org/packages/baySeq
git_branch: master
git_last_commit: 28bdabf
git_last_commit_date: 2021-05-19 11:44:05 -0400 (Wed, 19 May 2021)
nebbiolo2Linux (Ubuntu 20.04.2 LTS) / x86_64  OK    OK    OK  UNNEEDED, same version is already published
riesling1Windows Server 2019 Standard / x64  OK    OK    OK    OK  UNNEEDED, same version is already published
merida1macOS 10.14.6 Mojave / x86_64  OK    OK    OK    OK  UNNEEDED, same version is already published

Summary

Package: baySeq
Version: 2.27.0
Command: C:\cygwin\bin\curl.exe -O http://155.52.207.166/BBS/3.14/bioc/src/contrib/baySeq_2.27.0.tar.gz && rm -rf baySeq.buildbin-libdir && mkdir baySeq.buildbin-libdir && D:\biocbuild\bbs-3.14-bioc\R\bin\R.exe CMD INSTALL --merge-multiarch --build --library=baySeq.buildbin-libdir baySeq_2.27.0.tar.gz && D:\biocbuild\bbs-3.14-bioc\R\bin\R.exe CMD INSTALL baySeq_2.27.0.zip && rm baySeq_2.27.0.tar.gz baySeq_2.27.0.zip
StartedAt: 2021-10-22 17:34:19 -0400 (Fri, 22 Oct 2021)
EndedAt: 2021-10-22 17:37:16 -0400 (Fri, 22 Oct 2021)
EllapsedTime: 177.6 seconds
RetCode: 0
Status:   OK  

Command output

##############################################################################
##############################################################################
###
### Running command:
###
###   C:\cygwin\bin\curl.exe -O http://155.52.207.166/BBS/3.14/bioc/src/contrib/baySeq_2.27.0.tar.gz && rm -rf baySeq.buildbin-libdir && mkdir baySeq.buildbin-libdir && D:\biocbuild\bbs-3.14-bioc\R\bin\R.exe CMD INSTALL --merge-multiarch --build --library=baySeq.buildbin-libdir baySeq_2.27.0.tar.gz && D:\biocbuild\bbs-3.14-bioc\R\bin\R.exe CMD INSTALL baySeq_2.27.0.zip && rm baySeq_2.27.0.tar.gz baySeq_2.27.0.zip
###
##############################################################################
##############################################################################


  % Total    % Received % Xferd  Average Speed   Time    Time     Time  Current
                                 Dload  Upload   Total   Spent    Left  Speed

  0     0    0     0    0     0      0      0 --:--:-- --:--:-- --:--:--     0
 71  277k   71  197k    0     0   879k      0 --:--:-- --:--:-- --:--:--  875k
100  277k  100  277k    0     0  1215k      0 --:--:-- --:--:-- --:--:-- 1215k

install for i386

* installing *source* package 'baySeq' ...
** using staged installation
** R
** data
** byte-compile and prepare package for lazy loading
** help
*** installing help indices
  converting help for package 'baySeq'
    finding HTML links ... done
    CDPost                                  html  
    CDPriors                                html  
    allModels                               html  
    baySeq-classes                          html  
    baySeq-package                          html  
    bimodalSep                              html  
    densityFunction                         html  
    densityFunctions                        html  
    getLibsizes                             html  
    getLikelihoods                          html  
    getPosteriors                           html  
    getPriors                               html  
    getTPs                                  html  
    makeOrderings                           html  
    marginaliseEqual                        html  
    marginalisePairwise                     html  
    methObservables                         html  
    mobAnnotation                           html  
    mobData                                 html  
    pairData                                html  
    plotMA.CD                               html  
    plotNullPrior                           html  
    plotPosteriors                          html  
    plotPriors                              html  
    selectTop                               html  
    simData                                 html  
    summarisePosteriors                     html  
    topCounts                               html  
    zimData                                 html  
** building package indices
** installing vignettes
** testing if installed package can be loaded from temporary location
** testing if installed package can be loaded from final location
** testing if installed package keeps a record of temporary installation path

install for x64

* installing *source* package 'baySeq' ...
** testing if installed package can be loaded
* MD5 sums
packaged installation of 'baySeq' as baySeq_2.27.0.zip
* DONE (baySeq)
* installing to library 'D:/biocbuild/bbs-3.14-bioc/R/library'
package 'baySeq' successfully unpacked and MD5 sums checked