Back to Multiple platform build/check report for BioC 3.14
A[B]CDEFGHIJKLMNOPQRSTUVWXYZ

This page was generated on 2021-10-23 14:05:53 -0400 (Sat, 23 Oct 2021).

BUILD results for batchelor on nebbiolo2

To the developers/maintainers of the batchelor package:
- Please allow up to 24 hours (and sometimes 48 hours) for your latest push to git@git.bioconductor.org:packages/batchelor.git to
reflect on this report. See How and When does the builder pull? When will my changes propagate? here for more information.
- Make sure to use the following settings in order to reproduce any error or warning you see on this page.

raw results

Package 122/2083HostnameOS / ArchINSTALLBUILDCHECKBUILD BIN
batchelor 1.9.1  (landing page)
Aaron Lun
Snapshot Date: 2021-10-22 14:50:11 -0400 (Fri, 22 Oct 2021)
git_url: https://git.bioconductor.org/packages/batchelor
git_branch: master
git_last_commit: ea09e98
git_last_commit_date: 2021-08-11 03:12:38 -0400 (Wed, 11 Aug 2021)
nebbiolo2Linux (Ubuntu 20.04.2 LTS) / x86_64  OK    OK    OK  UNNEEDED, same version is already published
riesling1Windows Server 2019 Standard / x64  OK    OK    OK    OK  UNNEEDED, same version is already published
merida1macOS 10.14.6 Mojave / x86_64  OK    OK    OK    OK  UNNEEDED, same version is already published

Summary

Package: batchelor
Version: 1.9.1
Command: /home/biocbuild/bbs-3.14-bioc/R/bin/R CMD build --keep-empty-dirs --no-resave-data batchelor
StartedAt: 2021-10-22 16:45:11 -0400 (Fri, 22 Oct 2021)
EndedAt: 2021-10-22 16:50:12 -0400 (Fri, 22 Oct 2021)
EllapsedTime: 301.1 seconds
RetCode: 0
Status:   OK  
PackageFile: batchelor_1.9.1.tar.gz
PackageFileSize: 1.905 MiB

Command output

##############################################################################
##############################################################################
###
### Running command:
###
###   /home/biocbuild/bbs-3.14-bioc/R/bin/R CMD build --keep-empty-dirs --no-resave-data batchelor
###
##############################################################################
##############################################################################


* checking for file ‘batchelor/DESCRIPTION’ ... OK
* preparing ‘batchelor’:
* checking DESCRIPTION meta-information ... OK
* cleaning src
* installing the package to build vignettes
* creating vignettes ... OK
* cleaning src
* checking for LF line-endings in source and make files and shell scripts
* checking for empty or unneeded directories
* building ‘batchelor_1.9.1.tar.gz’