Back to Multiple platform build/check report for BioC 3.14
A[B]CDEFGHIJKLMNOPQRSTUVWXYZ

This page was generated on 2021-12-06 13:05:50 -0500 (Mon, 06 Dec 2021).

BUILD results for batchelor on machv2

To the developers/maintainers of the batchelor package:
- Please allow up to 24 hours (and sometimes 48 hours) for your latest push to git@git.bioconductor.org:packages/batchelor.git to
reflect on this report. See How and When does the builder pull? When will my changes propagate? here for more information.
- Make sure to use the following settings in order to reproduce any error or warning you see on this page.

raw results

Package 122/2083HostnameOS / ArchINSTALLBUILDCHECKBUILD BIN
batchelor 1.10.0  (landing page)
Aaron Lun
Snapshot Date: 2021-12-05 01:55:05 -0500 (Sun, 05 Dec 2021)
git_url: https://git.bioconductor.org/packages/batchelor
git_branch: RELEASE_3_14
git_last_commit: fbbcf91
git_last_commit_date: 2021-10-26 12:50:33 -0500 (Tue, 26 Oct 2021)
nebbiolo2Linux (Ubuntu 20.04.3 LTS) / x86_64  OK    OK    OK  UNNEEDED, same version is already published
tokay2Windows Server 2012 R2 Standard / x64  OK    OK    OK    OK  UNNEEDED, same version is already published
machv2macOS 10.14.6 Mojave / x86_64  OK    OK    OK    OK  UNNEEDED, same version is already published

Summary

Package: batchelor
Version: 1.10.0
Command: /Library/Frameworks/R.framework/Resources/bin/R CMD build --keep-empty-dirs --no-resave-data batchelor
StartedAt: 2021-12-05 05:53:03 -0500 (Sun, 05 Dec 2021)
EndedAt: 2021-12-05 06:00:00 -0500 (Sun, 05 Dec 2021)
EllapsedTime: 417.5 seconds
RetCode: 0
Status:   OK  
PackageFile: batchelor_1.10.0.tar.gz
PackageFileSize: 1.904 MiB

Command output

##############################################################################
##############################################################################
###
### Running command:
###
###   /Library/Frameworks/R.framework/Resources/bin/R CMD build --keep-empty-dirs --no-resave-data batchelor
###
##############################################################################
##############################################################################


* checking for file ‘batchelor/DESCRIPTION’ ... OK
* preparing ‘batchelor’:
* checking DESCRIPTION meta-information ... OK
* cleaning src
* installing the package to build vignettes
* creating vignettes ... OK
* cleaning src
* checking for LF line-endings in source and make files and shell scripts
* checking for empty or unneeded directories
* building ‘batchelor_1.10.0.tar.gz’