Back to Multiple platform build/check report for BioC 3.14
A[B]CDEFGHIJKLMNOPQRSTUVWXYZ

This page was generated on 2022-01-24 13:05:54 -0500 (Mon, 24 Jan 2022).

HostnameOSArch (*)R versionInstalled pkgs
nebbiolo2Linux (Ubuntu 20.04.4 LTS)x86_644.1.2 (2021-11-01) -- "Bird Hippie" 4329
tokay2Windows Server 2012 R2 Standardx644.1.2 (2021-11-01) -- "Bird Hippie" 4080
machv2macOS 10.14.6 Mojavex86_644.1.2 (2021-11-01) -- "Bird Hippie" 4141
Click on any hostname to see more info about the system (e.g. compilers)      (*) as reported by 'uname -p', except on Windows and Mac OS X

INSTALL results for basilisk on tokay2


To the developers/maintainers of the basilisk package:
- Please allow up to 24 hours (and sometimes 48 hours) for your latest push to git@git.bioconductor.org:packages/basilisk.git to
reflect on this report. See How and When does the builder pull? When will my changes propagate? here for more information.
- Make sure to use the following settings in order to reproduce any error or warning you see on this page.

raw results

Package 120/2083HostnameOS / ArchINSTALLBUILDCHECKBUILD BIN
basilisk 1.6.0  (landing page)
Aaron Lun
Snapshot Date: 2022-01-23 01:55:04 -0500 (Sun, 23 Jan 2022)
git_url: https://git.bioconductor.org/packages/basilisk
git_branch: RELEASE_3_14
git_last_commit: 8910ee2
git_last_commit_date: 2021-10-26 12:57:18 -0500 (Tue, 26 Oct 2021)
nebbiolo2Linux (Ubuntu 20.04.4 LTS) / x86_64  OK    OK    OK  UNNEEDED, same version is already published
tokay2Windows Server 2012 R2 Standard / x64  OK    OK    OK    OK  UNNEEDED, same version is already published
machv2macOS 10.14.6 Mojave / x86_64  OK    OK    OK    OK  UNNEEDED, same version is already published

Summary

Package: basilisk
Version: 1.6.0
Command: C:\Users\biocbuild\bbs-3.14-bioc\R\bin\R.exe --arch x64 CMD INSTALL --no-multiarch basilisk
StartedAt: 2022-01-23 04:13:28 -0500 (Sun, 23 Jan 2022)
EndedAt: 2022-01-23 04:14:01 -0500 (Sun, 23 Jan 2022)
EllapsedTime: 33.4 seconds
RetCode: 0
Status:   OK  

Command output

##############################################################################
##############################################################################
###
### Running command:
###
###   C:\Users\biocbuild\bbs-3.14-bioc\R\bin\R.exe --arch x64 CMD INSTALL --no-multiarch basilisk
###
##############################################################################
##############################################################################


* installing to library 'C:/Users/biocbuild/bbs-3.14-bioc/R/library'
* installing *source* package 'basilisk' ...
** using non-staged installation via StagedInstall field
** R
** inst
** byte-compile and prepare package for lazy loading
** help
*** installing help indices
  converting help for package 'basilisk'
    finding HTML links ... done
    BasiliskEnvironment-class               html  
    PyPiLink                                html  
    basiliskOptions                         html  
    basiliskStart                           html  
    finding level-2 HTML links ... done

    configureBasiliskEnv                    html  
    findPersistentEnv                       html  
    listPackages                            html  
    setupBasiliskEnv                        html  
    useBasiliskEnv                          html  
** building package indices
** installing vignettes
** testing if installed package can be loaded
* DONE (basilisk)
Making 'packages.html' ... done