Back to Multiple platform build/check report for BioC 3.14
A[B]CDEFGHIJKLMNOPQRSTUVWXYZ

This page was generated on 2021-10-19 12:04:47 -0400 (Tue, 19 Oct 2021).

BUILD results for basilisk on riesling1

To the developers/maintainers of the basilisk package:
- Please allow up to 24 hours (and sometimes 48 hours) for your latest push to git@git.bioconductor.org:packages/basilisk.git to
reflect on this report. See How and When does the builder pull? When will my changes propagate? here for more information.
- Make sure to use the following settings in order to reproduce any error or warning you see on this page.

raw results

Package 120/2060HostnameOS / ArchINSTALLBUILDCHECKBUILD BIN
basilisk 1.5.0  (landing page)
Aaron Lun
Snapshot Date: 2021-10-18 14:50:10 -0400 (Mon, 18 Oct 2021)
git_url: https://git.bioconductor.org/packages/basilisk
git_branch: master
git_last_commit: d4d0d26
git_last_commit_date: 2021-05-19 12:49:27 -0400 (Wed, 19 May 2021)
nebbiolo2Linux (Ubuntu 20.04.2 LTS) / x86_64  OK    OK    OK  UNNEEDED, same version is already published
riesling1Windows Server 2019 Standard / x64  OK    OK    OK    OK  UNNEEDED, same version is already published
merida1macOS 10.14.6 Mojave / x86_64  OK    OK    OK    OK  UNNEEDED, same version is already published

Summary

Package: basilisk
Version: 1.5.0
Command: chmod a+r basilisk -R && D:\biocbuild\bbs-3.14-bioc\R\bin\R.exe --arch x64 CMD build --keep-empty-dirs --no-resave-data basilisk
StartedAt: 2021-10-18 19:43:02 -0400 (Mon, 18 Oct 2021)
EndedAt: 2021-10-18 19:47:58 -0400 (Mon, 18 Oct 2021)
EllapsedTime: 295.4 seconds
RetCode: 0
Status:   OK  
PackageFile: basilisk_1.5.0.tar.gz
PackageFileSize: 246.9 KiB

Command output

##############################################################################
##############################################################################
###
### Running command:
###
###   chmod a+r basilisk -R && D:\biocbuild\bbs-3.14-bioc\R\bin\R.exe --arch x64 CMD build --keep-empty-dirs --no-resave-data basilisk
###
##############################################################################
##############################################################################


* checking for file 'basilisk/DESCRIPTION' ... OK
* preparing 'basilisk':
* checking DESCRIPTION meta-information ... OK
* installing the package to build vignettes
* creating vignettes ... OK
* checking for LF line-endings in source and make files and shell scripts
* checking for empty or unneeded directories
* building 'basilisk_1.5.0.tar.gz'
Warning: file 'basilisk/configure' did not have execute permissions: corrected
Warning: file 'basilisk/inst/example/configure' did not have execute permissions: corrected