Back to Multiple platform build/check report for BioC 3.14
A[B]CDEFGHIJKLMNOPQRSTUVWXYZ

This page was generated on 2021-10-26 14:06:16 -0400 (Tue, 26 Oct 2021).

INSTALL results for basilisk on nebbiolo2

To the developers/maintainers of the basilisk package:
- Please allow up to 24 hours (and sometimes 48 hours) for your latest push to git@git.bioconductor.org:packages/basilisk.git to
reflect on this report. See How and When does the builder pull? When will my changes propagate? here for more information.
- Make sure to use the following settings in order to reproduce any error or warning you see on this page.

raw results

Package 120/2083HostnameOS / ArchINSTALLBUILDCHECKBUILD BIN
basilisk 1.5.0  (landing page)
Aaron Lun
Snapshot Date: 2021-10-25 14:50:11 -0400 (Mon, 25 Oct 2021)
git_url: https://git.bioconductor.org/packages/basilisk
git_branch: master
git_last_commit: d4d0d26
git_last_commit_date: 2021-05-19 12:49:27 -0400 (Wed, 19 May 2021)
nebbiolo2Linux (Ubuntu 20.04.2 LTS) / x86_64  OK    OK    OK  UNNEEDED, same version is already published
riesling1Windows Server 2019 Standard / x64  OK    OK    OK    OK  UNNEEDED, same version is already published
merida1macOS 10.14.6 Mojave / x86_64  OK    OK    OK    OK  UNNEEDED, same version is already published
machv2macOS 10.14.6 Mojave / x86_64  OK    OK    OK    OK  

Summary

Package: basilisk
Version: 1.5.0
Command: /home/biocbuild/bbs-3.14-bioc/R/bin/R CMD INSTALL basilisk
StartedAt: 2021-10-25 16:03:21 -0400 (Mon, 25 Oct 2021)
EndedAt: 2021-10-25 16:03:35 -0400 (Mon, 25 Oct 2021)
EllapsedTime: 13.7 seconds
RetCode: 0
Status:   OK  

Command output

##############################################################################
##############################################################################
###
### Running command:
###
###   /home/biocbuild/bbs-3.14-bioc/R/bin/R CMD INSTALL basilisk
###
##############################################################################
##############################################################################


* installing to library ‘/home/biocbuild/bbs-3.14-bioc/R/library’
* installing *source* package ‘basilisk’ ...
** using non-staged installation via StagedInstall field
** R
** inst
** byte-compile and prepare package for lazy loading
** help
*** installing help indices
** building package indices
** installing vignettes
** testing if installed package can be loaded
* DONE (basilisk)