Back to Multiple platform build/check report for BioC 3.14
A[B]CDEFGHIJKLMNOPQRSTUVWXYZ

This page was generated on 2021-10-18 12:03:58 -0400 (Mon, 18 Oct 2021).

BUILD BIN results for basilisk.utils on riesling1

To the developers/maintainers of the basilisk.utils package:
- Please allow up to 24 hours (and sometimes 48 hours) for your latest push to git@git.bioconductor.org:packages/basilisk.utils.git to
reflect on this report. See How and When does the builder pull? When will my changes propagate? here for more information.
- Make sure to use the following settings in order to reproduce any error or warning you see on this page.

raw results

Package 121/2060HostnameOS / ArchINSTALLBUILDCHECKBUILD BIN
basilisk.utils 1.5.0  (landing page)
Aaron Lun
Snapshot Date: 2021-10-17 14:50:03 -0400 (Sun, 17 Oct 2021)
git_url: https://git.bioconductor.org/packages/basilisk.utils
git_branch: master
git_last_commit: ea7cb0c
git_last_commit_date: 2021-05-19 12:49:40 -0400 (Wed, 19 May 2021)
nebbiolo2Linux (Ubuntu 20.04.2 LTS) / x86_64  OK    OK    OK  UNNEEDED, same version is already published
riesling1Windows Server 2019 Standard / x64  OK    OK    OK    OK  UNNEEDED, same version is already published
merida1macOS 10.14.6 Mojave / x86_64  OK    OK    OK    OK  UNNEEDED, same version is already published

Summary

Package: basilisk.utils
Version: 1.5.0
Command: rm -rf basilisk.utils.buildbin-libdir && mkdir basilisk.utils.buildbin-libdir && D:\biocbuild\bbs-3.14-bioc\R\bin\R.exe CMD INSTALL --merge-multiarch --build --library=basilisk.utils.buildbin-libdir basilisk.utils_1.5.0.tar.gz
StartedAt: 2021-10-18 04:19:15 -0400 (Mon, 18 Oct 2021)
EndedAt: 2021-10-18 04:23:29 -0400 (Mon, 18 Oct 2021)
EllapsedTime: 254.5 seconds
RetCode: 0
Status:   OK  
PackageFile: basilisk.utils_1.5.0.zip
PackageFileSize: 302.6 KiB

Command output

##############################################################################
##############################################################################
###
### Running command:
###
###   rm -rf basilisk.utils.buildbin-libdir && mkdir basilisk.utils.buildbin-libdir && D:\biocbuild\bbs-3.14-bioc\R\bin\R.exe CMD INSTALL --merge-multiarch --build --library=basilisk.utils.buildbin-libdir basilisk.utils_1.5.0.tar.gz
###
##############################################################################
##############################################################################



install for i386

* installing *source* package 'basilisk.utils' ...
** using staged installation
** R
** inst
** byte-compile and prepare package for lazy loading
** help
*** installing help indices
  converting help for package 'basilisk.utils'
    finding HTML links ... done
    activateEnvironment                     html  
    cleanConda                              html  
    clearExternalDir                        html  
    destroyOldVersions                      html  
    dir.create2                             html  
    getBinaries                             html  
    getCondaDir                             html  
    getExternalDir                          html  
    getSystemDir                            html  
    installConda                            html  
    isWindows                               html  
    lockExternalDir                         html  
    finding level-2 HTML links ... done

    setCondaPackageDir                      html  
    setVariable                             html  
    unlink2                                 html  
    useSystemDir                            html  
** building package indices
** installing vignettes
** testing if installed package can be loaded from temporary location
** testing if installed package can be loaded from final location
** testing if installed package keeps a record of temporary installation path

install for x64

* installing *source* package 'basilisk.utils' ...
** testing if installed package can be loaded
* MD5 sums
packaged installation of 'basilisk.utils' as basilisk.utils_1.5.0.zip
* DONE (basilisk.utils)