Back to Multiple platform build/check report for BioC 3.14
A[B]CDEFGHIJKLMNOPQRSTUVWXYZ

This page was generated on 2021-11-29 15:04:49 -0500 (Mon, 29 Nov 2021).

INSTALL results for basilisk.utils on nebbiolo2

To the developers/maintainers of the basilisk.utils package:
- Please allow up to 24 hours (and sometimes 48 hours) for your latest push to git@git.bioconductor.org:packages/basilisk.utils.git to
reflect on this report. See How and When does the builder pull? When will my changes propagate? here for more information.
- Make sure to use the following settings in order to reproduce any error or warning you see on this page.

raw results

Package 121/2083HostnameOS / ArchINSTALLBUILDCHECKBUILD BIN
basilisk.utils 1.6.0  (landing page)
Aaron Lun
Snapshot Date: 2021-11-28 04:15:06 -0500 (Sun, 28 Nov 2021)
git_url: https://git.bioconductor.org/packages/basilisk.utils
git_branch: RELEASE_3_14
git_last_commit: f6bb193
git_last_commit_date: 2021-10-26 12:57:29 -0500 (Tue, 26 Oct 2021)
nebbiolo2Linux (Ubuntu 20.04.3 LTS) / x86_64  OK    OK    OK  UNNEEDED, same version is already published
tokay2Windows Server 2012 R2 Standard / x64  OK    OK    OK    OK  UNNEEDED, same version is already published
machv2macOS 10.14.6 Mojave / x86_64  OK    OK    OK    OK  UNNEEDED, same version is already published

Summary

Package: basilisk.utils
Version: 1.6.0
Command: /home/biocbuild/bbs-3.14-bioc/R/bin/R CMD INSTALL basilisk.utils
StartedAt: 2021-11-28 05:06:31 -0500 (Sun, 28 Nov 2021)
EndedAt: 2021-11-28 05:06:45 -0500 (Sun, 28 Nov 2021)
EllapsedTime: 14.7 seconds
RetCode: 0
Status:   OK  

Command output

##############################################################################
##############################################################################
###
### Running command:
###
###   /home/biocbuild/bbs-3.14-bioc/R/bin/R CMD INSTALL basilisk.utils
###
##############################################################################
##############################################################################


* installing to library ‘/home/biocbuild/bbs-3.14-bioc/R/library’
* installing *source* package ‘basilisk.utils’ ...
** using staged installation
** R
** inst
** byte-compile and prepare package for lazy loading
** help
*** installing help indices
** building package indices
** installing vignettes
** testing if installed package can be loaded from temporary location
** testing if installed package can be loaded from final location
** testing if installed package keeps a record of temporary installation path
* DONE (basilisk.utils)