Back to Multiple platform build/check report for BioC 3.14
A[B]CDEFGHIJKLMNOPQRSTUVWXYZ

This page was generated on 2021-10-23 14:06:19 -0400 (Sat, 23 Oct 2021).

BUILD results for basecallQC on riesling1

To the developers/maintainers of the basecallQC package:
- Please allow up to 24 hours (and sometimes 48 hours) for your latest push to git@git.bioconductor.org:packages/basecallQC.git to
reflect on this report. See How and When does the builder pull? When will my changes propagate? here for more information.
- Make sure to use the following settings in order to reproduce any error or warning you see on this page.

raw results

Package 115/2083HostnameOS / ArchINSTALLBUILDCHECKBUILD BIN
basecallQC 1.17.0  (landing page)
Thomas Carroll
Snapshot Date: 2021-10-22 14:50:11 -0400 (Fri, 22 Oct 2021)
git_url: https://git.bioconductor.org/packages/basecallQC
git_branch: master
git_last_commit: 8e0dc62
git_last_commit_date: 2021-05-19 12:27:10 -0400 (Wed, 19 May 2021)
nebbiolo2Linux (Ubuntu 20.04.2 LTS) / x86_64  OK    OK    OK  UNNEEDED, same version is already published
riesling1Windows Server 2019 Standard / x64  OK    OK    OK    OK  UNNEEDED, same version is already published
merida1macOS 10.14.6 Mojave / x86_64  OK    OK    OK    OK  UNNEEDED, same version is already published

Summary

Package: basecallQC
Version: 1.17.0
Command: chmod a+r basecallQC -R && D:\biocbuild\bbs-3.14-bioc\R\bin\R.exe CMD build --keep-empty-dirs --no-resave-data basecallQC
StartedAt: 2021-10-22 19:33:20 -0400 (Fri, 22 Oct 2021)
EndedAt: 2021-10-22 19:38:13 -0400 (Fri, 22 Oct 2021)
EllapsedTime: 293.1 seconds
RetCode: 0
Status:   OK  
PackageFile: basecallQC_1.17.0.tar.gz
PackageFileSize: 1.391 MiB

Command output

##############################################################################
##############################################################################
###
### Running command:
###
###   chmod a+r basecallQC -R && D:\biocbuild\bbs-3.14-bioc\R\bin\R.exe CMD build --keep-empty-dirs --no-resave-data basecallQC
###
##############################################################################
##############################################################################


* checking for file 'basecallQC/DESCRIPTION' ... OK
* preparing 'basecallQC':
* checking DESCRIPTION meta-information ... OK
* installing the package to build vignettes
* creating vignettes ... OK
* checking for LF line-endings in source and make files and shell scripts
* checking for empty or unneeded directories
Omitted 'LazyData' from DESCRIPTION
* building 'basecallQC_1.17.0.tar.gz'