Back to Multiple platform build/check report for BioC 3.14
A[B]CDEFGHIJKLMNOPQRSTUVWXYZ

This page was generated on 2021-10-26 14:06:52 -0400 (Tue, 26 Oct 2021).

INSTALL results for barcodetrackR on riesling1

To the developers/maintainers of the barcodetrackR package:
- Please allow up to 24 hours (and sometimes 48 hours) for your latest push to git@git.bioconductor.org:packages/barcodetrackR.git to
reflect on this report. See How and When does the builder pull? When will my changes propagate? here for more information.
- Make sure to use the following settings in order to reproduce any error or warning you see on this page.

raw results

Package 114/2083HostnameOS / ArchINSTALLBUILDCHECKBUILD BIN
barcodetrackR 1.1.0  (landing page)
Diego Alexander Espinoza
Snapshot Date: 2021-10-25 14:50:11 -0400 (Mon, 25 Oct 2021)
git_url: https://git.bioconductor.org/packages/barcodetrackR
git_branch: master
git_last_commit: 7d0712b
git_last_commit_date: 2021-05-19 13:01:26 -0400 (Wed, 19 May 2021)
nebbiolo2Linux (Ubuntu 20.04.2 LTS) / x86_64  OK    OK    OK  UNNEEDED, same version is already published
riesling1Windows Server 2019 Standard / x64  OK    OK    OK    OK  UNNEEDED, same version is already published
merida1macOS 10.14.6 Mojave / x86_64  OK    OK    OK    OK  UNNEEDED, same version is already published
machv2macOS 10.14.6 Mojave / x86_64  OK    OK    OK    OK  

Summary

Package: barcodetrackR
Version: 1.1.0
Command: C:\cygwin\bin\curl.exe -O http://155.52.207.166/BBS/3.14/bioc/src/contrib/barcodetrackR_1.1.0.tar.gz && rm -rf barcodetrackR.buildbin-libdir && mkdir barcodetrackR.buildbin-libdir && D:\biocbuild\bbs-3.14-bioc\R\bin\R.exe CMD INSTALL --merge-multiarch --build --library=barcodetrackR.buildbin-libdir barcodetrackR_1.1.0.tar.gz && D:\biocbuild\bbs-3.14-bioc\R\bin\R.exe CMD INSTALL barcodetrackR_1.1.0.zip && rm barcodetrackR_1.1.0.tar.gz barcodetrackR_1.1.0.zip
StartedAt: 2021-10-25 18:14:16 -0400 (Mon, 25 Oct 2021)
EndedAt: 2021-10-25 18:17:16 -0400 (Mon, 25 Oct 2021)
EllapsedTime: 180.4 seconds
RetCode: 0
Status:   OK  

Command output

##############################################################################
##############################################################################
###
### Running command:
###
###   C:\cygwin\bin\curl.exe -O http://155.52.207.166/BBS/3.14/bioc/src/contrib/barcodetrackR_1.1.0.tar.gz && rm -rf barcodetrackR.buildbin-libdir && mkdir barcodetrackR.buildbin-libdir && D:\biocbuild\bbs-3.14-bioc\R\bin\R.exe CMD INSTALL --merge-multiarch --build --library=barcodetrackR.buildbin-libdir barcodetrackR_1.1.0.tar.gz && D:\biocbuild\bbs-3.14-bioc\R\bin\R.exe CMD INSTALL barcodetrackR_1.1.0.zip && rm barcodetrackR_1.1.0.tar.gz barcodetrackR_1.1.0.zip
###
##############################################################################
##############################################################################


  % Total    % Received % Xferd  Average Speed   Time    Time     Time  Current
                                 Dload  Upload   Total   Spent    Left  Speed

  0     0    0     0    0     0      0      0 --:--:-- --:--:-- --:--:--     0
  5 1069k    5 63475    0     0   407k      0  0:00:02 --:--:--  0:00:02  405k
100 1069k  100 1069k    0     0  2852k      0 --:--:-- --:--:-- --:--:-- 2845k

install for i386

* installing *source* package 'barcodetrackR' ...
** using staged installation
** R
** data
** inst
** byte-compile and prepare package for lazy loading
** help
*** installing help indices
  converting help for package 'barcodetrackR'
    finding HTML links ... done
    barcode_binary_heatmap                  html  
    barcode_ggheatmap                       html  
    barcode_ggheatmap_stat                  html  
    barcode_stat_test                       html  
    bias_histogram                          html  
    bias_lineplot                           html  
    bias_ridge_plot                         html  
    build_index_html                        html  
    chord_diagram                           html  
    clonal_contribution                     html  
    clonal_count                            html  
    clonal_diversity                        html  
    cor_plot                                html  
    create_SE                               html  
    dist_plot                               html  
    estimate_barcode_threshold              html  
    get_top_clones                          html  
    launchApp                               html  
    mds_plot                                html  
    rank_abundance_plot                     html  
    rank_abundance_stat_test                html  
    scatter_plot                            html  
    stat_hist                               html  
    subset_SE                               html  
    threshold                               html  
    threshold_SE                            html  
    wu_subset                               html  
** building package indices
** installing vignettes
** testing if installed package can be loaded from temporary location
** testing if installed package can be loaded from final location
** testing if installed package keeps a record of temporary installation path

install for x64

* installing *source* package 'barcodetrackR' ...
** testing if installed package can be loaded
* MD5 sums
packaged installation of 'barcodetrackR' as barcodetrackR_1.1.0.zip
* DONE (barcodetrackR)
* installing to library 'D:/biocbuild/bbs-3.14-bioc/R/library'
package 'barcodetrackR' successfully unpacked and MD5 sums checked