Back to Multiple platform build/check report for BioC 3.14
A[B]CDEFGHIJKLMNOPQRSTUVWXYZ

This page was generated on 2021-10-20 12:05:00 -0400 (Wed, 20 Oct 2021).

CHECK results for barcodetrackR on riesling1

To the developers/maintainers of the barcodetrackR package:
- Please allow up to 24 hours (and sometimes 48 hours) for your latest push to git@git.bioconductor.org:packages/barcodetrackR.git to
reflect on this report. See How and When does the builder pull? When will my changes propagate? here for more information.
- Make sure to use the following settings in order to reproduce any error or warning you see on this page.

raw results

Package 114/2072HostnameOS / ArchINSTALLBUILDCHECKBUILD BIN
barcodetrackR 1.1.0  (landing page)
Diego Alexander Espinoza
Snapshot Date: 2021-10-19 14:50:04 -0400 (Tue, 19 Oct 2021)
git_url: https://git.bioconductor.org/packages/barcodetrackR
git_branch: master
git_last_commit: 7d0712b
git_last_commit_date: 2021-05-19 13:01:26 -0400 (Wed, 19 May 2021)
nebbiolo2Linux (Ubuntu 20.04.2 LTS) / x86_64  OK    OK    OK  UNNEEDED, same version is already published
riesling1Windows Server 2019 Standard / x64  OK    OK    OK    OK  UNNEEDED, same version is already published
merida1macOS 10.14.6 Mojave / x86_64  OK    OK    OK    OK  UNNEEDED, same version is already published

Summary

Package: barcodetrackR
Version: 1.1.0
Command: D:\biocbuild\bbs-3.14-bioc\R\bin\R.exe CMD check --force-multiarch --install=check:barcodetrackR.install-out.txt --library=D:\biocbuild\bbs-3.14-bioc\R\library --no-vignettes --timings barcodetrackR_1.1.0.tar.gz
StartedAt: 2021-10-20 00:15:34 -0400 (Wed, 20 Oct 2021)
EndedAt: 2021-10-20 00:19:57 -0400 (Wed, 20 Oct 2021)
EllapsedTime: 262.9 seconds
RetCode: 0
Status:   OK  
CheckDir: barcodetrackR.Rcheck
Warnings: 0

Command output

##############################################################################
##############################################################################
###
### Running command:
###
###   D:\biocbuild\bbs-3.14-bioc\R\bin\R.exe CMD check --force-multiarch --install=check:barcodetrackR.install-out.txt --library=D:\biocbuild\bbs-3.14-bioc\R\library --no-vignettes --timings barcodetrackR_1.1.0.tar.gz
###
##############################################################################
##############################################################################


* using log directory 'D:/biocbuild/bbs-3.14-bioc/meat/barcodetrackR.Rcheck'
* using R version 4.1.1 (2021-08-10)
* using platform: x86_64-w64-mingw32 (64-bit)
* using session charset: ISO8859-1
* using option '--no-vignettes'
* checking for file 'barcodetrackR/DESCRIPTION' ... OK
* checking extension type ... Package
* this is package 'barcodetrackR' version '1.1.0'
* package encoding: UTF-8
* checking package namespace information ... OK
* checking package dependencies ... OK
* checking if this is a source package ... OK
* checking if there is a namespace ... OK
* checking for hidden files and directories ... OK
* checking for portable file names ... OK
* checking whether package 'barcodetrackR' can be installed ... OK
* checking installed package size ... OK
* checking package directory ... OK
* checking 'build' directory ... OK
* checking DESCRIPTION meta-information ... OK
* checking top-level files ... OK
* checking for left-over files ... OK
* checking index information ... OK
* checking package subdirectories ... OK
* checking R files for non-ASCII characters ... OK
* checking R files for syntax errors ... OK
* loading checks for arch 'i386'
** checking whether the package can be loaded ... OK
** checking whether the package can be loaded with stated dependencies ... OK
** checking whether the package can be unloaded cleanly ... OK
** checking whether the namespace can be loaded with stated dependencies ... OK
** checking whether the namespace can be unloaded cleanly ... OK
* loading checks for arch 'x64'
** checking whether the package can be loaded ... OK
** checking whether the package can be loaded with stated dependencies ... OK
** checking whether the package can be unloaded cleanly ... OK
** checking whether the namespace can be loaded with stated dependencies ... OK
** checking whether the namespace can be unloaded cleanly ... OK
* checking dependencies in R code ... OK
* checking S3 generic/method consistency ... OK
* checking replacement functions ... OK
* checking foreign function calls ... OK
* checking R code for possible problems ... OK
* checking Rd files ... OK
* checking Rd metadata ... OK
* checking Rd cross-references ... OK
* checking for missing documentation entries ... OK
* checking for code/documentation mismatches ... OK
* checking Rd \usage sections ... OK
* checking Rd contents ... OK
* checking for unstated dependencies in examples ... OK
* checking contents of 'data' directory ... OK
* checking data for non-ASCII characters ... OK
* checking data for ASCII and uncompressed saves ... OK
* checking files in 'vignettes' ... OK
* checking examples ...
** running examples for arch 'i386' ... OK
** running examples for arch 'x64' ... OK
* checking for unstated dependencies in 'tests' ... OK
* checking tests ...
** running tests for arch 'i386' ...
  Running 'testthat.R'
 OK
** running tests for arch 'x64' ...
  Running 'testthat.R'
 OK
* checking for unstated dependencies in vignettes ... OK
* checking package vignettes in 'inst/doc' ... OK
* checking running R code from vignettes ... SKIPPED
* checking re-building of vignette outputs ... SKIPPED
* checking PDF version of manual ... OK
* DONE

Status: OK


Installation output

barcodetrackR.Rcheck/00install.out

##############################################################################
##############################################################################
###
### Running command:
###
###   C:\cygwin\bin\curl.exe -O http://155.52.207.166/BBS/3.14/bioc/src/contrib/barcodetrackR_1.1.0.tar.gz && rm -rf barcodetrackR.buildbin-libdir && mkdir barcodetrackR.buildbin-libdir && D:\biocbuild\bbs-3.14-bioc\R\bin\R.exe CMD INSTALL --merge-multiarch --build --library=barcodetrackR.buildbin-libdir barcodetrackR_1.1.0.tar.gz && D:\biocbuild\bbs-3.14-bioc\R\bin\R.exe CMD INSTALL barcodetrackR_1.1.0.zip && rm barcodetrackR_1.1.0.tar.gz barcodetrackR_1.1.0.zip
###
##############################################################################
##############################################################################


  % Total    % Received % Xferd  Average Speed   Time    Time     Time  Current
                                 Dload  Upload   Total   Spent    Left  Speed

  0     0    0     0    0     0      0      0 --:--:-- --:--:-- --:--:--     0
100 1069k  100 1069k    0     0  2584k      0 --:--:-- --:--:-- --:--:-- 2584k

install for i386

* installing *source* package 'barcodetrackR' ...
** using staged installation
** R
** data
** inst
** byte-compile and prepare package for lazy loading
** help
*** installing help indices
  converting help for package 'barcodetrackR'
    finding HTML links ... done
    barcode_binary_heatmap                  html  
    barcode_ggheatmap                       html  
    barcode_ggheatmap_stat                  html  
    barcode_stat_test                       html  
    bias_histogram                          html  
    bias_lineplot                           html  
    bias_ridge_plot                         html  
    build_index_html                        html  
    chord_diagram                           html  
    clonal_contribution                     html  
    clonal_count                            html  
    clonal_diversity                        html  
    cor_plot                                html  
    create_SE                               html  
    dist_plot                               html  
    estimate_barcode_threshold              html  
    get_top_clones                          html  
    launchApp                               html  
    mds_plot                                html  
    rank_abundance_plot                     html  
    rank_abundance_stat_test                html  
    scatter_plot                            html  
    stat_hist                               html  
    subset_SE                               html  
    threshold                               html  
    threshold_SE                            html  
    wu_subset                               html  
** building package indices
** installing vignettes
** testing if installed package can be loaded from temporary location
** testing if installed package can be loaded from final location
** testing if installed package keeps a record of temporary installation path

install for x64

* installing *source* package 'barcodetrackR' ...
** testing if installed package can be loaded
* MD5 sums
packaged installation of 'barcodetrackR' as barcodetrackR_1.1.0.zip
* DONE (barcodetrackR)
* installing to library 'D:/biocbuild/bbs-3.14-bioc/R/library'
package 'barcodetrackR' successfully unpacked and MD5 sums checked

Tests output

barcodetrackR.Rcheck/tests_i386/testthat.Rout


R version 4.1.1 (2021-08-10) -- "Kick Things"
Copyright (C) 2021 The R Foundation for Statistical Computing
Platform: i386-w64-mingw32/i386 (32-bit)

R is free software and comes with ABSOLUTELY NO WARRANTY.
You are welcome to redistribute it under certain conditions.
Type 'license()' or 'licence()' for distribution details.

R is a collaborative project with many contributors.
Type 'contributors()' for more information and
'citation()' on how to cite R or R packages in publications.

Type 'demo()' for some demos, 'help()' for on-line help, or
'help.start()' for an HTML browser interface to help.
Type 'q()' to quit R.

> library(testthat)
> library(barcodetrackR)
> 
> test_check("barcodetrackR")
No threshold supplied. All barcodes will be retained. Be aware that lower abundance barcodes are likely to be less reliable due to sampling bias. To estimate an appropriate threshold, please see the barcodetrackR function `estimate_barcode_threshold`. 
No threshold supplied. All barcodes will be retained. Be aware that lower abundance barcodes are likely to be less reliable due to sampling bias. To estimate an appropriate threshold, please see the barcodetrackR function `estimate_barcode_threshold`. 
Removed 0 barcodes from the supplied dataframe based on relative threshold of 1e-07 
Removed 0 barcodes from the supplied dataframe based on relative threshold of 1e-07 
Removed 71 barcodes from the supplied dataframe based on relative threshold of 0.005 
Removed 71 barcodes from the supplied dataframe based on relative threshold of 0.005 
[ FAIL 0 | WARN 4 | SKIP 0 | PASS 31 ]
> 
> proc.time()
   user  system elapsed 
   9.60    0.48   10.07 

barcodetrackR.Rcheck/tests_x64/testthat.Rout


R version 4.1.1 (2021-08-10) -- "Kick Things"
Copyright (C) 2021 The R Foundation for Statistical Computing
Platform: x86_64-w64-mingw32/x64 (64-bit)

R is free software and comes with ABSOLUTELY NO WARRANTY.
You are welcome to redistribute it under certain conditions.
Type 'license()' or 'licence()' for distribution details.

R is a collaborative project with many contributors.
Type 'contributors()' for more information and
'citation()' on how to cite R or R packages in publications.

Type 'demo()' for some demos, 'help()' for on-line help, or
'help.start()' for an HTML browser interface to help.
Type 'q()' to quit R.

> library(testthat)
> library(barcodetrackR)
> 
> test_check("barcodetrackR")
No threshold supplied. All barcodes will be retained. Be aware that lower abundance barcodes are likely to be less reliable due to sampling bias. To estimate an appropriate threshold, please see the barcodetrackR function `estimate_barcode_threshold`. 
No threshold supplied. All barcodes will be retained. Be aware that lower abundance barcodes are likely to be less reliable due to sampling bias. To estimate an appropriate threshold, please see the barcodetrackR function `estimate_barcode_threshold`. 
Removed 0 barcodes from the supplied dataframe based on relative threshold of 1e-07 
Removed 0 barcodes from the supplied dataframe based on relative threshold of 1e-07 
Removed 71 barcodes from the supplied dataframe based on relative threshold of 0.005 
Removed 71 barcodes from the supplied dataframe based on relative threshold of 0.005 
[ FAIL 0 | WARN 4 | SKIP 0 | PASS 31 ]
> 
> proc.time()
   user  system elapsed 
  10.31    0.26   10.56 

Example timings

barcodetrackR.Rcheck/examples_i386/barcodetrackR-Ex.timings

nameusersystemelapsed
barcode_binary_heatmap0.180.000.17
barcode_ggheatmap0.250.020.27
barcode_ggheatmap_stat0.760.030.80
barcode_stat_test3.630.003.62
bias_histogram0.610.000.61
bias_lineplot0.210.000.22
bias_ridge_plot0.250.000.25
chord_diagram0.180.030.20
clonal_contribution0.120.020.14
clonal_count0.190.000.19
clonal_diversity0.140.000.14
cor_plot0.440.000.44
create_SE1.170.001.17
dist_plot0.090.000.10
estimate_barcode_threshold000
get_top_clones0.000.010.01
launchApp000
mds_plot0.130.000.13
rank_abundance_plot0.120.000.12
rank_abundance_stat_test0.280.030.31
scatter_plot0.080.000.08
stat_hist0.110.000.11
subset_SE0.020.000.02
threshold0.010.020.03
threshold_SE0.030.000.03

barcodetrackR.Rcheck/examples_x64/barcodetrackR-Ex.timings

nameusersystemelapsed
barcode_binary_heatmap0.560.000.56
barcode_ggheatmap0.200.000.21
barcode_ggheatmap_stat0.850.020.86
barcode_stat_test3.790.003.79
bias_histogram0.630.010.64
bias_lineplot0.220.000.22
bias_ridge_plot0.260.000.27
chord_diagram0.190.000.19
clonal_contribution0.160.000.15
clonal_count0.20.00.2
clonal_diversity0.200.000.21
cor_plot0.460.000.45
create_SE0.920.000.92
dist_plot0.090.000.09
estimate_barcode_threshold000
get_top_clones0.020.000.02
launchApp000
mds_plot0.110.000.11
rank_abundance_plot0.540.000.54
rank_abundance_stat_test0.320.000.32
scatter_plot0.060.000.06
stat_hist0.110.000.11
subset_SE000
threshold0.020.010.03
threshold_SE0.030.020.05