Back to Multiple platform build/check report for BioC 3.14
A[B]CDEFGHIJKLMNOPQRSTUVWXYZ

This page was generated on 2021-10-19 12:04:47 -0400 (Tue, 19 Oct 2021).

BUILD BIN results for barcodetrackR on riesling1

To the developers/maintainers of the barcodetrackR package:
- Please allow up to 24 hours (and sometimes 48 hours) for your latest push to git@git.bioconductor.org:packages/barcodetrackR.git to
reflect on this report. See How and When does the builder pull? When will my changes propagate? here for more information.
- Make sure to use the following settings in order to reproduce any error or warning you see on this page.

raw results

Package 114/2060HostnameOS / ArchINSTALLBUILDCHECKBUILD BIN
barcodetrackR 1.1.0  (landing page)
Diego Alexander Espinoza
Snapshot Date: 2021-10-18 14:50:10 -0400 (Mon, 18 Oct 2021)
git_url: https://git.bioconductor.org/packages/barcodetrackR
git_branch: master
git_last_commit: 7d0712b
git_last_commit_date: 2021-05-19 13:01:26 -0400 (Wed, 19 May 2021)
nebbiolo2Linux (Ubuntu 20.04.2 LTS) / x86_64  OK    OK    OK  UNNEEDED, same version is already published
riesling1Windows Server 2019 Standard / x64  OK    OK    OK    OK  UNNEEDED, same version is already published
merida1macOS 10.14.6 Mojave / x86_64  OK    OK    OK    OK  UNNEEDED, same version is already published

Summary

Package: barcodetrackR
Version: 1.1.0
Command: rm -rf barcodetrackR.buildbin-libdir && mkdir barcodetrackR.buildbin-libdir && D:\biocbuild\bbs-3.14-bioc\R\bin\R.exe CMD INSTALL --merge-multiarch --build --library=barcodetrackR.buildbin-libdir barcodetrackR_1.1.0.tar.gz
StartedAt: 2021-10-19 04:55:40 -0400 (Tue, 19 Oct 2021)
EndedAt: 2021-10-19 04:59:45 -0400 (Tue, 19 Oct 2021)
EllapsedTime: 245.2 seconds
RetCode: 0
Status:   OK  
PackageFile: barcodetrackR_1.1.0.zip
PackageFileSize: 2.103 MiB

Command output

##############################################################################
##############################################################################
###
### Running command:
###
###   rm -rf barcodetrackR.buildbin-libdir && mkdir barcodetrackR.buildbin-libdir && D:\biocbuild\bbs-3.14-bioc\R\bin\R.exe CMD INSTALL --merge-multiarch --build --library=barcodetrackR.buildbin-libdir barcodetrackR_1.1.0.tar.gz
###
##############################################################################
##############################################################################



install for i386

* installing *source* package 'barcodetrackR' ...
** using staged installation
** R
** data
** inst
** byte-compile and prepare package for lazy loading
** help
*** installing help indices
  converting help for package 'barcodetrackR'
    finding HTML links ... done
    barcode_binary_heatmap                  html  
    barcode_ggheatmap                       html  
    barcode_ggheatmap_stat                  html  
    barcode_stat_test                       html  
    bias_histogram                          html  
    bias_lineplot                           html  
    bias_ridge_plot                         html  
    build_index_html                        html  
    chord_diagram                           html  
    clonal_contribution                     html  
    clonal_count                            html  
    clonal_diversity                        html  
    cor_plot                                html  
    create_SE                               html  
    dist_plot                               html  
    estimate_barcode_threshold              html  
    get_top_clones                          html  
    launchApp                               html  
    mds_plot                                html  
    rank_abundance_plot                     html  
    rank_abundance_stat_test                html  
    scatter_plot                            html  
    stat_hist                               html  
    subset_SE                               html  
    threshold                               html  
    threshold_SE                            html  
    wu_subset                               html  
** building package indices
** installing vignettes
** testing if installed package can be loaded from temporary location
** testing if installed package can be loaded from final location
** testing if installed package keeps a record of temporary installation path

install for x64

* installing *source* package 'barcodetrackR' ...
** testing if installed package can be loaded
* MD5 sums
packaged installation of 'barcodetrackR' as barcodetrackR_1.1.0.zip
* DONE (barcodetrackR)